Workbook
Name A: #REF!
Name い1111: #REF!

Sheet ★2026年度社会学部時間割
A1: 社会 | B1: コミュニティマネジメント | C1: 現代福祉 | D1: 総合社会学科 ◎必修 ●選択必修 〇選択 | H1: ～2024入学生 配当年次 | I1: 2025～入学生 配当年次 | J1: 開講期 | K1: 曜日 | L1: 講時 | M1: 時間割番号 | N1: 授業名 | O1: クラス名 | P1: ペア曜講時 | Q1: 単位 | R1: 教員名 | S1: 備考 | T1: 抽選・選抜対象 | U1: 履修辞退
D2: 現代社会領域 | E2: 文化・メディア領域 | F2: 健康・スポーツ社会領域 | G2: 現代福祉領域
D3: ◎ | E3: ◎ | F3: ◎ | G3: ◎ | I3: 1 | J3: 前期 | K3: 月 | L3: 1 | M3: U11C101 | N3: 共感とコミュニケーション | O3: 1組 | Q3: 2 | R3: 山田 容 | S3: 必修科目・クラス指定科目 | U3: =+IF(sortby!AH3="1","○","")
D4: ◎ | E4: ◎ | F4: ◎ | G4: ◎ | I4: 1 | J4: 前期 | K4: 月 | L4: 1 | M4: U11C102 | N4: 共感とコミュニケーション | O4: 2組 | Q4: 2 | R4: 中村 美智代 | S4: 必修科目・クラス指定科目 | U4: =+IF(sortby!AH4="1","○","")
D5: ◎ | E5: ◎ | F5: ◎ | G5: ◎ | I5: 1 | J5: 前期 | K5: 月 | L5: 1 | M5: U11C103 | N5: 共感とコミュニケーション | O5: 3組 | Q5: 2 | R5: 村田 智美 | S5: 必修科目・クラス指定科目 | U5: =+IF(sortby!AH5="1","○","")
A6: ○ | B6: ○ | C6: ○ | H6: 2 | J6: 前期 | K6: 月 | L6: 1 | M6: U11C104 | N6: 支援コミュニケーション論 | O6: 1組 | Q6: 2 | R6: 山田 容 | S6: （～２０２４年度入学生まで）学部共通講義（シラバスで卒業要件を確認すること） | U6: ○
A7: ○ | B7: ○ | C7: ○ | H7: 2 | J7: 前期 | K7: 月 | L7: 1 | M7: U11C105 | N7: 支援コミュニケーション論 | O7: 2組 | Q7: 2 | R7: 中村 美智代 | S7: （～２０２４年度入学生まで）学部共通講義（シラバスで卒業要件を確認すること） | U7: ○
A8: ○ | B8: ○ | C8: ○ | H8: 2 | J8: 前期 | K8: 月 | L8: 1 | M8: U11C106 | N8: 支援コミュニケーション論 | O8: 3組 | Q8: 2 | R8: 村田 智美 | S8: （～２０２４年度入学生まで）学部共通講義（シラバスで卒業要件を確認すること） | U8: ○
A9: ○ | H9: 3 | J9: 通年 | K9: 月 | L9: 2 | M9: U12C101 | N9: 社会調査実習 | Q9: 4 | R9: 閻 美芳 | S9: 【抽選登録科目】 | T9: ○
A10: ○ | D10: ◎ | E10: ◎ | F10: ◎ | G10: ◎ | H10: 1 | I10: 1 | J10: 前期 | K10: 月 | L10: 2 | M10: U12C102 | N10: 社会調査入門 | Q10: 2 | R10: 猪瀬 優理 数実 浩佑 松岡 亮二 | S10: 必修科目
A11: ○ | D11: ○ | E11: ○ | F11: ○ | G11: ○ | H11: 2 | I11: 2 | J11: 前期 | K11: 月 | L11: 2 | M11: U12C103 | N11: 社会統計学Ⅱ | Q11: 2 | R11: 津島 昌弘 | U11: ○
C12: ○ | D12: ● | E12: ○ | F12: ● | G12: ● | H12: 2 | I12: 2 | J12: 前期 | K12: 月 | L12: 2 | M12: U12C104 | N12: 刑事司法と福祉 | Q12: 2 | R12: 掛川 直之 | U12: ○
B13: ○ | H13: 3 | J13: 前期 | K13: 月 | L13: 2 | M13: U12C105 | N13: 参画ゼミナールⅠ | O13: CM07 | Q13: 2 | R13: 李 相哲 | S13: クラス指定科目
A14: ○ | J14: 後期 | K14: 月 | L14: 2 | M14: U12C501 | N14: 比較社会論 | O14: 旧旧カリ | Q14: 2 | R14: 舟橋 健太 | U14: ○
A15: ○ | B15: ○ | C15: ○ | H15: 2 | J15: 後期 | K15: 月 | L15: 2 | M15: U12C502 | N15: 比較社会論 | Q15: 2 | R15: 舟橋 健太 | S15: （～２０２４年度入学生まで）学部共通講義（シラバスで卒業要件を確認すること） | U15: ○
D16: ◎ | E16: ◎ | F16: ◎ | G16: ◎ | H16: 1 | I16: 1 | J16: 後期 | K16: 月 | L16: 2 | M16: U12C503 | N16: 社会統計学Ⅰ | Q16: 2 | R16: 津島 昌弘 | S16: 必修科目・クラス指定科目
A17: ○ | H17: 1 | J17: 後期 | K17: 月 | L17: 2 | M17: U12C504 | N17: 社会統計学Ⅰ | Q17: 2 | R17: 津島 昌弘 | S17: ～２０２４年度入学生用科目 | U17: ○
A18: ○ | J18: 後期 | K18: 月 | L18: 2 | M18: U12C506 | N18: 環境思想 | O18: 教職 | Q18: 2 | R18: 浅沼 光樹 | S18: 指定学生のみ（他学科受講用） 教職 | U18: ○
A19: ○ | H19: 3 | J19: 後期 | K19: 月 | L19: 2 | M19: U12C505 | N19: 環境思想 | Q19: 2 | R19: 浅沼 光樹 | U19: ○
B20: ○ | H20: 3 | J20: 後期 | K20: 月 | L20: 2 | M20: U12C507 | N20: 参画ゼミナールⅡ | O20: CM07 | Q20: 2 | R20: 李 相哲 | S20: クラス指定科目
B21: ○ | J21: 通年 | K21: 月 | L21: 3 | M21: U13C101 | N21: コミュニティマネジメント特論 | O21: 旧旧カリ | Q21: 4 | R21: 華 京碩 | U21: ○
B22: ○ | H22: 1 | J22: 前期 | K22: 月 | L22: 3 | M22: U13C111 | N22: コミュニティマネジメント特論１Ａ | Q22: 2 | R22: 華 京碩 | U22: ○
B23: ○ | H23: 2 | J23: 前期 | K23: 月 | L23: 3 | M23: U13C104 | N23: 質的調査法 | Q23: 2 | R23: 塩見 翔 | U23: ○
D24: ○ | E24: ● | F24: ○ | G24: ○ | I24: 2 | J24: 前期 | K24: 月 | L24: 3 | M24: U13C105 | N24: 防災とメディア | Q24: 2 | R24: 松浦 哲郎 | U24: ○
A25: ○ | B25: ○ | C25: ○ | H25: 2 | J25: 前期 | K25: 月 | L25: 3 | M25: U13C110 | N25: 地域社会とメディア | Q25: 2 | R25: 松浦 哲郎 | S25: （～２０２４年度入学生まで）学部共通講義（シラバスで卒業要件を確認すること） | U25: ○
C26: ○ | H26: 3 | J26: 前期 | K26: 月 | L26: 3 | M26: U13C106 | N26: 精神保健福祉援助技術論 | Q26: 4 | R26: 金子 秀明 | U26: ○
C27: ○ | H27: 1 | I27: 2 | J27: 前期 | K27: 月 | L27: 3 | M27: U13C107 | N27: ソーシャルワークの基盤と専門職 | Q27: 2 | R27: 山田 容 | S27: （～２０２４年度入学生まで）必修科目
D28: ● | E28: ● | F28: ● | G28: ● | H28: 1 | I28: 2 | J28: 前期 | K28: 月 | L28: 3 | M28: U13C114 | N28: ソーシャルワークの基盤と専門職 | Q28: 2 | R28: 山田 容 | S28: ２０２５年度以降入学生対象 | U28: ○
C29: ○ | H29: 4 | J29: 前期 | K29: 月 | L29: 3 | M29: U13C108 | N29: ソーシャルワーク演習Ⅲ | P29: 月4 | Q29: 4 | R29: 桐髙 とよみ | S29: クラス指定科目・ポータルサイトのアンケート機能で事前に登録が必要
B30: ○ | H30: 4 | J30: 前期 | K30: 月 | L30: 3 | M30: U13C109 | N30: 参画ゼミナールⅢ | O30: CM07 | Q30: 2 | R30: 李 相哲 | S30: クラス指定科目
D31: ○ | E31: ● | F31: ○ | G31: ○ | I31: 2 | J31: 前期 | K31: 月 | L31: 3 | M31: U13C112 | N31: 文化と表象の社会学 | Q31: 2 | R31: 栗田 正和 | U31: ○
A32: ○ | H32: 2 | J32: 前期 | K32: 月 | L32: 3 | M32: U13C113 | N32: 文化社会学 | Q32: 2 | R32: 栗田 正和 | U32: ○
A33: ○ | H33: 3 | J33: 後期 | K33: 月 | L33: 3 | M33: U13C501 | N33: 考現学 | Q33: 2 | R33: 塩見 翔 | U33: ○
A34: ○ | D34: ● | E34: ● | F34: ● | G34: ● | H34: 2 | I34: 2 | J34: 後期 | K34: 月 | L34: 3 | M34: U13C502 | N34: 質的調査法 | Q34: 2 | R34: 閻 美芳 | S34: 「社会調査実習」受講に必要な科目 | U34: ○
A35: ○ | D35: ● | E35: ● | F35: ○ | G35: ○ | H35: 3 | I35: 2 | J35: 後期 | K35: 月 | L35: 3 | M35: U13C503 | N35: 観光社会学 | Q35: 2 | R35: 寺田 憲弘 | U35: ○
C36: ○ | H36: 2 | J36: 後期 | K36: 月 | L36: 3 | M36: U13C504 | N36: 地域福祉論 | P36: 月4 | Q36: 4 | R36: 筒井 乃り子 | U36: ○
D37: ● | E37: ● | F37: ● | G37: ● | I37: 2 | J37: 後期 | K37: 月 | L37: 3 | M37: U13C505 | N37: ＩＣＴリテラシー技法 | Q37: 2 | R37: 松浦 哲郎 | S37: 【抽選登録科目】 | T37: ○
B38: ○ | H38: 4 | J38: 後期 | K38: 月 | L38: 3 | M38: U13C506 | N38: 参画ゼミナールⅣ | O38: CM07 | Q38: 2 | R38: 李 相哲 | S38: クラス指定科目
B39: ○ | H39: 1 | J39: 後期 | K39: 月 | L39: 3 | M39: U13C507 | N39: コミュニティマネジメント特論１Ｂ | Q39: 2 | R39: 華 京碩 | T39: ○
A40: ○ | H40: 3 | J40: 前期 | K40: 月 | L40: 4 | M40: U14C101 | N40: 社会学演習ⅠＡ | Q40: 2 | R40: 津島 昌弘 | S40: クラス指定科目
...

Sheet sortby
K1: 10 | N1: 6 | O1: 9 | AN1: 7 | BK1: 3 | BL1: 1 | BM1: 2 | CK1: 8
A2: 社会 | B2: ＣＭ | C2: 福祉 | D2: 総合社会 | E2: 分野① | F2: 分野② | G2: ●主レコード フラグ | H2: 開講年度 | I2: 開講学部 コード | J2: 設置区分 | K2: 時間割番号 | L2: 科目コード | M2: クラスコード | N2: ●授業名 | O2: クラス名 | P2: ●科目開講期 コード | Q2: ●開講曜講時 | R2: ●単位 | S2: ●受講者数 | T2: 主開講 学部コード | U2: 主開講 設置区分 | V2: 主開講 科目コード | W2: 主開講 クラスコード | X2: 履修可能 学部１ | Y2: 履修可能 学部２ | Z2: 履修可能 学部３ | AA2: 履修可能 学部４ | AB2: 履修可能 学部５ | AC2: 履修可能 学部６ | AD2: 履修可能 学部７ | AE2: 履修可能 学部８ | AF2: 履修可能 学部９ | AG2: 履修可能 学部１０ | AH2: 履修辞退 可能フラグ | AI2: 配当年次 FROM | AJ2: 配当年次 TO | AK2: 配当セメスタ FROM | AL2: 配当セメスタ TO | AM2: 配当カリキュラム年度 FROM | AN2: 配当カリキュラム年度 TO | AO2: 履修登録 方法区分 | AP2: 単位互換 区分 | AQ2: 抽選パターン コード | AR2: 抽選状態 コード | AS2: 前期登録 定員 | AT2: 後期登録 定員 | AU2: 採点パターン | AV2: 第１学期 採点フラグ | AW2: 第２学期 採点フラグ | AX2: 履修制限算入 | AY2: 継続評価 | AZ2: ●開講区分 | BA2: 授業評価 アンケート | BB2: 備考（学生への表示項目） | BC2: メモ欄１ | BD2: メモ欄２ | BE2: メモ欄３ | BF2: メモ欄４ | BG2: 施設コード | BH2: 教職員コード | BI2: ●教員名 | BJ2: ●カナ氏名 | BK2: 担当科目 開講期コード | BL2: 担当 曜日コード | BM2: 担当 講時コード | BN2: 担当 順位 | BO2: 担当 授業回数 | BP2: ●担当 前期コマ数 | BQ2: ●担当 後期コマ数 | BR2: ●担当 通年コマ数 | BS2: ●支払４月 | BT2: ●支払５月 | BU2: ●支払６月 | BV2: ●支払７月 | BW2: ●支払８月 | BX2: ●支払９月 | BY2: ●支払１０月 | BZ2: ●支払１１月 | CA2: ●支払１２月 | CB2: ●支払１月 | CC2: ●支払２月 | CD2: ●支払３月 | CE2: ●シラバス 主担当フラグ | CF2: シラバス管理番号 | CG2: シラバス合併番号 | CH2: 講義概要参照先番号 | CI2: シラバス 状態 | CJ2: 演習 サイン | CK2: シラバス用 配当年次Ｆｒｏｍ | CL2: シラバス用 配当年次Ｔｏ | CM2: 属性番号１ | CN2: 属性内 ソートキー１ | CO2: 属性番号２ | CP2: 属性内 ソートキー２ | CQ2: 属性番号３ | CR2: 属性内 ソートキー３ | CS2: 属性番号４ | CT2: 属性内 ソートキー４ | CU2: 属性番号５ | CV2: 属性内 ソートキー５ | CW2: 属性番号６ | CX2: 属性内 ソートキー６ | CY2: 属性番号７ | CZ2: 属性内 ソートキー７ | DA2: 属性番号８ | DB2: 属性内 ソートキー８ | DC2: 属性番号９ | DD2: 属性内 ソートキー９ | DE2: 属性番号１０ | DF2: 属性内 ソートキー１０ | DG2: 履修可能 学科１ | DH2: 履修可能 学科２ | DI2: 履修可能 学科３ | DJ2: 履修可能 学科４ | DK2: 履修可能 学科５ | DL2: 履修可能 学科６ | DM2: 履修可能 学科７ | DN2: 履修可能 学科８ | DO2: 履修可能 学科９ | DP2: 履修可能 学科１０ | DQ2: 備考１ | DR2: 備考２ | DS2: 備考３ | DT2: 備考４ | DU2: 備考５ | DV2: 備考６ | DW2: 備考７ | DX2: 備考８ | DY2: 備考９ | DZ2: 備考１０ | EA2: 加工 | EB2: 加工2 | EC2: 加工3
A3: {=+_xlfn.SORTBY(時間割データ!A3:EC1478,時間割データ!BL3:BL1478,1,時間割データ!BM3:BM1478,1,時間割データ!BK3:BK1478,1,時間割データ!E3:E1478,-1,時間割データ!CK3:CK1478,1,時間割データ!L3:L1478,1,時間割データ!AN3:AN1478,1,時間割データ!K3:K1478,1,時間割データ!L3:L1478,1,時間割データ!N3:N1478,1)} -> 0 | B3: 0 | C3: 0 | D3: ○ | E3: 0 | F3: 0 | G3: 1 | H3: 2025 | I3: C | J3: U | K3: U11C206 | L3: CU25007001 | M3: 001 | N3: 共感とコミュニケーション | O3: 1組 | P3: 02 | Q3: 前期 月１ | R3: 2 | S3: 0 | T3: C | U3: U | V3: CU25007001 | W3: 001 | X3: C | AH3: 0 | AM3: 2025 | AN3: 9999 | AO3: 4 | AP3: 0 | AR3: 0 | AS3: 0 | AT3: 0 | AU3: 1 | AV3: 0 | AW3: 0 | AX3: 1 | AY3: 0 | AZ3: 1 | BA3: 1 | BB3: 必修科目・クラス指定科目 | BG3: 10000000 | BH3: 96131 | BI3: 山田 容 | BJ3: ヤマダ ヨウ | BK3: 02 | BL3: 1 | BM3: 1 | BN3: 1 | BO3: 15 | BP3: 0.00 | BQ3: 0.00 | BR3: 0.00 | BS3: 0 | BT3: 0 | BU3: 0 | BV3: 0 | BW3: 0 | BX3: 0 | BY3: 0 | BZ3: 0 | CA3: 0 | CB3: 0 | CC3: 0 | CD3: 0 | CE3: 1 | CF3: C500700101 | CG3: C300007200 | CI3: 0 | CJ3: 0 | CK3: 1 | CL3: 4 | CM3: C8000 | EA3: 0 | EB3: 0 | EC3: 0
A4: 0 | B4: 0 | C4: 0 | D4: ○ | E4: 0 | F4: 0 | G4: 1 | H4: 2025 | I4: C | J4: U | K4: U11C207 | L4: CU25007001 | M4: 002 | N4: 共感とコミュニケーション | O4: 2組 | P4: 02 | Q4: 前期 月１ | R4: 2 | S4: 0 | T4: C | U4: U | V4: CU25007001 | W4: 002 | X4: C | AH4: 0 | AM4: 2025 | AN4: 9999 | AO4: 4 | AP4: 0 | AR4: 0 | AS4: 0 | AT4: 0 | AU4: 1 | AV4: 0 | AW4: 0 | AX4: 1 | AY4: 0 | AZ4: 1 | BA4: 1 | BB4: 必修科目・クラス指定科目 | BG4: 10000000 | BH4: 19008 | BI4: 中村 美智代 | BJ4: ナカムラ ミチヨ | BK4: 02 | BL4: 1 | BM4: 1 | BN4: 1 | BO4: 15 | BP4: 0.00 | BQ4: 0.00 | BR4: 0.00 | BS4: 0 | BT4: 0 | BU4: 0 | BV4: 0 | BW4: 0 | BX4: 0 | BY4: 0 | BZ4: 0 | CA4: 0 | CB4: 0 | CC4: 0 | CD4: 0 | CE4: 1 | CF4: C500700102 | CG4: C300007200 | CI4: 0 | CJ4: 0 | CK4: 1 | CL4: 4 | CM4: C8000 | EA4: 0 | EB4: 0 | EC4: 0
A5: 0 | B5: 0 | C5: 0 | D5: ○ | E5: 0 | F5: 0 | G5: 1 | H5: 2025 | I5: C | J5: U | K5: U11C208 | L5: CU25007001 | M5: 003 | N5: 共感とコミュニケーション | O5: 3組 | P5: 02 | Q5: 前期 月１ | R5: 2 | S5: 0 | T5: C | U5: U | V5: CU25007001 | W5: 003 | X5: C | AH5: 0 | AM5: 2025 | AN5: 9999 | AO5: 4 | AP5: 0 | AR5: 0 | AS5: 0 | AT5: 0 | AU5: 1 | AV5: 0 | AW5: 0 | AX5: 1 | AY5: 0 | AZ5: 1 | BA5: 1 | BB5: 必修科目・クラス指定科目 | BG5: 10000000 | BH5: 09034 | BI5: 村田 智美 | BJ5: ムラタ トモミ | BK5: 02 | BL5: 1 | BM5: 1 | BN5: 1 | BO5: 15 | BP5: 0.00 | BQ5: 0.00 | BR5: 0.00 | BS5: 0 | BT5: 0 | BU5: 0 | BV5: 0 | BW5: 0 | BX5: 0 | BY5: 0 | BZ5: 0 | CA5: 0 | CB5: 0 | CC5: 0 | CD5: 0 | CE5: 1 | CF5: C500700103 | CG5: C300007200 | CI5: 0 | CJ5: 0 | CK5: 1 | CL5: 4 | CM5: C8000 | EA5: 0 | EB5: 0 | EC5: 0
A6: ○ | B6: ○ | C6: ○ | D6: 0 | E6: 0 | F6: 0 | G6: 1 | H6: 2025 | I6: C | J6: U | K6: U11C203 | L6: CU81600150 | M6: 001 | N6: 支援コミュニケーション論 | O6: 1組 | P6: 02 | Q6: 前期 月１ | R6: 2 | S6: 0 | T6: C | U6: U | V6: CU81600150 | W6: 001 | X6: C | AH6: 1 | AM6: 2016 | AN6: 9999 | AO6: 2 | AP6: 0 | AQ6: C900 | AR6: 0 | AS6: 9999 | AT6: 9999 | AU6: 0 | AV6: 1 | AW6: 0 | AX6: 1 | AY6: 0 | AZ6: 1 | BA6: 1 | BB6: 学部共通講義（シラバスで卒業要件を確認すること） | BC6: 現代福祉・６ｅ | BG6: 10000000 | BH6: 96131 | BI6: 山田 容 | BJ6: ヤマダ ヨウ | BK6: 02 | BL6: 1 | BM6: 1 | BN6: 1 | BO6: 15 | BP6: 0.00 | BQ6: 0.00 | BR6: 0.00 | BS6: 0 | BT6: 0 | BU6: 0 | BV6: 0 | BW6: 0 | BX6: 0 | BY6: 0 | BZ6: 0 | CA6: 0 | CB6: 0 | CC6: 0 | CD6: 0 | CE6: 1 | CF6: C300007200 | CG6: C300007200 | CI6: 0 | CJ6: 0 | CK6: 2 | CL6: 4 | CM6: C2100 | CO6: C2200 | CQ6: C2300 | DR6: 学部共通講義（現代福祉学科提供） | DS6: 卒業要件単位に含まれるのは上限１６単位まで（社会学科・コミュニティマネジメント学科） | EA6: 0 | EB6: 0 | EC6: 0
A7: ○ | B7: ○ | C7: ○ | D7: 0 | E7: 0 | F7: 0 | G7: 1 | H7: 2025 | I7: C | J7: U | K7: U11C204 | L7: CU81600150 | M7: 002 | N7: 支援コミュニケーション論 | O7: 2組 | P7: 02 | Q7: 前期 月１ | R7: 2 | S7: 0 | T7: C | U7: U | V7: CU81600150 | W7: 002 | X7: C | AH7: 1 | AM7: 2016 | AN7: 9999 | AO7: 2 | AP7: 0 | AQ7: C900 | AR7: 0 | AS7: 9999 | AT7: 9999 | AU7: 0 | AV7: 1 | AW7: 0 | AX7: 1 | AY7: 0 | AZ7: 1 | BA7: 1 | BB7: 学部共通講義（シラバスで卒業要件を確認すること） | BC7: 現代福祉・６ｅ | BG7: 10000000 | BH7: 19008 | BI7: 中村 美智代 | BJ7: ナカムラ ミチヨ | BK7: 02 | BL7: 1 | BM7: 1 | BN7: 1 | BO7: 15 | BP7: 0.00 | BQ7: 0.00 | BR7: 0.00 | BS7: 0 | BT7: 0 | BU7: 0 | BV7: 0 | BW7: 0 | BX7: 0 | BY7: 0 | BZ7: 0 | CA7: 0 | CB7: 0 | CC7: 0 | CD7: 0 | CE7: 1 | CF7: C300007201 | CG7: C300007200 | CI7: 0 | CJ7: 0 | CK7: 2 | CL7: 4 | CM7: C2100 | CO7: C2200 | CQ7: C2300 | DR7: 学部共通講義（現代福祉学科提供） | DS7: 卒業要件単位に含まれるのは上限１６単位まで（社会学科・コミュニティマネジメント学科） | EA7: 0 | EB7: 0 | EC7: 0
A8: ○ | B8: ○ | C8: ○ | D8: 0 | E8: 0 | F8: 0 | G8: 1 | H8: 2025 | I8: C | J8: U | K8: U11C205 | L8: CU81600150 | M8: 003 | N8: 支援コミュニケーション論 | O8: 3組 | P8: 02 | Q8: 前期 月１ | R8: 2 | S8: 0 | T8: C | U8: U | V8: CU81600150 | W8: 003 | X8: C | AH8: 1 | AM8: 2016 | AN8: 9999 | AO8: 2 | AP8: 0 | AQ8: C900 | AR8: 0 | AS8: 9999 | AT8: 9999 | AU8: 0 | AV8: 1 | AW8: 0 | AX8: 1 | AY8: 0 | AZ8: 1 | BA8: 1 | BB8: 学部共通講義（シラバスで卒業要件を確認すること） | BC8: 現代福祉・６ｅ | BG8: 10000000 | BH8: 09034 | BI8: 村田 智美 | BJ8: ムラタ トモミ | BK8: 02 | BL8: 1 | BM8: 1 | BN8: 1 | BO8: 15 | BP8: 0.00 | BQ8: 0.00 | BR8: 0.00 | BS8: 0 | BT8: 0 | BU8: 0 | BV8: 0 | BW8: 0 | BX8: 0 | BY8: 0 | BZ8: 0 | CA8: 0 | CB8: 0 | CC8: 0 | CD8: 0 | CE8: 1 | CF8: C300007202 | CG8: C300007200 | CI8: 0 | CJ8: 0 | CK8: 2 | CL8: 4 | CM8: C2100 | CO8: C2200 | CQ8: C2300 | DR8: 学部共通講義（現代福祉学科提供） | DS8: 卒業要件単位に含まれるのは上限１６単位まで（社会学科・コミュニティマネジメント学科） | EA8: 0 | EB8: 0 | EC8: 0
C9: ○ | D9: 0 | E9: 0 | F9: 0 | G9: 1 | H9: 2025 | I9: C | J9: U | K9: U11C202 | L9: CU45200000 | M9: 002 | N9: ソーシャルワーク演習Ⅲ | P9: 02 | Q9: 前期 月１、月２ | R9: 4 | S9: 0 | T9: C | U9: U | V9: CU45200000 | W9: 002 | X9: C | AH9: 0 | AM9: 0000 | AN9: 9999 | AO9: 4 | AP9: 0 | AR9: 0 | AS9: 0 | AT9: 0 | AU9: 0 | AV9: 1 | AW9: 0 | AX9: 1 | AY9: 0 | AZ9: 1 | BA9: 0 | BB9: クラス指定科目・ポータルサイトのアンケート機能で事前に登録が必要 | BC9: 現代福祉・５ | BG9: 10000000 | BH9: 22275 | BI9: 塩田 祥子 | BJ9: シオタ ショウコ | BK9: 02 | BL9: 1 | BM9: 1 | BN9: 1 | BO9: 15 | BP9: 0.00 | BQ9: 0.00 | BR9: 0.00 | BS9: 0 | BT9: 0 | BU9: 0 | BV9: 0 | BW9: 0 | BX9: 0 | BY9: 0 | BZ9: 0 | CA9: 0 | CB9: 0 | CC9: 0 | CD9: 0 | CE9: 1 | CF9: C3SW300200 | CG9: C3SW300100 | CI9: 0 | CJ9: 0 | CK9: 4 | CL9: 4 | CM9: C2300 | DV9: 社会福祉士指定科目 | EA9: 0 | EB9: 0 | EC9: 0
A10: ○ | D10: 0 | E10: 0 | F10: 0 | G10: 1 | H10: 2025 | I10: C | J10: U | K10: U11C301 | L10: CU11105000 | M10: 007 | N10: 社会学基礎ゼミナール | P10: 03 | Q10: 後期 月１ | R10: 2 | S10: 0 | T10: C | U10: U | V10: CU11105000 | W10: 007 | X10: C | AH10: 0 | AM10: 0000 | AN10: 9999 | AO10: 4 | AP10: 0 | AR10: 0 | AS10: 0 | AT10: 0 | AU10: 0 | AV10: 0 | AW10: 1 | AX10: 1 | AY10: 0 | AZ10: 1 | BA10: 1 | BB10: クラス指定科目 | BC10: 社会・１ | BG10: 10000000 | BH10: 16005 | BI10: 清家 竜介 | BJ10: セイケ リュウスケ | BK10: 03 | BL10: 1 | BM10: 1 | BN10: 1 | BO10: 15 | BP10: 0.00 | BQ10: 0.00 | BR10: 0.00 | BS10: 0 | BT10: 0 | BU10: 0 | BV10: 0 | BW10: 0 | BX10: 0 | BY10: 0 | BZ10: 0 | CA10: 0 | CB10: 0 | CC10: 0 | CD10: 0 | CE10: 1 | CF10: C1SEM00270 | CG10: C1SEM00290 | CI10: 0 | CJ10: 0 | CK10: 2 | CL10: 4 | CM10: C2100 | EA10: 0 | EB10: 0 | EC10: 0
A11: ○ | D11: ○ | E11: 0 | F11: 0 | G11: 1 | H11: 2025 | I11: C | J11: U | K11: U12C201 | L11: CU11135000 | M11: 001 | N11: 社会調査入門 | P11: 02 | Q11: 前期 月２ | R11: 2 | S11: 0 | T11: C | U11: U | V11: CU11135000 | W11: 001 | X11: C | AH11: 0 | AM11: 0000 | AN11: 9999 | AO11: 4 | AP11: 0 | AR11: 0 | AS11: 0 | AT11: 0 | AU11: 0 | AV11: 1 | AW11: 0 | AX11: 1 | AY11: 0 | AZ11: 1 | BA11: 1 | BB11: 0 | BC11: 社会・６ａ | BG11: 10000000 | BH11: 11014 | BI11: 猪瀬 優理 | BJ11: イノセ ユリ | BK11: 02 | BL11: 1 | BM11: 2 | BN11: 1 | BO11: 5 | BP11: 0.00 | BQ11: 0.00 | BR11: 0.00 | BS11: 0 | BT11: 0 | BU11: 0 | BV11: 0 | BW11: 0 | BX11: 0 | BY11: 0 | BZ11: 0 | CA11: 0 | CB11: 0 | CC11: 0 | CD11: 0 | CE11: 1 | CF11: C100000100 | CG11: C100000100 | CI11: 0 | CJ11: 0 | CK11: 1 | CL11: 4 | CM11: C2100 | CO11: C8000 | EA11: 0 | EB11: 0 | EC11: 0
A12: ○ | D12: ○ | E12: 0 | F12: 0 | G12: 1 | H12: 2025 | I12: C | J12: U | K12: U12C201 | L12: CU11135000 | M12: 001 | N12: 社会調査入門 | P12: 02 | Q12: 前期 月２ | R12: 2 | S12: 0 | T12: C | U12: U | V12: CU11135000 | W12: 001 | X12: C | AH12: 0 | AM12: 0000 | AN12: 9999 | AO12: 4 | AP12: 0 | AR12: 0 | AS12: 0 | AT12: 0 | AU12: 0 | AV12: 1 | AW12: 0 | AX12: 1 | AY12: 0 | AZ12: 1 | BA12: 1 | BB12: 0 | BC12: 社会・６ａ | BG12: 10000000 | BH12: 22004 | BI12: 松岡 亮二 | BJ12: マツオカ リョウジ | BK12: 02 | BL12: 1 | BM12: 2 | BN12: 2 | BO12: 5 | BP12: 0.00 | BQ12: 0.00 | BR12: 0.00 | BS12: 0 | BT12: 0 | BU12: 0 | BV12: 0 | BW12: 0 | BX12: 0 | BY12: 0 | BZ12: 0 | CA12: 0 | CB12: 0 | CC12: 0 | CD12: 0 | CE12: 1 | CF12: C100000101 | CG12: C100000100 | CI12: 0 | CJ12: 0 | CK12: 1 | CL12: 4 | CM12: C2100 | CO12: C8000 | EA12: 0 | EB12: 0 | EC12: 0
A13: ○ | D13: ○ | E13: 0 | F13: 0 | G13: 1 | H13: 2025 | I13: C | J13: U | K13: U12C201 | L13: CU11135000 | M13: 001 | N13: 社会調査入門 | P13: 02 | Q13: 前期 月２ | R13: 2 | S13: 0 | T13: C | U13: U | V13: CU11135000 | W13: 001 | X13: C | AH13: 0 | AM13: 0000 | AN13: 9999 | AO13: 4 | AP13: 0 | AR13: 0 | AS13: 0 | AT13: 0 | AU13: 0 | AV13: 1 | AW13: 0 | AX13: 1 | AY13: 0 | AZ13: 1 | BA13: 1 | BB13: 0 | BC13: 社会・６ａ | BG13: 10000000 | BH13: 25008 | BI13: 数実 浩佑 | BJ13: カズミ コウスケ | BK13: 02 | BL13: 1 | BM13: 2 | BN13: 3 | BO13: 5 | BP13: 0.00 | BQ13: 0.00 | BR13: 0.00 | BS13: 0 | BT13: 0 | BU13: 0 | BV13: 0 | BW13: 0 | BX13: 0 | BY13: 0 | BZ13: 0 | CA13: 0 | CB13: 0 | CC13: 0 | CD13: 0 | CE13: 1 | CF13: C100000102 | CG13: C100000100 | CI13: 0 | CJ13: 0 | CK13: 1 | CL13: 4 | CM13: C2100 | CO13: C8000 | EA13: 0 | EB13: 0 | EC13: 0
A14: ○ | D14: 0 | E14: 0 | F14: 0 | G14: 1 | H14: 2025 | I14: C | J14: U | K14: U12C206 | L14: CU12645000 | M14: 001 | N14: 社会統計学Ⅱ | P14: 02 | Q14: 前期 月２ | R14: 2 | S14: 0 | T14: C | U14: U | V14: CU12645000 | W14: 001 | X14: C | AH14: 1 | AM14: 0000 | AN14: 9999 | AO14: 2 | AP14: 0 | AQ14: C900 | AR14: 0 | AS14: 9999 | AT14: 9999 | AU14: 0 | AV14: 1 | AW14: 0 | AX14: 1 | AY14: 0 | AZ14: 1 | BA14: 1 | BC14: 社会・６ｂ | BG14: 10000000 | BH14: 00014 | BI14: 津島 昌弘 | BJ14: ツシマ マサヒロ | BK14: 02 | BL14: 1 | BM14: 2 | BN14: 1 | BO14: 15 | BP14: 0.00 | BQ14: 0.00 | BR14: 0.00 | BS14: 0 | BT14: 0 | BU14: 0 | BV14: 0 | BW14: 0 | BX14: 0 | BY14: 0 | BZ14: 0 | CA14: 0 | CB14: 0 | CC14: 0 | CD14: 0 | CE14: 1 | CF14: C100005700 | CG14: C100005700 | CI14: 0 | CJ14: 0 | CK14: 2 | CL14: 4 | CM14: C2100 | DR14: 社会調査士課程科目 | EA14: 0 | EB14: 0 | EC14: 0
C15: ○ | D15: 0 | E15: 0 | F15: 0 | G15: 1 | H15: 2025 | I15: C | J15: U | K15: U12C207 | L15: CU45111000 | M15: 001 | N15: 刑事司法と福祉 | P15: 02 | Q15: 前期 月２ | R15: 2 | S15: 0 | T15: C | U15: U | V15: CU45111000 | W15: 001 | X15: C | AH15: 1 | AI15: 2 | AJ15: 4 | AM15: 2021 | AN15: 9999 | AO15: 2 | AP15: 0 | AQ15: C900 | AR15: 2 | AS15: 9999 | AT15: 9999 | AU15: 0 | AV15: 1 | AW15: 0 | AX15: 1 | AY15: 0 | AZ15: 1 | BA15: 1 | BC15: 現代福祉・６ｂ | BG15: 10000000 | BH15: 19333 | BI15: 掛川 直之 | BJ15: カケガワ ナオユキ | BK15: 02 | BL15: 1 | BM15: 2 | BN15: 1 | BO15: 15 | BP15: 0.00 | BQ15: 0.00 | BR15: 0.00 | BS15: 0 | BT15: 0 | BU15: 0 | BV15: 0 | BW15: 0 | BX15: 0 | BY15: 0 | BZ15: 0 | CA15: 0 | CB15: 0 | CC15: 0 | CD15: 0 | CE15: 1 | CF15: C300991600 | CG15: C300991600 | CI15: 0 | CJ15: 0 | CK15: 2 | CL15: 4 | CM15: C2300 | DU15: ２０２１年度以降入学生用 | DV15: 社会福祉士指定科目 | DW15: 精神保健福祉士指定科目 | EA15: 0 | EB15: 0 | EC15: 0
B16: ○ | D16: 0 | E16: 0 | F16: 0 | G16: 1 | H16: 2025 | I16: C | J16: U | K16: U12C209 | L16: CU60050000 | M16: 007 | N16: 参画ゼミナールⅠ | O16: CM09 | P16: 02 | Q16: 前期 月２ | R16: 2 | S16: 0 | T16: C | U16: U | V16: CU60050000 | W16: 007 | X16: C | AH16: 0 | AM16: 0000 | AN16: 9999 | AO16: 4 | AP16: 0 | AR16: 0 | AS16: 0 | AT16: 0 | AU16: 0 | AV16: 1 | AW16: 0 | AX16: 1 | AY16: 0 | AZ16: 1 | BA16: 1 | BB16: クラス指定科目 | BC16: ＣＭ・１ | BG16: 10000000 | BH16: 98015 | BI16: 李 相哲 | BJ16: リ ソウテツ | BK16: 02 | BL16: 1 | BM16: 2 | BN16: 1 | BO16: 15 | BP16: 0.00 | BQ16: 0.00 | BR16: 0.00 | BS16: 0 | BT16: 0 | BU16: 0 | BV16: 0 | BW16: 0 | BX16: 0 | BY16: 0 | BZ16: 0 | CA16: 0 | CB16: 0 | CC16: 0 | CD16: 0 | CE16: 1 | CF16: C2SEM30090 | CG16: C2SEM30020 | CI16: 0 | CJ16: 0 | CK16: 3 | CL16: 4 | CM16: C2200 | EA16: 0 | EB16: 0 | EC16: 0
C17: ○ | D17: 0 | E17: 0 | F17: 0 | G17: 1 | H17: 2025 | I17: C | J17: U | K17: U11C202 | L17: CU45200000 | M17: 002 | N17: ソーシャルワーク演習Ⅲ | P17: 02 | Q17: 前期 月１、月２ | R17: 4 | S17: 0 | T17: C | U17: U | V17: CU45200000 | W17: 002 | X17: C | AH17: 0 | AM17: 0000 | AN17: 9999 | AO17: 4 | AP17: 0 | AR17: 0 | AS17: 0 | AT17: 0 | AU17: 0 | AV17: 1 | AW17: 0 | AX17: 1 | AY17: 0 | AZ17: 1 | BA17: 0 | BB17: クラス指定科目・ポータルサイトのアンケート機能で事前に登録が必要 | BC17: 現代福祉・５ | BG17: 10000000 | BH17: 22275 | BI17: 塩田 祥子 | BJ17: シオタ ショウコ | BK17: 02 | BL17: 1 | BM17: 2 | BN17: 1 | BO17: 15 | BP17: 0.00 | BQ17: 0.00 | BR17: 0.00 | BS17: 0 | BT17: 0 | BU17: 0 | BV17: 0 | BW17: 0 | BX17: 0 | BY17: 0 | BZ17: 0 | CA17: 0 | CB17: 0 | CC17: 0 | CD17: 0 | CE17: 1 | CF17: C3SW300200 | CG17: C3SW300100 | CI17: 0 | CJ17: 0 | CK17: 4 | CL17: 4 | CM17: C2300 | DV17: 社会福祉士指定科目 | EA17: 0 | EB17: 0 | EC17: 0
A18: ○ | D18: ○ | E18: 0 | F18: 0 | G18: 1 | H18: 2025 | I18: C | J18: U | K18: U12C304 | L18: CU12635000 | M18: 001 | N18: 社会統計学Ⅰ | P18: 03 | Q18: 後期 月２ | R18: 2 | S18: 0 | T18: C | U18: U | V18: CU12635000 | W18: 001 | X18: C | AH18: 1 | AM18: 0000 | AN18: 9999 | AO18: 2 | AP18: 0 | AQ18: C100 | AR18: 2 | AS18: 50 | AT18: 50 | AU18: 0 | AV18: 0 | AW18: 1 | AX18: 1 | AY18: 0 | AZ18: 1 | BA18: 1 | BC18: 社会・６ｂ | BG18: 10000000 | BH18: 01010 | BI18: 黒田 浩一郎 | BJ18: クロダ コウイチロウ | BK18: 03 | BL18: 1 | BM18: 2 | BN18: 1 | BO18: 15 | BP18: 0.00 | BQ18: 0.00 | BR18: 0.00 | BS18: 0 | BT18: 0 | BU18: 0 | BV18: 0 | BW18: 0 | BX18: 0 | BY18: 0 | BZ18: 0 | CA18: 0 | CB18: 0 | CC18: 0 | CD18: 0 | CE18: 1 | CF18: C100005610 | CG18: C100005620 | CI18: 0 | CJ18: 0 | CK18: 1 | CL18: 4 | CM18: C2100 | CO18: C8000 | DR18: 社会調査士課程科目 | EA18: 0 | EB18: 0 | EC18: 0
A19: ○ | D19: ○ | E19: 0 | F19: 0 | G19: 1 | H19: 2025 | I19: C | J19: U | K19: U12C305 | L19: CU12635000 | M19: 002 | N19: 社会統計学Ⅰ | P19: 03 | Q19: 後期 月２ | R19: 2 | S19: 0 | T19: C | U19: U | V19: CU12635000 | W19: 002 | X19: C | AH19: 1 | AM19: 0000 | AN19: 9999 | AO19: 2 | AP19: 0 | AQ19: C100 | AR19: 2 | AS19: 50 | AT19: 50 | AU19: 0 | AV19: 0 | AW19: 1 | AX19: 1 | AY19: 0 | AZ19: 1 | BA19: 1 | BC19: 社会・６ｂ | BG19: 10000000 | BH19: 00014 | BI19: 津島 昌弘 | BJ19: ツシマ マサヒロ | BK19: 03 | BL19: 1 | BM19: 2 | BN19: 1 | BO19: 15 | BP19: 0.00 | BQ19: 0.00 | BR19: 0.00 | BS19: 0 | BT19: 0 | BU19: 0 | BV19: 0 | BW19: 0 | BX19: 0 | BY19: 0 | BZ19: 0 | CA19: 0 | CB19: 0 | CC19: 0 | CD19: 0 | CE19: 1 | CF19: C100005620 | CG19: C100005620 | CI19: 0 | CJ19: 0 | CK19: 1 | CL19: 4 | CM19: C2100 | CO19: C8000 | DR19: 社会調査士課程科目 | EA19: 0 | EB19: 0 | EC19: 0
B20: ○ | D20: 0 | E20: 0 | F20: 0 | G20: 1 | H20: 2025 | I20: C | J20: U | K20: U12C310 | L20: CU60060000 | M20: 007 | N20: 参画ゼミナールⅡ | O20: CM09 | P20: 03 | Q20: 後期 月２ | R20: 2 | S20: 0 | T20: C | U20: U | V20: CU60060000 | W20: 007 | X20: C | AH20: 0 | AM20: 0000 | AN20: 9999 | AO20: 4 | AP20: 0 | AR20: 0 | AS20: 0 | AT20: 0 | AU20: 0 | AV20: 0 | AW20: 1 | AX20: 1 | AY20: 0 | AZ20: 1 | BA20: 1 | BB20: クラス指定科目 | BC20: ＣＭ・１ | BG20: 10000000 | BH20: 98015 | BI20: 李 相哲 | BJ20: リ ソウテツ | BK20: 03 | BL20: 1 | BM20: 2 | BN20: 1 | BO20: 15 | BP20: 0.00 | BQ20: 0.00 | BR20: 0.00 | BS20: 0 | BT20: 0 | BU20: 0 | BV20: 0 | BW20: 0 | BX20: 0 | BY20: 0 | BZ20: 0 | CA20: 0 | CB20: 0 | CC20: 0 | CD20: 0 | CE20: 1 | CF20: C2SEM30290 | CG20: C2SEM30220 | CI20: 0 | CJ20: 0 | CK20: 3 | CL20: 4 | CM20: C2200 | EA20: 0 | EB20: 0 | EC20: 0
B21: ○ | D21: 0 | E21: 0 | F21: 0 | G21: 1 | H21: 2025 | I21: C | J21: U | K21: U13C126 | L21: CU64991000 | M21: 001 | N21: コミュニティマネジメント特論 | P21: 01 | Q21: 通年 月３ | R21: 4 | S21: 0 | T21: C | U21: U | V21: CU64991000 | W21: 001 | X21: C | AH21: 1 | AM21: 0000 | AN21: 2019 | AO21: 2 | AP21: 0 | AQ21: C100 | AR21: 0 | AS21: 9999 | AT21: 9999 | AU21: 0 | AV21: 0 | AW21: 1 | AX21: 1 | AY21: 0 | AZ21: 1 | BA21: 1 | BC21: ＣＭ・６ｅ 合併① コマ数０ | BG21: 10000000 | BH21: 18269 | BI21: 華 京碩 | BJ21: カ キョウセキ | BK21: 01 | BL21: 1 | BM21: 3 | BN21: 1 | BO21: 30 | BP21: 0.00 | BQ21: 0.00 | BR21: 0.00 | BS21: 0 | BT21: 0 | BU21: 0 | BV21: 0 | BW21: 0 | BX21: 0 | BY21: 0 | BZ21: 0 | CA21: 0 | CB21: 0 | CC21: 0 | CD21: 0 | CE21: 1 | CF21: C200006900 | CG21: C200006900 | CI21: 0 | CJ21: 0 | CK21: 1 | CL21: 4 | CM21: C2200 | EA21: 0 | EB21: 0 | EC21: 0
A22: ○ | B22: ○ | C22: ○ | D22: 0 | E22: 0 | F22: 0 | G22: 1 | H22: 2025 | I22: C | J22: U | K22: U13C113 | L22: CU13130000 | M22: 001 | N22: 政治学概論 | P22: 01 | Q22: 通年 月３ | R22: 4 | S22: 0 | T22: C | U22: U | V22: CU13130000 | W22: 001 | X22: C | AH22: 1 | AM22: 0000 | AN22: 9999 | AO22: 2 | AP22: 0 | AQ22: C900 | AR22: 0 | AS22: 9999 | AT22: 9999 | AU22: 0 | AV22: 0 | AW22: 1 | AX22: 1 | AY22: 0 | AZ22: 1 | BA22: 1 | BC22: 社会・６ｅ 専攻（固有）関連科目 | BG22: 10000000 | BH22: 24203 | BI22: 井元 拓斗 | BJ22: イモト タクト | BK22: 01 | BL22: 1 | BM22: 3 | BN22: 1 | BO22: 30 | BP22: 0.00 | BQ22: 0.00 | BR22: 0.00 | BS22: 0 | BT22: 0 | BU22: 0 | BV22: 0 | BW22: 0 | BX22: 0 | BY22: 0 | BZ22: 0 | CA22: 0 | CB22: 0 | CC22: 0 | CD22: 0 | CE22: 1 | CF22: C000000200 | CG22: C000000200 | CI22: 0 | CJ22: 0 | CK22: 2 | CL22: 4 | CM22: C2100 | CO22: C2200 | CQ22: C2300 | EA22: 0 | EB22: 0 | EC22: 0
C23: ○ | D23: 0 | E23: 0 | F23: 0 | G23: 1 | H23: 2025 | I23: C | J23: U | K23: U13C216 | L23: CU45071000 | M23: 001 | N23: ソーシャルワークの基盤と専門職 | P23: 02 | Q23: 前期 月３ | R23: 2 | S23: 0 | T23: C | U23: U | V23: CU45071000 | W23: 001 | X23: C | AH23: 0 | AM23: 2021 | AN23: 9999 | AO23: 4 | AP23: 0 | AR23: 0 | AS23: 0 | AT23: 0 | AU23: 0 | AV23: 1 | AW23: 0 | AX23: 1 | AY23: 0 | AZ23: 1 | BA23: 1 | BB23: 必修科目 | BC23: 現代福祉・６ａ 合併③ | BG23: 10000000 | BH23: 96131 | BI23: 山田 容 | BJ23: ヤマダ ヨウ | BK23: 02 | BL23: 1 | BM23: 3 | BN23: 1 | BO23: 15 | BP23: 0.00 | BQ23: 0.00 | BR23: 0.00 | BS23: 0 | BT23: 0 | BU23: 0 | BV23: 0 | BW23: 0 | BX23: 0 | BY23: 0 | BZ23: 0 | CA23: 0 | CB23: 0 | CC23: 0 | CD23: 0 | CE23: 1 | CF23: C300004501 | CG23: C300004501 | CI23: 0 | CJ23: 0 | CK23: 1 | CL23: 4 | CM23: C2300 | DU23: ２０２１年度以降入学生用 | DV23: 社会福祉士指定科目 | DW23: 精神保健福祉士指定科目 | EA23: 0 | EB23: 0 | EC23: 0
B24: ○ | D24: 0 | E24: 0 | F24: 0 | G24: 1 | H24: 2025 | I24: C | J24: U | K24: U13C224 | L24: CU62091010 | M24: 001 | N24: コミュニティマネジメント特論１Ａ | P24: 02 | Q24: 前期 月３ | R24: 2 | S24: 0 | T24: C | U24: U | V24: CU62091010 | W24: 001 | X24: C | AH24: 1 | AM24: 2020 | AN24: 9999 | AO24: 4 | AP24: 0 | AR24: 0 | AS24: 9999 | AT24: 9999 | AU24: 0 | AV24: 1 | AW24: 0 | AX24: 1 | AY24: 0 | AZ24: 1 | BA24: 1 | BC24: ＣＭ・６ｅ 合併① | BG24: 10000000 | BH24: 18269 | BI24: 華 京碩 | BJ24: カ キョウセキ | BK24: 02 | BL24: 1 | BM24: 3 | BN24: 1 | BO24: 15 | BP24: 0.00 | BQ24: 0.00 | BR24: 0.00 | BS24: 0 | BT24: 0 | BU24: 0 | BV24: 0 | BW24: 0 | BX24: 0 | BY24: 0 | BZ24: 0 | CA24: 0 | CB24: 0 | CC24: 0 | CD24: 0 | CE24: 1 | CF24: C500000600 | CG24: C500000600 | CI24: 0 | CJ24: 0 | CK24: 1 | CL24: 4 | CM24: C2200 | DU24: ２０２０年度以降入学生用 | EA24: 0 | EB24: 0 | EC24: 0
A25: ○ | D25: 0 | E25: 0 | F25: 0 | G25: 1 | H25: 2025 | I25: C | J25: U | K25: U13C201 | L25: CU11600090 | M25: 001 | N25: 社会学の展開 | O25: 社会01組 | P25: 02 | Q25: 前期 月３ | R25: 2 | S25: 0 | T25: C | U25: U | V25: CU11600090 | W25: 001 | X25: C | AH25: 1 | AM25: 2016 | AN25: 9999 | AO25: 2 | AP25: 0 | AQ25: C900 | AR25: 0 | AS25: 9999 | AT25: 9999 | AU25: 0 | AV25: 1 | AW25: 0 | AX25: 1 | AY25: 0 | AZ25: 1 | BA25: 1 | BC25: 社会・６ｅ | BG25: 10000000 | BH25: 16005 | BI25: 清家 竜介 | BJ25: セイケ リュウスケ | BK25: 02 | BL25: 1 | BM25: 3 | BN25: 1 | BO25: 15 | BP25: 0.00 | BQ25: 0.00 | BR25: 0.00 | BS25: 0 | BT25: 0 | BU25: 0 | BV25: 0 | BW25: 0 | BX25: 0 | BY25: 0 | BZ25: 0 | CA25: 0 | CB25: 0 | CC25: 0 | CD25: 0 | CE25: 1 | CF25: C100000800 | CG25: C100000800 | CI25: 0 | CJ25: 0 | CK25: 2 | CL25: 4 | CM25: C2100 | EA25: 0 | EB25: 0 | EC25: 0
A26: ○ | D26: 0 | E26: 0 | F26: 0 | G26: 1 | H26: 2025 | I26: C | J26: U | K26: U13C202 | L26: CU11600090 | M26: 002 | N26: 社会学の展開 | O26: 教職 | P26: 02 | Q26: 前期 月３ | R26: 2 | S26: 0 | T26: C | U26: U | V26: CU11600090 | W26: 002 | X26: C | AH26: 0 | AM26: 2016 | AN26: 9999 | AO26: 4 | AP26: 0 | AR26: 0 | AS26: 0 | AT26: 0 | AU26: 0 | AV26: 1 | AW26: 0 | AX26: 0 | AY26: 0 | AZ26: 1 | BA26: 1 | BB26: 指定学生のみ（他学科受講用） 教職 | BC26: 社会・６ｅ 履修制限フラグ外す、履修登録方法区分４、新カリ | BG26: 10000000 | BH26: 16005 | BI26: 清家 竜介 | BJ26: セイケ リュウスケ | BK26: 02 | BL26: 1 | BM26: 3 | BN26: 1 | BO26: 15 | BP26: 0.00 | BQ26: 0.00 | BR26: 0.00 | BS26: 0 | BT26: 0 | BU26: 0 | BV26: 0 | BW26: 0 | BX26: 0 | BY26: 0 | BZ26: 0 | CA26: 0 | CB26: 0 | CC26: 0 | CD26: 0 | CE26: 1 | CF26: C100000810 | CG26: C100000800 | CI26: 0 | CJ26: 0 | CK26: 2 | CL26: 4 | CM26: C2100 | EA26: 0 | EB26: 0 | EC26: 0
A27: ○ | B27: ○ | C27: ○ | D27: 0 | E27: 0 | F27: 0 | G27: 1 | H27: 2025 | I27: C | J27: U | K27: U13C205 | L27: CU11600190 | M27: 001 | N27: 社会問題の社会学 | P27: 02 | Q27: 前期 月３ | R27: 2 | S27: 0 | T27: C | U27: U | V27: CU11600190 | W27: 001 | X27: C | AH27: 1 | AM27: 2016 | AN27: 9999 | AO27: 2 | AP27: 0 | AQ27: C900 | AR27: 0 | AS27: 9999 | AT27: 9999 | AU27: 0 | AV27: 1 | AW27: 0 | AX27: 1 | AY27: 0 | AZ27: 1 | BA27: 1 | BB27: 学部共通講義（シラバスで卒業要件を確認すること） | BC27: 社会・６ｅ | BG27: 10000000 | BH27: 01010 | BI27: 黒田 浩一郎 | BJ27: クロダ コウイチロウ | BK27: 02 | BL27: 1 | BM27: 3 | BN27: 1 | BO27: 15 | BP27: 0.00 | BQ27: 0.00 | BR27: 0.00 | BS27: 0 | BT27: 0 | BU27: 0 | BV27: 0 | BW27: 0 | BX27: 0 | BY27: 0 | BZ27: 0 | CA27: 0 | CB27: 0 | CC27: 0 | CD27: 0 | CE27: 1 | CF27: C100001700 | CG27: C100001700 | CI27: 0 | CJ27: 0 | CK27: 2 | CL27: 4 | CM27: C2100 | CO27: C2200 | CQ27: C2300 | DR27: 学部共通講義（社会学科提供） | DS27: 卒業要件単位に含まれるのは上限１６単位まで（コミュニティマネジメント学科・現代福祉学科） | EA27: 0 | EB27: 0 | EC27: 0
A28: ○ | D28: 0 | E28: 0 | F28: 0 | G28: 1 | H28: 2025 | I28: C | J28: U | K28: U13C208 | L28: CU11600330 | M28: 001 | N28: 教育社会学 | P28: 02 | Q28: 前期 月３ | R28: 2 | S28: 0 | T28: C | U28: U | V28: CU11600330 | W28: 001 | X28: C | AH28: 1 | AM28: 2016 | AN28: 9999 | AO28: 2 | AP28: 0 | AQ28: C900 | AR28: 0 | AS28: 9999 | AT28: 9999 | AU28: 0 | AV28: 1 | AW28: 0 | AX28: 1 | AY28: 0 | AZ28: 1 | BA28: 1 | BC28: 社会・６ｅ | BG28: 10000000 | BH28: 22004 | BI28: 松岡 亮二 | BJ28: マツオカ リョウジ | BK28: 02 | BL28: 1 | BM28: 3 | BN28: 1 | BO28: 15 | BP28: 0.00 | BQ28: 0.00 | BR28: 0.00 | BS28: 0 | BT28: 0 | BU28: 0 | BV28: 0 | BW28: 0 | BX28: 0 | BY28: 0 | BZ28: 0 | CA28: 0 | CB28: 0 | CC28: 0 | CD28: 0 | CE28: 1 | CF28: C100003000 | CG28: C100003000 | CI28: 0 | CJ28: 0 | CK28: 2 | CL28: 4 | CM28: C2100 | EA28: 0 | EB28: 0 | EC28: 0
A29: ○ | D29: 0 | E29: 0 | F29: 0 | G29: 1 | H29: 2025 | I29: C | J29: U | K29: U13C210 | L29: CU12655000 | M29: 001 | N29: 質的調査法 | P29: 02 | Q29: 前期 月３ | R29: 2 | S29: 0 | T29: C | U29: U | V29: CU12655000 | W29: 001 | X29: C | AH29: 1 | AM29: 0000 | AN29: 9999 | AO29: 2 | AP29: 0 | AQ29: C900 | AR29: 0 | AS29: 9999 | AT29: 9999 | AU29: 0 | AV29: 1 | AW29: 0 | AX29: 1 | AY29: 0 | AZ29: 1 | BA29: 1 | BB29: 「社会調査実習」受講に必要な科目 | BC29: 社会・６ｂ | BD29: ２０２３年度は「社会調査実習」受講者確認のため、事前登録とする | BG29: 10000000 | BH29: 22005 | BI29: 閻 美芳 | BJ29: ヤン メイファン | BK29: 02 | BL29: 1 | BM29: 3 | BN29: 1 | BO29: 15 | BP29: 0.00 | BQ29: 0.00 | BR29: 0.00 | BS29: 0 | BT29: 0 | BU29: 0 | BV29: 0 | BW29: 0 | BX29: 0 | BY29: 0 | BZ29: 0 | CA29: 0 | CB29: 0 | CC29: 0 | CD29: 0 | CE29: 1 | CF29: C100005800 | CG29: C100005800 | CI29: 0 | CJ29: 0 | CK29: 2 | CL29: 4 | CM29: C2100 | DR29: 社会調査士課程科目 | EA29: 0 | EB29: 0 | EC29: 0
C30: ○ | D30: 0 | E30: 0 | F30: 0 | G30: 1 | H30: 2025 | I30: C | J30: U | K30: U13C217 | L30: CU45120000 | M30: 001 | N30: 医療ソーシャルワーク | P30: 02 | Q30: 前期 月３ | R30: 2 | S30: 0 | T30: C | U30: U | V30: CU45120000 | W30: 001 | X30: C | AH30: 1 | AM30: 0000 | AN30: 9999 | AO30: 2 | AP30: 0 | AQ30: C900 | AR30: 0 | AS30: 9999 | AT30: 9999 | AU30: 0 | AV30: 1 | AW30: 0 | AX30: 1 | AY30: 0 | AZ30: 1 | BA30: 1 | BC30: 現代福祉・６ｅ | BG30: 10000000 | BH30: 08368 | BI30: 大坪 勇 | BJ30: オオツボ イサム | BK30: 02 | BL30: 1 | BM30: 3 | BN30: 1 | BO30: 15 | BP30: 0.00 | BQ30: 0.00 | BR30: 0.00 | BS30: 0 | BT30: 0 | BU30: 0 | BV30: 0 | BW30: 0 | BX30: 0 | BY30: 0 | BZ30: 0 | CA30: 0 | CB30: 0 | CC30: 0 | CD30: 0 | CE30: 1 | CF30: C300005000 | CG30: C300005000 | CI30: 0 | CJ30: 0 | CK30: 2 | CL30: 4 | CM30: C2300 | EA30: 0 | EB30: 0 | EC30: 0
C31: ○ | D31: 0 | E31: 0 | F31: 0 | G31: 1 | H31: 2025 | I31: C | J31: U | K31: U13C215 | L31: CU44291000 | M31: 001 | N31: 精神保健福祉援助技術論 | P31: 02 | Q31: 前期 月３、月４ | R31: 4 | S31: 0 | T31: C | U31: U | V31: CU44291000 | W31: 001 | X31: C | AH31: 1 | AM31: 2021 | AN31: 9999 | AO31: 2 | AP31: 0 | AQ31: C900 | AR31: 0 | AS31: 9999 | AT31: 9999 | AU31: 0 | AV31: 1 | AW31: 0 | AX31: 1 | AY31: 0 | AZ31: 1 | BA31: 1 | BC31: 現代福祉・６ｂ | BG31: 10000000 | BH31: 07236 | BI31: 金子 秀明 | BJ31: カネコ ヒデアキ | BK31: 02 | BL31: 1 | BM31: 3 | BN31: 1 | BO31: 15 | BP31: 0.00 | BQ31: 0.00 | BR31: 0.00 | BS31: 0 | BT31: 0 | BU31: 0 | BV31: 0 | BW31: 0 | BX31: 0 | BY31: 0 | BZ31: 0 | CA31: 0 | CB31: 0 | CC31: 0 | CD31: 0 | CE31: 1 | CF31: C300005010 | CG31: C300005010 | CI31: 0 | CJ31: 0 | CK31: 3 | CL31: 4 | CM31: C2300 | DW31: 精神保健福祉士指定科目 | EA31: 0 | EB31: 0 | EC31: 0
C32: ○ | D32: 0 | E32: 0 | F32: 0 | G32: 1 | H32: 2025 | I32: C | J32: U | K32: U13C218 | L32: CU45190000 | M32: 001 | N32: ソーシャルワーク演習Ⅱ | P32: 02 | Q32: 前期 月３、月４ | R32: 4 | S32: 0 | T32: C | U32: U | V32: CU45190000 | W32: 001 | X32: C | AH32: 0 | AM32: 0000 | AN32: 9999 | AO32: 4 | AP32: 0 | AR32: 0 | AS32: 0 | AT32: 0 | AU32: 0 | AV32: 1 | AW32: 0 | AX32: 1 | AY32: 0 | AZ32: 1 | BA32: 0 | BB32: クラス指定科目・ポータルサイトのアンケート機能で事前に登録が必要 | BC32: 現代福祉・５ | BG32: 10000000 | BH32: 14269 | BI32: 佐分 厚子 | BJ32: サブリ アツコ | BK32: 02 | BL32: 1 | BM32: 3 | BN32: 1 | BO32: 15 | BP32: 0.00 | BQ32: 0.00 | BR32: 0.00 | BS32: 0 | BT32: 0 | BU32: 0 | BV32: 0 | BW32: 0 | BX32: 0 | BY32: 0 | BZ32: 0 | CA32: 0 | CB32: 0 | CC32: 0 | CD32: 0 | CE32: 1 | CF32: C3SW200100 | CG32: C3SW200100 | CI32: 0 | CJ32: 0 | CK32: 3 | CL32: 4 | CM32: C2300 | DV32: 社会福祉士指定科目 | EA32: 0 | EB32: 0 | EC32: 0
C33: ○ | D33: 0 | E33: 0 | F33: 0 | G33: 1 | H33: 2025 | I33: C | J33: U | K33: U13C219 | L33: CU45200000 | M33: 006 | N33: ソーシャルワーク演習Ⅲ | P33: 02 | Q33: 前期 月３、月４ | R33: 4 | S33: 0 | T33: C | U33: U | V33: CU45200000 | W33: 006 | X33: C | AH33: 0 | AM33: 0000 | AN33: 9999 | AO33: 4 | AP33: 0 | AR33: 0 | AS33: 0 | AT33: 0 | AU33: 0 | AV33: 1 | AW33: 0 | AX33: 1 | AY33: 0 | AZ33: 1 | BA33: 0 | BB33: クラス指定科目・ポータルサイトのアンケート機能で事前に登録が必要 | BC33: 現代福祉・５ | BG33: 10000000 | BH33: 22277 | BI33: 桐髙 とよみ | BJ33: キリタカ トヨミ | BK33: 02 | BL33: 1 | BM33: 3 | BN33: 1 | BO33: 15 | BP33: 0.00 | BQ33: 0.00 | BR33: 0.00 | BS33: 0 | BT33: 0 | BU33: 0 | BV33: 0 | BW33: 0 | BX33: 0 | BY33: 0 | BZ33: 0 | CA33: 0 | CB33: 0 | CC33: 0 | CD33: 0 | CE33: 1 | CF33: C3SW300600 | CG33: C3SW300100 | CI33: 0 | CJ33: 0 | CK33: 4 | CL33: 4 | CM33: C2300 | DV33: 社会福祉士指定科目 | EA33: 0 | EB33: 0 | EC33: 0
B34: ○ | D34: 0 | E34: 0 | F34: 0 | G34: 1 | H34: 2025 | I34: C | J34: U | K34: U13C220 | L34: CU60070000 | M34: 004 | N34: 参画ゼミナールⅢ | O34: CM05 | P34: 02 | Q34: 前期 月３ | R34: 2 | S34: 0 | T34: C | U34: U | V34: CU60070000 | W34: 004 | X34: C | AH34: 0 | AM34: 0000 | AN34: 9999 | AO34: 4 | AP34: 0 | AR34: 0 | AS34: 0 | AT34: 0 | AU34: 0 | AV34: 1 | AW34: 0 | AX34: 1 | AY34: 0 | AZ34: 1 | BA34: 1 | BB34: クラス指定科目 | BC34: ＣＭ・１ | BG34: 10000000 | BH34: 07210 | BI34: 松浦 哲郎 | BJ34: マツウラ テツオ | BK34: 02 | BL34: 1 | BM34: 3 | BN34: 1 | BO34: 15 | BP34: 0.00 | BQ34: 0.00 | BR34: 0.00 | BS34: 0 | BT34: 0 | BU34: 0 | BV34: 0 | BW34: 0 | BX34: 0 | BY34: 0 | BZ34: 0 | CA34: 0 | CB34: 0 | CC34: 0 | CD34: 0 | CE34: 1 | CF34: C2SEM40050 | CG34: C2SEM40020 | CI34: 0 | CJ34: 0 | CK34: 4 | CL34: 4 | CM34: C2200 | EA34: 0 | EB34: 0 | EC34: 0
B35: ○ | D35: 0 | E35: 0 | F35: 0 | G35: 1 | H35: 2025 | I35: C | J35: U | K35: U13C221 | L35: CU60070000 | M35: 007 | N35: 参画ゼミナールⅢ | O35: CM09 | P35: 02 | Q35: 前期 月３ | R35: 2 | S35: 0 | T35: C | U35: U | V35: CU60070000 | W35: 007 | X35: C | AH35: 0 | AM35: 0000 | AN35: 9999 | AO35: 4 | AP35: 0 | AR35: 0 | AS35: 0 | AT35: 0 | AU35: 0 | AV35: 1 | AW35: 0 | AX35: 1 | AY35: 0 | AZ35: 1 | BA35: 1 | BB35: クラス指定科目 | BC35: ＣＭ・１ | BG35: 10000000 | BH35: 98015 | BI35: 李 相哲 | BJ35: リ ソウテツ | BK35: 02 | BL35: 1 | BM35: 3 | BN35: 1 | BO35: 15 | BP35: 0.00 | BQ35: 0.00 | BR35: 0.00 | BS35: 0 | BT35: 0 | BU35: 0 | BV35: 0 | BW35: 0 | BX35: 0 | BY35: 0 | BZ35: 0 | CA35: 0 | CB35: 0 | CC35: 0 | CD35: 0 | CE35: 1 | CF35: C2SEM40090 | CG35: C2SEM40020 | CI35: 0 | CJ35: 0 | CK35: 4 | CL35: 4 | CM35: C2200 | EA35: 0 | EB35: 0 | EC35: 0
B36: ○ | D36: 0 | E36: 0 | F36: 0 | G36: 1 | H36: 2025 | I36: C | J36: U | K36: U13C325 | L36: CU62091020 | M36: 001 | N36: コミュニティマネジメント特論１Ｂ | P36: 03 | Q36: 後期 月３ | R36: 2 | S36: 0 | T36: C | U36: U | V36: CU62091020 | W36: 001 | X36: C | AH36: 0 | AM36: 2020 | AN36: 9999 | AO36: 2 | AP36: 0 | AQ36: C100 | AR36: 2 | AS36: 40 | AT36: 40 | AU36: 0 | AV36: 0 | AW36: 1 | AX36: 1 | AY36: 0 | AZ36: 1 | BA36: 1 | BB36: ２０２５年度は教室定員の都合上、人数制限を行う | BC36: ＣＭ・６ｅ 合併① | BG36: 10000000 | BH36: 18269 | BI36: 華 京碩 | BJ36: カ キョウセキ | BK36: 03 | BL36: 1 | BM36: 3 | BN36: 1 | BO36: 15 | BP36: 0.00 | BQ36: 0.00 | BR36: 0.00 | BS36: 0 | BT36: 0 | BU36: 0 | BV36: 0 | BW36: 0 | BX36: 0 | BY36: 0 | BZ36: 0 | CA36: 0 | CB36: 0 | CC36: 0 | CD36: 0 | CE36: 1 | CF36: C500000700 | CG36: C500000700 | CI36: 0 | CJ36: 0 | CK36: 1 | CL36: 4 | CM36: C2200 | DU36: ２０２０年度以降入学生用 | EA36: 0 | EB36: 0 | EC36: 0
A37: ○ | B37: ○ | C37: ○ | D37: 0 | E37: 0 | F37: 0 | G37: 0 | H37: 2025 | I37: C | J37: U | K37: U13C328 | L37: CU81600040 | M37: 002 | N37: 児童福祉論Ⅰ | P37: 03 | Q37: 後期 月３ | R37: 2 | S37: 0 | T37: C | U37: U | V37: CU81600050 | W37: 001 | X37: C | AH37: 1 | AM37: 2016 | AN37: 2019 | AO37: 2 | AP37: 0 | AQ37: C900 | AR37: 2 | AS37: 9999 | AT37: 9999 | AU37: 0 | AV37: 0 | AW37: 1 | AX37: 1 | AY37: 0 | AZ37: 1 | BA37: 1 | BC37: 現代福祉・６ｅ | BG37: 10000000 | BH37: 06201 | BI37: 土田 美世子 | BJ37: ツチダ ミヨコ | BK37: 03 | BL37: 1 | BM37: 3 | BN37: 1 | BO37: 15 | BP37: 0.00 | BQ37: 0.00 | BR37: 0.00 | BS37: 0 | BT37: 0 | BU37: 0 | BV37: 0 | BW37: 0 | BX37: 0 | BY37: 0 | BZ37: 0 | CA37: 0 | CB37: 0 | CC37: 0 | CD37: 0 | CE37: 1 | CF37: C300006300 | CG37: C300006300 | CI37: 0 | CJ37: 0 | CK37: 1 | CL37: 4 | CM37: C2100 | CO37: C2200 | CQ37: C2300 | DU37: ２０１６～２０１９年度入学生用 | EA37: 0 | EB37: 0 | EC37: 0
A38: ○ | B38: ○ | C38: ○ | D38: 0 | E38: 0 | F38: 0 | G38: 1 | H38: 2025 | I38: C | J38: U | K38: U13C327 | L38: CU81600050 | M38: 001 | N38: 児童福祉論Ⅱ | P38: 03 | Q38: 後期 月３ | R38: 2 | S38: 0 | T38: C | U38: U | V38: CU81600050 | W38: 001 | X38: C | AH38: 1 | AM38: 2020 | AN38: 9999 | AO38: 2 | AP38: 0 | AQ38: C900 | AR38: 2 | AS38: 9999 | AT38: 9999 | AU38: 0 | AV38: 0 | AW38: 1 | AX38: 1 | AY38: 0 | AZ38: 1 | BA38: 1 | BB38: 学部共通講義（シラバスで卒業要件を確認すること） | BC38: 現代福祉・６ｅ | BG38: 10000000 | BH38: 06201 | BI38: 土田 美世子 | BJ38: ツチダ ミヨコ | BK38: 03 | BL38: 1 | BM38: 3 | BN38: 1 | BO38: 15 | BP38: 0.00 | BQ38: 0.00 | BR38: 0.00 | BS38: 0 | BT38: 0 | BU38: 0 | BV38: 0 | BW38: 0 | BX38: 0 | BY38: 0 | BZ38: 0 | CA38: 0 | CB38: 0 | CC38: 0 | CD38: 0 | CE38: 1 | CF38: C600000200 | CG38: C600000200 | CI38: 0 | CJ38: 0 | CK38: 1 | CL38: 4 | CM38: C2100 | CO38: C2200 | CQ38: C2300 | DU38: ２０２０年度以降入学生用 | EA38: 0 | EB38: 0 | EC38: 0
A39: ○ | B39: ○ | C39: ○ | D39: 0 | E39: 0 | F39: 0 | G39: 1 | H39: 2025 | I39: C | J39: U | K39: U13C304 | L39: CU11600140 | M39: 002 | N39: 比較社会論 | P39: 03 | Q39: 後期 月３ | R39: 2 | S39: 0 | T39: C | U39: U | V39: CU11600140 | W39: 002 | X39: C | AH39: 1 | AI39: 2 | AJ39: 4 | AM39: 2020 | AN39: 9999 | AO39: 2 | AP39: 0 | AQ39: C900 | AR39: 2 | AS39: 9999 | AT39: 9999 | AU39: 0 | AV39: 0 | AW39: 1 | AX39: 1 | AY39: 0 | AZ39: 1 | BA39: 1 | BB39: 学部共通講義（シラバスで卒業要件を確認すること） | BC39: 社会・６ｅ ２０２０年度以降入学生用 | BG39: 10000000 | BH39: 11107 | BI39: 舟橋 健太 | BJ39: フナハシ ケンタ | BK39: 03 | BL39: 1 | BM39: 3 | BN39: 1 | BO39: 15 | BP39: 0.00 | BQ39: 0.00 | BR39: 0.00 | BS39: 0 | BT39: 0 | BU39: 0 | BV39: 0 | BW39: 0 | BX39: 0 | BY39: 0 | BZ39: 0 | CA39: 0 | CB39: 0 | CC39: 0 | CD39: 0 | CE39: 1 | CF39: C100001201 | CG39: C100001200 | CI39: 0 | CJ39: 0 | CK39: 2 | CL39: 4 | CM39: C2100 | CO39: C2200 | CQ39: C2300 | DR39: 学部共通講義（社会学科提供） | DS39: 卒業要件単位に含まれるのは上限１６単位まで（コミュニティマネジメント学科・現代福祉学科） | EA39: 0 | EB39: 0 | EC39: 0
A40: ○ | B40: ○ | C40: ○ | D40: 0 | E40: 0 | F40: 0 | G40: 1 | H40: 2025 | I40: C | J40: U | K40: U13C307 | L40: CU11600270 | M40: 001 | N40: 環境社会学 | P40: 03 | Q40: 後期 月３ | R40: 2 | S40: 0 | T40: C | U40: U | V40: CU11600270 | W40: 001 | X40: C | AH40: 1 | AM40: 2016 | AN40: 9999 | AO40: 2 | AP40: 3 | AQ40: C900 | AR40: 2 | AS40: 9999 | AT40: 9999 | AU40: 0 | AV40: 0 | AW40: 1 | AX40: 1 | AY40: 0 | AZ40: 1 | BA40: 1 | BB40: 学部共通講義（シラバスで卒業要件を確認すること） | BC40: 社会・６ｅ | BG40: 10000000 | BH40: 22005 | BI40: 閻 美芳 | BJ40: ヤン メイファン | BK40: 03 | BL40: 1 | BM40: 3 | BN40: 1 | BO40: 15 | BP40: 0.00 | BQ40: 0.00 | BR40: 0.00 | BS40: 0 | BT40: 0 | BU40: 0 | BV40: 0 | BW40: 0 | BX40: 0 | BY40: 0 | BZ40: 0 | CA40: 0 | CB40: 0 | CC40: 0 | CD40: 0 | CE40: 1 | CF40: C100002400 | CG40: C100002400 | CI40: 0 | CJ40: 0 | CK40: 2 | CL40: 4 | CM40: C2100 | CO40: C2200 | CQ40: C2300 | DR40: 学部共通講義（社会学科提供） | DS40: 卒業要件単位に含まれるのは上限１６単位まで（コミュニティマネジメント学科・現代福祉学科） | EA40: 0 | EB40: 0 | EC40: 0
...

Sheet 時間割データ
K1: 10 | N1: 6 | O1: 9 | AN1: 7 | BK1: 3 | BL1: 1 | BM1: 2 | CK1: 8 | EA1: 備考 | EB1: 必修選択 | EC1: 再履修
A2: 社会 | B2: ＣＭ | C2: 福祉 | D2: 総合社会 | E2: 分野① | F2: 分野② | G2: ●主レコード フラグ | H2: 開講年度 | I2: 開講学部 コード | J2: 設置区分 | K2: 時間割番号 | L2: 科目コード | M2: クラスコード | N2: ●授業名 | O2: クラス名 | P2: ●科目開講期 コード | Q2: ●開講曜講時 | R2: ●単位 | S2: ●受講者数 | T2: 主開講 学部コード | U2: 主開講 設置区分 | V2: 主開講 科目コード | W2: 主開講 クラスコード | X2: 履修可能 学部１ | Y2: 履修可能 学部２ | Z2: 履修可能 学部３ | AA2: 履修可能 学部４ | AB2: 履修可能 学部５ | AC2: 履修可能 学部６ | AD2: 履修可能 学部７ | AE2: 履修可能 学部８ | AF2: 履修可能 学部９ | AG2: 履修可能 学部１０ | AH2: 履修辞退 可能フラグ | AI2: 配当年次 FROM | AJ2: 配当年次 TO | AK2: 配当セメスタ FROM | AL2: 配当セメスタ TO | AM2: 配当カリキュラム年度 FROM | AN2: 配当カリキュラム年度 TO | AO2: 履修登録 方法区分 | AP2: 単位互換 区分 | AQ2: 抽選パターン コード | AR2: 抽選状態 コード | AS2: 前期登録 定員 | AT2: 後期登録 定員 | AU2: 採点パターン | AV2: 第１学期 採点フラグ | AW2: 第２学期 採点フラグ | AX2: 履修制限算入 | AY2: 継続評価 | AZ2: ●開講区分 | BA2: 授業評価 アンケート | BB2: 備考（学生への表示項目） | BC2: メモ欄１ | BD2: メモ欄２ | BE2: メモ欄３ | BF2: メモ欄４ | BG2: 施設コード | BH2: 教職員コード | BI2: ●教員名 | BJ2: ●カナ氏名 | BK2: 担当科目 開講期コード | BL2: 担当 曜日コード | BM2: 担当 講時コード | BN2: 担当 順位 | BO2: 担当 授業回数 | BP2: ●担当 前期コマ数 | BQ2: ●担当 後期コマ数 | BR2: ●担当 通年コマ数 | BS2: ●支払４月 | BT2: ●支払５月 | BU2: ●支払６月 | BV2: ●支払７月 | BW2: ●支払８月 | BX2: ●支払９月 | BY2: ●支払１０月 | BZ2: ●支払１１月 | CA2: ●支払１２月 | CB2: ●支払１月 | CC2: ●支払２月 | CD2: ●支払３月 | CE2: ●シラバス 主担当フラグ | CF2: シラバス管理番号 | CG2: シラバス合併番号 | CH2: 講義概要参照先番号 | CI2: シラバス 状態 | CJ2: 演習 サイン | CK2: シラバス用 配当年次Ｆｒｏｍ | CL2: シラバス用 配当年次Ｔｏ | CM2: 属性番号１ | CN2: 属性内 ソートキー１ | CO2: 属性番号２ | CP2: 属性内 ソートキー２ | CQ2: 属性番号３ | CR2: 属性内 ソートキー３ | CS2: 属性番号４ | CT2: 属性内 ソートキー４ | CU2: 属性番号５ | CV2: 属性内 ソートキー５ | CW2: 属性番号６ | CX2: 属性内 ソートキー６ | CY2: 属性番号７ | CZ2: 属性内 ソートキー７ | DA2: 属性番号８ | DB2: 属性内 ソートキー８ | DC2: 属性番号９ | DD2: 属性内 ソートキー９ | DE2: 属性番号１０ | DF2: 属性内 ソートキー１０ | DG2: 履修可能 学科１ | DH2: 履修可能 学科２ | DI2: 履修可能 学科３ | DJ2: 履修可能 学科４ | DK2: 履修可能 学科５ | DL2: 履修可能 学科６ | DM2: 履修可能 学科７ | DN2: 履修可能 学科８ | DO2: 履修可能 学科９ | DP2: 履修可能 学科１０ | DQ2: 備考１ | DR2: 備考２ | DS2: 備考３ | DT2: 備考４ | DU2: 備考５ | DV2: 備考６ | DW2: 備考７ | DX2: 備考８ | DY2: 備考９ | DZ2: 備考１０
A3: =+IF(_xlfn.XLOOKUP($N3,'★参考 2024年度社会学部時間割'!$M:$M,'★参考 2024年度社会学部時間割'!A:A)=0,"",_xlfn.XLOOKUP($N3,'★参考 2024年度社会学部時間割'!$M:$M,'★参考 2024年度社会学部時間割'!A:A)) -> ○ | B3: =+IF(_xlfn.XLOOKUP($N3,'★参考 2024年度社会学部時間割'!$M:$M,'★参考 2024年度社会学部時間割'!B:B)=0,"",_xlfn.XLOOKUP($N3,'★参考 2024年度社会学部時間割'!$M:$M,'★参考 2024年度社会学部時間割'!B:B)) | C3: =+IF(_xlfn.XLOOKUP($N3,'★参考 2024年度社会学部時間割'!$M:$M,'★参考 2024年度社会学部時間割'!C:C)=0,"",_xlfn.XLOOKUP($N3,'★参考 2024年度社会学部時間割'!$M:$M,'★参考 2024年度社会学部時間割'!C:C)) | G3: 1 | H3: 2025 | I3: C | J3: U | K3: U21C301 | L3: CU11105000 | M3: 001 | N3: 社会学基礎ゼミナール | P3: 03 | Q3: 後期 火１ | R3: 2 | S3: 0 | T3: C | U3: U | V3: CU11105000 | W3: 001 | X3: C | AH3: 0 | AM3: 0000 | AN3: 9999 | AO3: 4 | AP3: 0 | AR3: 0 | AS3: 0 | AT3: 0 | AU3: 0 | AV3: 0 | AW3: 1 | AX3: 1 | AY3: 0 | AZ3: 1 | BA3: 1 | BB3: クラス指定科目 | BC3: 社会・１ | BG3: 10000000 | BH3: 99012 | BI3: 吉田 竜司 | BJ3: ヨシダ リユウジ | BK3: 03 | BL3: 2 | BM3: 1 | BN3: 1 | BO3: 15 | BP3: 0.00 | BQ3: 0.00 | BR3: 0.00 | BS3: 0 | BT3: 0 | BU3: 0 | BV3: 0 | BW3: 0 | BX3: 0 | BY3: 0 | BZ3: 0 | CA3: 0 | CB3: 0 | CC3: 0 | CD3: 0 | CE3: 1 | CF3: C1SEM00210 | CG3: C1SEM00290 | CI3: 0 | CJ3: 0 | CK3: 2 | CL3: 4 | CM3: C2100
A4: =+IF(_xlfn.XLOOKUP($N4,'★参考 2024年度社会学部時間割'!$M:$M,'★参考 2024年度社会学部時間割'!A:A)=0,"",_xlfn.XLOOKUP($N4,'★参考 2024年度社会学部時間割'!$M:$M,'★参考 2024年度社会学部時間割'!A:A)) -> ○ | B4: =+IF(_xlfn.XLOOKUP($N4,'★参考 2024年度社会学部時間割'!$M:$M,'★参考 2024年度社会学部時間割'!B:B)=0,"",_xlfn.XLOOKUP($N4,'★参考 2024年度社会学部時間割'!$M:$M,'★参考 2024年度社会学部時間割'!B:B)) | C4: =+IF(_xlfn.XLOOKUP($N4,'★参考 2024年度社会学部時間割'!$M:$M,'★参考 2024年度社会学部時間割'!C:C)=0,"",_xlfn.XLOOKUP($N4,'★参考 2024年度社会学部時間割'!$M:$M,'★参考 2024年度社会学部時間割'!C:C)) | G4: 1 | H4: 2025 | I4: C | J4: U | K4: U51C301 | L4: CU11105000 | M4: 002 | N4: 社会学基礎ゼミナール | P4: 03 | Q4: 後期 金１ | R4: 2 | S4: 0 | T4: C | U4: U | V4: CU11105000 | W4: 002 | X4: C | AH4: 0 | AM4: 0000 | AN4: 9999 | AO4: 4 | AP4: 0 | AR4: 0 | AS4: 0 | AT4: 0 | AU4: 0 | AV4: 0 | AW4: 1 | AX4: 1 | AY4: 0 | AZ4: 1 | BA4: 1 | BB4: クラス指定科目 | BC4: 社会・１ | BG4: 10000000 | BH4: 11014 | BI4: 猪瀬 優理 | BJ4: イノセ ユリ | BK4: 03 | BL4: 5 | BM4: 1 | BN4: 1 | BO4: 15 | BP4: 0.00 | BQ4: 0.00 | BR4: 0.00 | BS4: 0 | BT4: 0 | BU4: 0 | BV4: 0 | BW4: 0 | BX4: 0 | BY4: 0 | BZ4: 0 | CA4: 0 | CB4: 0 | CC4: 0 | CD4: 0 | CE4: 1 | CF4: C1SEM00220 | CG4: C1SEM00290 | CI4: 0 | CJ4: 0 | CK4: 2 | CL4: 4 | CM4: C2100
A5: =+IF(_xlfn.XLOOKUP($N5,'★参考 2024年度社会学部時間割'!$M:$M,'★参考 2024年度社会学部時間割'!A:A)=0,"",_xlfn.XLOOKUP($N5,'★参考 2024年度社会学部時間割'!$M:$M,'★参考 2024年度社会学部時間割'!A:A)) -> ○ | B5: =+IF(_xlfn.XLOOKUP($N5,'★参考 2024年度社会学部時間割'!$M:$M,'★参考 2024年度社会学部時間割'!B:B)=0,"",_xlfn.XLOOKUP($N5,'★参考 2024年度社会学部時間割'!$M:$M,'★参考 2024年度社会学部時間割'!B:B)) | C5: =+IF(_xlfn.XLOOKUP($N5,'★参考 2024年度社会学部時間割'!$M:$M,'★参考 2024年度社会学部時間割'!C:C)=0,"",_xlfn.XLOOKUP($N5,'★参考 2024年度社会学部時間割'!$M:$M,'★参考 2024年度社会学部時間割'!C:C)) | G5: 1 | H5: 2025 | I5: C | J5: U | K5: U51C302 | L5: CU11105000 | M5: 003 | N5: 社会学基礎ゼミナール | P5: 03 | Q5: 後期 金１ | R5: 2 | S5: 0 | T5: C | U5: U | V5: CU11105000 | W5: 003 | X5: C | AH5: 0 | AM5: 0000 | AN5: 9999 | AO5: 4 | AP5: 0 | AR5: 0 | AS5: 0 | AT5: 0 | AU5: 0 | AV5: 0 | AW5: 1 | AX5: 1 | AY5: 0 | AZ5: 1 | BA5: 1 | BB5: クラス指定科目 | BC5: 社会・１ | BG5: 10000000 | BH5: 11107 | BI5: 舟橋 健太 | BJ5: フナハシ ケンタ | BK5: 03 | BL5: 5 | BM5: 1 | BN5: 1 | BO5: 15 | BP5: 0.00 | BQ5: 0.00 | BR5: 0.00 | BS5: 0 | BT5: 0 | BU5: 0 | BV5: 0 | BW5: 0 | BX5: 0 | BY5: 0 | BZ5: 0 | CA5: 0 | CB5: 0 | CC5: 0 | CD5: 0 | CE5: 1 | CF5: C1SEM00230 | CG5: C1SEM00290 | CI5: 0 | CJ5: 0 | CK5: 2 | CL5: 4 | CM5: C2100
A6: =+IF(_xlfn.XLOOKUP($N6,'★参考 2024年度社会学部時間割'!$M:$M,'★参考 2024年度社会学部時間割'!A:A)=0,"",_xlfn.XLOOKUP($N6,'★参考 2024年度社会学部時間割'!$M:$M,'★参考 2024年度社会学部時間割'!A:A)) -> ○ | B6: =+IF(_xlfn.XLOOKUP($N6,'★参考 2024年度社会学部時間割'!$M:$M,'★参考 2024年度社会学部時間割'!B:B)=0,"",_xlfn.XLOOKUP($N6,'★参考 2024年度社会学部時間割'!$M:$M,'★参考 2024年度社会学部時間割'!B:B)) | C6: =+IF(_xlfn.XLOOKUP($N6,'★参考 2024年度社会学部時間割'!$M:$M,'★参考 2024年度社会学部時間割'!C:C)=0,"",_xlfn.XLOOKUP($N6,'★参考 2024年度社会学部時間割'!$M:$M,'★参考 2024年度社会学部時間割'!C:C)) | G6: 1 | H6: 2025 | I6: C | J6: U | K6: U21C302 | L6: CU11105000 | M6: 004 | N6: 社会学基礎ゼミナール | P6: 03 | Q6: 後期 火１ | R6: 2 | S6: 0 | T6: C | U6: U | V6: CU11105000 | W6: 004 | X6: C | AH6: 0 | AM6: 0000 | AN6: 9999 | AO6: 4 | AP6: 0 | AR6: 0 | AS6: 0 | AT6: 0 | AU6: 0 | AV6: 0 | AW6: 1 | AX6: 1 | AY6: 0 | AZ6: 1 | BA6: 1 | BB6: クラス指定科目 | BC6: 社会・１ | BG6: 10000000 | BH6: 04014 | BI6: 脇田 健一 | BJ6: ワキタ ケンイチ | BK6: 03 | BL6: 2 | BM6: 1 | BN6: 1 | BO6: 15 | BP6: 0.00 | BQ6: 0.00 | BR6: 0.00 | BS6: 0 | BT6: 0 | BU6: 0 | BV6: 0 | BW6: 0 | BX6: 0 | BY6: 0 | BZ6: 0 | CA6: 0 | CB6: 0 | CC6: 0 | CD6: 0 | CE6: 1 | CF6: C1SEM00240 | CG6: C1SEM00290 | CI6: 0 | CJ6: 0 | CK6: 2 | CL6: 4 | CM6: C2100
A7: =+IF(_xlfn.XLOOKUP($N7,'★参考 2024年度社会学部時間割'!$M:$M,'★参考 2024年度社会学部時間割'!A:A)=0,"",_xlfn.XLOOKUP($N7,'★参考 2024年度社会学部時間割'!$M:$M,'★参考 2024年度社会学部時間割'!A:A)) -> ○ | B7: =+IF(_xlfn.XLOOKUP($N7,'★参考 2024年度社会学部時間割'!$M:$M,'★参考 2024年度社会学部時間割'!B:B)=0,"",_xlfn.XLOOKUP($N7,'★参考 2024年度社会学部時間割'!$M:$M,'★参考 2024年度社会学部時間割'!B:B)) | C7: =+IF(_xlfn.XLOOKUP($N7,'★参考 2024年度社会学部時間割'!$M:$M,'★参考 2024年度社会学部時間割'!C:C)=0,"",_xlfn.XLOOKUP($N7,'★参考 2024年度社会学部時間割'!$M:$M,'★参考 2024年度社会学部時間割'!C:C)) | G7: 1 | H7: 2025 | I7: C | J7: U | K7: U51C303 | L7: CU11105000 | M7: 005 | N7: 社会学基礎ゼミナール | P7: 03 | Q7: 後期 金１ | R7: 2 | S7: 0 | T7: C | U7: U | V7: CU11105000 | W7: 005 | X7: C | AH7: 0 | AM7: 0000 | AN7: 9999 | AO7: 4 | AP7: 0 | AR7: 0 | AS7: 0 | AT7: 0 | AU7: 0 | AV7: 0 | AW7: 1 | AX7: 1 | AY7: 0 | AZ7: 1 | BA7: 1 | BB7: クラス指定科目 | BC7: 社会・１ | BG7: 10000000 | BH7: 04014 | BI7: 脇田 健一 | BJ7: ワキタ ケンイチ | BK7: 03 | BL7: 5 | BM7: 1 | BN7: 1 | BO7: 15 | BP7: 0.00 | BQ7: 0.00 | BR7: 0.00 | BS7: 0 | BT7: 0 | BU7: 0 | BV7: 0 | BW7: 0 | BX7: 0 | BY7: 0 | BZ7: 0 | CA7: 0 | CB7: 0 | CC7: 0 | CD7: 0 | CE7: 1 | CF7: C1SEM00250 | CG7: C1SEM00290 | CI7: 0 | CJ7: 0 | CK7: 2 | CL7: 4 | CM7: C2100
A8: =+IF(_xlfn.XLOOKUP($N8,'★参考 2024年度社会学部時間割'!$M:$M,'★参考 2024年度社会学部時間割'!A:A)=0,"",_xlfn.XLOOKUP($N8,'★参考 2024年度社会学部時間割'!$M:$M,'★参考 2024年度社会学部時間割'!A:A)) -> ○ | B8: =+IF(_xlfn.XLOOKUP($N8,'★参考 2024年度社会学部時間割'!$M:$M,'★参考 2024年度社会学部時間割'!B:B)=0,"",_xlfn.XLOOKUP($N8,'★参考 2024年度社会学部時間割'!$M:$M,'★参考 2024年度社会学部時間割'!B:B)) | C8: =+IF(_xlfn.XLOOKUP($N8,'★参考 2024年度社会学部時間割'!$M:$M,'★参考 2024年度社会学部時間割'!C:C)=0,"",_xlfn.XLOOKUP($N8,'★参考 2024年度社会学部時間割'!$M:$M,'★参考 2024年度社会学部時間割'!C:C)) | G8: 1 | H8: 2025 | I8: C | J8: U | K8: U21C303 | L8: CU11105000 | M8: 006 | N8: 社会学基礎ゼミナール | P8: 03 | Q8: 後期 火１ | R8: 2 | S8: 0 | T8: C | U8: U | V8: CU11105000 | W8: 006 | X8: C | AH8: 0 | AM8: 0000 | AN8: 9999 | AO8: 4 | AP8: 0 | AR8: 0 | AS8: 0 | AT8: 0 | AU8: 0 | AV8: 0 | AW8: 1 | AX8: 1 | AY8: 0 | AZ8: 1 | BA8: 1 | BB8: クラス指定科目 | BC8: 社会・１ | BG8: 10000000 | BH8: 95026 | BI8: 嶋崎 陽一 | BJ8: シマザキ ヨウイチ | BK8: 03 | BL8: 2 | BM8: 1 | BN8: 1 | BO8: 15 | BP8: 0.00 | BQ8: 0.00 | BR8: 0.00 | BS8: 0 | BT8: 0 | BU8: 0 | BV8: 0 | BW8: 0 | BX8: 0 | BY8: 0 | BZ8: 0 | CA8: 0 | CB8: 0 | CC8: 0 | CD8: 0 | CE8: 1 | CF8: C1SEM00260 | CG8: C1SEM00290 | CI8: 0 | CJ8: 0 | CK8: 2 | CL8: 4 | CM8: C2100
A9: =+IF(_xlfn.XLOOKUP($N9,'★参考 2024年度社会学部時間割'!$M:$M,'★参考 2024年度社会学部時間割'!A:A)=0,"",_xlfn.XLOOKUP($N9,'★参考 2024年度社会学部時間割'!$M:$M,'★参考 2024年度社会学部時間割'!A:A)) -> ○ | B9: =+IF(_xlfn.XLOOKUP($N9,'★参考 2024年度社会学部時間割'!$M:$M,'★参考 2024年度社会学部時間割'!B:B)=0,"",_xlfn.XLOOKUP($N9,'★参考 2024年度社会学部時間割'!$M:$M,'★参考 2024年度社会学部時間割'!B:B)) | C9: =+IF(_xlfn.XLOOKUP($N9,'★参考 2024年度社会学部時間割'!$M:$M,'★参考 2024年度社会学部時間割'!C:C)=0,"",_xlfn.XLOOKUP($N9,'★参考 2024年度社会学部時間割'!$M:$M,'★参考 2024年度社会学部時間割'!C:C)) | G9: 1 | H9: 2025 | I9: C | J9: U | K9: U11C301 | L9: CU11105000 | M9: 007 | N9: 社会学基礎ゼミナール | P9: 03 | Q9: 後期 月１ | R9: 2 | S9: 0 | T9: C | U9: U | V9: CU11105000 | W9: 007 | X9: C | AH9: 0 | AM9: 0000 | AN9: 9999 | AO9: 4 | AP9: 0 | AR9: 0 | AS9: 0 | AT9: 0 | AU9: 0 | AV9: 0 | AW9: 1 | AX9: 1 | AY9: 0 | AZ9: 1 | BA9: 1 | BB9: クラス指定科目 | BC9: 社会・１ | BG9: 10000000 | BH9: 16005 | BI9: 清家 竜介 | BJ9: セイケ リュウスケ | BK9: 03 | BL9: 1 | BM9: 1 | BN9: 1 | BO9: 15 | BP9: 0.00 | BQ9: 0.00 | BR9: 0.00 | BS9: 0 | BT9: 0 | BU9: 0 | BV9: 0 | BW9: 0 | BX9: 0 | BY9: 0 | BZ9: 0 | CA9: 0 | CB9: 0 | CC9: 0 | CD9: 0 | CE9: 1 | CF9: C1SEM00270 | CG9: C1SEM00290 | CI9: 0 | CJ9: 0 | CK9: 2 | CL9: 4 | CM9: C2100
A10: =+IF(_xlfn.XLOOKUP($N10,'★参考 2024年度社会学部時間割'!$M:$M,'★参考 2024年度社会学部時間割'!A:A)=0,"",_xlfn.XLOOKUP($N10,'★参考 2024年度社会学部時間割'!$M:$M,'★参考 2024年度社会学部時間割'!A:A)) -> ○ | B10: =+IF(_xlfn.XLOOKUP($N10,'★参考 2024年度社会学部時間割'!$M:$M,'★参考 2024年度社会学部時間割'!B:B)=0,"",_xlfn.XLOOKUP($N10,'★参考 2024年度社会学部時間割'!$M:$M,'★参考 2024年度社会学部時間割'!B:B)) | C10: =+IF(_xlfn.XLOOKUP($N10,'★参考 2024年度社会学部時間割'!$M:$M,'★参考 2024年度社会学部時間割'!C:C)=0,"",_xlfn.XLOOKUP($N10,'★参考 2024年度社会学部時間割'!$M:$M,'★参考 2024年度社会学部時間割'!C:C)) | G10: 1 | H10: 2025 | I10: C | J10: U | K10: U21C304 | L10: CU11105000 | M10: 008 | N10: 社会学基礎ゼミナール | P10: 03 | Q10: 後期 火１ | R10: 2 | S10: 0 | T10: C | U10: U | V10: CU11105000 | W10: 008 | X10: C | AH10: 0 | AM10: 0000 | AN10: 9999 | AO10: 4 | AP10: 0 | AR10: 0 | AS10: 0 | AT10: 0 | AU10: 0 | AV10: 0 | AW10: 1 | AX10: 1 | AY10: 0 | AZ10: 1 | BA10: 1 | BB10: クラス指定科目 | BC10: 社会・１ | BG10: 10000000 | BH10: 22005 | BI10: 閻 美芳 | BJ10: ヤン メイファン | BK10: 03 | BL10: 2 | BM10: 1 | BN10: 1 | BO10: 15 | BP10: 0.00 | BQ10: 0.00 | BR10: 0.00 | BS10: 0 | BT10: 0 | BU10: 0 | BV10: 0 | BW10: 0 | BX10: 0 | BY10: 0 | BZ10: 0 | CA10: 0 | CB10: 0 | CC10: 0 | CD10: 0 | CE10: 1 | CF10: C1SEM00280 | CG10: C1SEM00290 | CI10: 0 | CJ10: 0 | CK10: 2 | CL10: 4 | CM10: C2100
A11: =+IF(_xlfn.XLOOKUP($N11,'★参考 2024年度社会学部時間割'!$M:$M,'★参考 2024年度社会学部時間割'!A:A)=0,"",_xlfn.XLOOKUP($N11,'★参考 2024年度社会学部時間割'!$M:$M,'★参考 2024年度社会学部時間割'!A:A)) -> ○ | B11: =+IF(_xlfn.XLOOKUP($N11,'★参考 2024年度社会学部時間割'!$M:$M,'★参考 2024年度社会学部時間割'!B:B)=0,"",_xlfn.XLOOKUP($N11,'★参考 2024年度社会学部時間割'!$M:$M,'★参考 2024年度社会学部時間割'!B:B)) | C11: =+IF(_xlfn.XLOOKUP($N11,'★参考 2024年度社会学部時間割'!$M:$M,'★参考 2024年度社会学部時間割'!C:C)=0,"",_xlfn.XLOOKUP($N11,'★参考 2024年度社会学部時間割'!$M:$M,'★参考 2024年度社会学部時間割'!C:C)) | G11: 1 | H11: 2025 | I11: C | J11: U | K11: U21C305 | L11: CU11105000 | M11: 009 | N11: 社会学基礎ゼミナール | P11: 03 | Q11: 後期 火１ | R11: 2 | S11: 0 | T11: C | U11: U | V11: CU11105000 | W11: 009 | X11: C | AH11: 0 | AM11: 0000 | AN11: 9999 | AO11: 4 | AP11: 0 | AR11: 0 | AS11: 0 | AT11: 0 | AU11: 0 | AV11: 0 | AW11: 1 | AX11: 1 | AY11: 0 | AZ11: 1 | BA11: 1 | BB11: クラス指定科目 | BC11: 社会・１ | BG11: 10000000 | BH11: 22004 | BI11: 松岡 亮二 | BJ11: マツオカ リョウジ | BK11: 03 | BL11: 2 | BM11: 1 | BN11: 1 | BO11: 15 | BP11: 0.00 | BQ11: 0.00 | BR11: 0.00 | BS11: 0 | BT11: 0 | BU11: 0 | BV11: 0 | BW11: 0 | BX11: 0 | BY11: 0 | BZ11: 0 | CA11: 0 | CB11: 0 | CC11: 0 | CD11: 0 | CE11: 1 | CF11: C1SEM00290 | CG11: C1SEM00290 | CI11: 0 | CJ11: 0 | CK11: 2 | CL11: 4 | CM11: C2100
A12: =+IF(_xlfn.XLOOKUP($N12,'★参考 2024年度社会学部時間割'!$M:$M,'★参考 2024年度社会学部時間割'!A:A)=0,"",_xlfn.XLOOKUP($N12,'★参考 2024年度社会学部時間割'!$M:$M,'★参考 2024年度社会学部時間割'!A:A)) -> ○ | B12: =+IF(_xlfn.XLOOKUP($N12,'★参考 2024年度社会学部時間割'!$M:$M,'★参考 2024年度社会学部時間割'!B:B)=0,"",_xlfn.XLOOKUP($N12,'★参考 2024年度社会学部時間割'!$M:$M,'★参考 2024年度社会学部時間割'!B:B)) | C12: =+IF(_xlfn.XLOOKUP($N12,'★参考 2024年度社会学部時間割'!$M:$M,'★参考 2024年度社会学部時間割'!C:C)=0,"",_xlfn.XLOOKUP($N12,'★参考 2024年度社会学部時間割'!$M:$M,'★参考 2024年度社会学部時間割'!C:C)) | G12: 1 | H12: 2025 | I12: C | J12: U | K12: U21C306 | L12: CU11105000 | M12: 010 | N12: 社会学基礎ゼミナール | P12: 03 | Q12: 後期 火１ | R12: 2 | S12: 0 | T12: C | U12: U | V12: CU11105000 | W12: 010 | X12: C | AH12: 0 | AM12: 0000 | AN12: 9999 | AO12: 4 | AP12: 0 | AR12: 0 | AS12: 0 | AT12: 0 | AU12: 0 | AV12: 0 | AW12: 1 | AX12: 1 | AY12: 0 | AZ12: 1 | BA12: 1 | BB12: クラス指定科目 | BC12: 社会・１ | BG12: 10000000 | BH12: 94275 | BI12: 柴田 和子 | BJ12: シバタ カズコ | BK12: 03 | BL12: 2 | BM12: 1 | BN12: 1 | BO12: 15 | BP12: 0.00 | BQ12: 0.00 | BR12: 0.00 | BS12: 0 | BT12: 0 | BU12: 0 | BV12: 0 | BW12: 0 | BX12: 0 | BY12: 0 | BZ12: 0 | CA12: 0 | CB12: 0 | CC12: 0 | CD12: 0 | CE12: 1 | CF12: C1SEM00300 | CG12: C1SEM00290 | CI12: 0 | CJ12: 0 | CK12: 2 | CL12: 4 | CM12: C2100
A13: =+IF(_xlfn.XLOOKUP($N13,'★参考 2024年度社会学部時間割'!$M:$M,'★参考 2024年度社会学部時間割'!A:A)=0,"",_xlfn.XLOOKUP($N13,'★参考 2024年度社会学部時間割'!$M:$M,'★参考 2024年度社会学部時間割'!A:A)) -> ○ | B13: =+IF(_xlfn.XLOOKUP($N13,'★参考 2024年度社会学部時間割'!$M:$M,'★参考 2024年度社会学部時間割'!B:B)=0,"",_xlfn.XLOOKUP($N13,'★参考 2024年度社会学部時間割'!$M:$M,'★参考 2024年度社会学部時間割'!B:B)) | C13: =+IF(_xlfn.XLOOKUP($N13,'★参考 2024年度社会学部時間割'!$M:$M,'★参考 2024年度社会学部時間割'!C:C)=0,"",_xlfn.XLOOKUP($N13,'★参考 2024年度社会学部時間割'!$M:$M,'★参考 2024年度社会学部時間割'!C:C)) | G13: 1 | H13: 2025 | I13: C | J13: U | K13: U21C307 | L13: CU11105000 | M13: 011 | N13: 社会学基礎ゼミナール | P13: 03 | Q13: 後期 火１ | R13: 2 | S13: 0 | T13: C | U13: U | V13: CU11105000 | W13: 011 | X13: C | AH13: 0 | AM13: 0000 | AN13: 9999 | AO13: 4 | AP13: 0 | AR13: 0 | AS13: 0 | AT13: 0 | AU13: 0 | AV13: 0 | AW13: 1 | AX13: 1 | AY13: 0 | AZ13: 1 | BA13: 1 | BB13: クラス指定科目 | BC13: 社会・１ | BG13: 10000000 | BH13: 02016 | BI13: 村澤 真保呂 | BJ13: ムラサワ マホロ | BK13: 03 | BL13: 2 | BM13: 1 | BN13: 1 | BO13: 15 | BP13: 0.00 | BQ13: 0.00 | BR13: 0.00 | BS13: 0 | BT13: 0 | BU13: 0 | BV13: 0 | BW13: 0 | BX13: 0 | BY13: 0 | BZ13: 0 | CA13: 0 | CB13: 0 | CC13: 0 | CD13: 0 | CE13: 1 | CF13: C1SEM00310 | CG13: C1SEM00290 | CI13: 0 | CJ13: 0 | CK13: 2 | CL13: 4 | CM13: C2100
A14: =+IF(_xlfn.XLOOKUP($N14,'★参考 2024年度社会学部時間割'!$M:$M,'★参考 2024年度社会学部時間割'!A:A)=0,"",_xlfn.XLOOKUP($N14,'★参考 2024年度社会学部時間割'!$M:$M,'★参考 2024年度社会学部時間割'!A:A)) -> ○ | B14: =+IF(_xlfn.XLOOKUP($N14,'★参考 2024年度社会学部時間割'!$M:$M,'★参考 2024年度社会学部時間割'!B:B)=0,"",_xlfn.XLOOKUP($N14,'★参考 2024年度社会学部時間割'!$M:$M,'★参考 2024年度社会学部時間割'!B:B)) | C14: =+IF(_xlfn.XLOOKUP($N14,'★参考 2024年度社会学部時間割'!$M:$M,'★参考 2024年度社会学部時間割'!C:C)=0,"",_xlfn.XLOOKUP($N14,'★参考 2024年度社会学部時間割'!$M:$M,'★参考 2024年度社会学部時間割'!C:C)) | G14: 1 | H14: 2025 | I14: C | J14: U | K14: U21C308 | L14: CU11105000 | M14: 012 | N14: 社会学基礎ゼミナール | P14: 03 | Q14: 後期 火１ | R14: 2 | S14: 0 | T14: C | U14: U | V14: CU11105000 | W14: 012 | X14: C | AH14: 0 | AM14: 0000 | AN14: 9999 | AO14: 4 | AP14: 0 | AR14: 0 | AS14: 0 | AT14: 0 | AU14: 0 | AV14: 0 | AW14: 1 | AX14: 1 | AY14: 0 | AZ14: 1 | BA14: 1 | BB14: クラス指定科目 | BC14: 社会・１ | BG14: 10000000 | BH14: 03366 | BI14: 松本 拓 | BJ14: マツモト タク | BK14: 03 | BL14: 2 | BM14: 1 | BN14: 1 | BO14: 15 | BP14: 0.00 | BQ14: 0.00 | BR14: 0.00 | BS14: 0 | BT14: 0 | BU14: 0 | BV14: 0 | BW14: 0 | BX14: 0 | BY14: 0 | BZ14: 0 | CA14: 0 | CB14: 0 | CC14: 0 | CD14: 0 | CE14: 1 | CF14: C1SEM00320 | CG14: C1SEM00290 | CI14: 0 | CJ14: 0 | CK14: 2 | CL14: 4 | CM14: C2100
A15: =+IF(_xlfn.XLOOKUP($N15,'★参考 2024年度社会学部時間割'!$M:$M,'★参考 2024年度社会学部時間割'!A:A)=0,"",_xlfn.XLOOKUP($N15,'★参考 2024年度社会学部時間割'!$M:$M,'★参考 2024年度社会学部時間割'!A:A)) -> ○ | B15: =+IF(_xlfn.XLOOKUP($N15,'★参考 2024年度社会学部時間割'!$M:$M,'★参考 2024年度社会学部時間割'!B:B)=0,"",_xlfn.XLOOKUP($N15,'★参考 2024年度社会学部時間割'!$M:$M,'★参考 2024年度社会学部時間割'!B:B)) | C15: =+IF(_xlfn.XLOOKUP($N15,'★参考 2024年度社会学部時間割'!$M:$M,'★参考 2024年度社会学部時間割'!C:C)=0,"",_xlfn.XLOOKUP($N15,'★参考 2024年度社会学部時間割'!$M:$M,'★参考 2024年度社会学部時間割'!C:C)) | D15: ○ | G15: 1 | H15: 2025 | I15: C | J15: U | K15: U12C201 | L15: CU11135000 | M15: 001 | N15: 社会調査入門 | P15: 02 | Q15: 前期 月２ | R15: 2 | S15: 0 | T15: C | U15: U | V15: CU11135000 | W15: 001 | X15: C | AH15: 0 | AM15: 0000 | AN15: 9999 | AO15: 4 | AP15: 0 | AR15: 0 | AS15: 0 | AT15: 0 | AU15: 0 | AV15: 1 | AW15: 0 | AX15: 1 | AY15: 0 | AZ15: 1 | BA15: 1 | BC15: 社会・６ａ | BG15: 10000000 | BH15: 11014 | BI15: 猪瀬 優理 | BJ15: イノセ ユリ | BK15: 02 | BL15: 1 | BM15: 2 | BN15: 1 | BO15: 5 | BP15: 0.00 | BQ15: 0.00 | BR15: 0.00 | BS15: 0 | BT15: 0 | BU15: 0 | BV15: 0 | BW15: 0 | BX15: 0 | BY15: 0 | BZ15: 0 | CA15: 0 | CB15: 0 | CC15: 0 | CD15: 0 | CE15: 1 | CF15: C100000100 | CG15: C100000100 | CI15: 0 | CJ15: 0 | CK15: 1 | CL15: 4 | CM15: C2100 | CO15: C8000
A16: =+IF(_xlfn.XLOOKUP($N16,'★参考 2024年度社会学部時間割'!$M:$M,'★参考 2024年度社会学部時間割'!A:A)=0,"",_xlfn.XLOOKUP($N16,'★参考 2024年度社会学部時間割'!$M:$M,'★参考 2024年度社会学部時間割'!A:A)) -> ○ | B16: =+IF(_xlfn.XLOOKUP($N16,'★参考 2024年度社会学部時間割'!$M:$M,'★参考 2024年度社会学部時間割'!B:B)=0,"",_xlfn.XLOOKUP($N16,'★参考 2024年度社会学部時間割'!$M:$M,'★参考 2024年度社会学部時間割'!B:B)) | C16: =+IF(_xlfn.XLOOKUP($N16,'★参考 2024年度社会学部時間割'!$M:$M,'★参考 2024年度社会学部時間割'!C:C)=0,"",_xlfn.XLOOKUP($N16,'★参考 2024年度社会学部時間割'!$M:$M,'★参考 2024年度社会学部時間割'!C:C)) | D16: ○ | G16: 1 | H16: 2025 | I16: C | J16: U | K16: U12C201 | L16: CU11135000 | M16: 001 | N16: 社会調査入門 | P16: 02 | Q16: 前期 月２ | R16: 2 | S16: 0 | T16: C | U16: U | V16: CU11135000 | W16: 001 | X16: C | AH16: 0 | AM16: 0000 | AN16: 9999 | AO16: 4 | AP16: 0 | AR16: 0 | AS16: 0 | AT16: 0 | AU16: 0 | AV16: 1 | AW16: 0 | AX16: 1 | AY16: 0 | AZ16: 1 | BA16: 1 | BC16: 社会・６ａ | BG16: 10000000 | BH16: 22004 | BI16: 松岡 亮二 | BJ16: マツオカ リョウジ | BK16: 02 | BL16: 1 | BM16: 2 | BN16: 2 | BO16: 5 | BP16: 0.00 | BQ16: 0.00 | BR16: 0.00 | BS16: 0 | BT16: 0 | BU16: 0 | BV16: 0 | BW16: 0 | BX16: 0 | BY16: 0 | BZ16: 0 | CA16: 0 | CB16: 0 | CC16: 0 | CD16: 0 | CE16: 1 | CF16: C100000101 | CG16: C100000100 | CI16: 0 | CJ16: 0 | CK16: 1 | CL16: 4 | CM16: C2100 | CO16: C8000
