Workbook
Name A: #REF!
Name い1111: #REF!

Sheet ★2026年度社会学部時間割
A1: 社会 | B1: コミュニティマネジメント | C1: 現代福祉 | D1: 総合社会学科 ◎必修 ●選択必修 〇選択 | H1: ～2024入学生 配当年次 | I1: 2025～入学生 配当年次 | J1: 開講期 | K1: 曜日 | L1: 講時 | M1: 時間割番号 | N1: 授業名 | O1: クラス名 | P1: ペア曜講時 | Q1: 単位 | R1: 教員名 | S1: 備考 | T1: 抽選・選抜対象 | U1: 履修辞退
D2: 現代社会領域 | E2: 文化・メディア領域 | F2: 健康・スポーツ社会領域 | G2: 現代福祉領域
D3: ◎ | E3: ◎ | F3: ◎ | G3: ◎ | I3: 1 | J3: 前期 | K3: 月 | L3: 1 | M3: U11C101 | N3: 共感とコミュニケーション | O3: 1組 | Q3: 2 | R3: 山田 容 | S3: 必修科目・クラス指定科目 | U3: =+IF(sortby!AH3="1","○","")
D4: ◎ | E4: ◎ | F4: ◎ | G4: ◎ | I4: 1 | J4: 前期 | K4: 月 | L4: 1 | M4: U11C102 | N4: 共感とコミュニケーション | O4: 2組 | Q4: 2 | R4: 中村 美智代 | S4: 必修科目・クラス指定科目 | U4: =+IF(sortby!AH4="1","○","")
D5: ◎ | E5: ◎ | F5: ◎ | G5: ◎ | I5: 1 | J5: 前期 | K5: 月 | L5: 1 | M5: U11C103 | N5: 共感とコミュニケーション | O5: 3組 | Q5: 2 | R5: 村田 智美 | S5: 必修科目・クラス指定科目 | U5: =+IF(sortby!AH5="1","○","")
A6: ○ | B6: ○ | C6: ○ | H6: 2 | J6: 前期 | K6: 月 | L6: 1 | M6: U11C104 | N6: 支援コミュニケーション論 | O6: 1組 | Q6: 2 | R6: 山田 容 | S6: （～２０２４年度入学生まで）学部共通講義（シラバスで卒業要件を確認すること） | U6: ○
A7: ○ | B7: ○ | C7: ○ | H7: 2 | J7: 前期 | K7: 月 | L7: 1 | M7: U11C105 | N7: 支援コミュニケーション論 | O7: 2組 | Q7: 2 | R7: 中村 美智代 | S7: （～２０２４年度入学生まで）学部共通講義（シラバスで卒業要件を確認すること） | U7: ○
A8: ○ | B8: ○ | C8: ○ | H8: 2 | J8: 前期 | K8: 月 | L8: 1 | M8: U11C106 | N8: 支援コミュニケーション論 | O8: 3組 | Q8: 2 | R8: 村田 智美 | S8: （～２０２４年度入学生まで）学部共通講義（シラバスで卒業要件を確認すること） | U8: ○
A9: ○ | H9: 3 | J9: 通年 | K9: 月 | L9: 2 | M9: U12C101 | N9: 社会調査実習 | Q9: 4 | R9: 閻 美芳 | S9: 【抽選登録科目】 | T9: ○
A10: ○ | D10: ◎ | E10: ◎ | F10: ◎ | G10: ◎ | H10: 1 | I10: 1 | J10: 前期 | K10: 月 | L10: 2 | M10: U12C102 | N10: 社会調査入門 | Q10: 2 | R10: 猪瀬 優理 数実 浩佑 松岡 亮二 | S10: 必修科目
A11: ○ | D11: ○ | E11: ○ | F11: ○ | G11: ○ | H11: 2 | I11: 2 | J11: 前期 | K11: 月 | L11: 2 | M11: U12C103 | N11: 社会統計学Ⅱ | Q11: 2 | R11: 津島 昌弘 | U11: ○
C12: ○ | D12: ● | E12: ○ | F12: ● | G12: ● | H12: 2 | I12: 2 | J12: 前期 | K12: 月 | L12: 2 | M12: U12C104 | N12: 刑事司法と福祉 | Q12: 2 | R12: 掛川 直之 | U12: ○
B13: ○ | H13: 3 | J13: 前期 | K13: 月 | L13: 2 | M13: U12C105 | N13: 参画ゼミナールⅠ | O13: CM07 | Q13: 2 | R13: 李 相哲 | S13: クラス指定科目
A14: ○ | J14: 後期 | K14: 月 | L14: 2 | M14: U12C501 | N14: 比較社会論 | O14: 旧旧カリ | Q14: 2 | R14: 舟橋 健太 | U14: ○
A15: ○ | B15: ○ | C15: ○ | H15: 2 | J15: 後期 | K15: 月 | L15: 2 | M15: U12C502 | N15: 比較社会論 | Q15: 2 | R15: 舟橋 健太 | S15: （～２０２４年度入学生まで）学部共通講義（シラバスで卒業要件を確認すること） | U15: ○
D16: ◎ | E16: ◎ | F16: ◎ | G16: ◎ | H16: 1 | I16: 1 | J16: 後期 | K16: 月 | L16: 2 | M16: U12C503 | N16: 社会統計学Ⅰ | Q16: 2 | R16: 津島 昌弘 | S16: 必修科目・クラス指定科目
A17: ○ | H17: 1 | J17: 後期 | K17: 月 | L17: 2 | M17: U12C504 | N17: 社会統計学Ⅰ | Q17: 2 | R17: 津島 昌弘 | S17: ～２０２４年度入学生用科目 | U17: ○
A18: ○ | J18: 後期 | K18: 月 | L18: 2 | M18: U12C506 | N18: 環境思想 | O18: 教職 | Q18: 2 | R18: 浅沼 光樹 | S18: 指定学生のみ（他学科受講用） 教職 | U18: ○
A19: ○ | H19: 3 | J19: 後期 | K19: 月 | L19: 2 | M19: U12C505 | N19: 環境思想 | Q19: 2 | R19: 浅沼 光樹 | U19: ○
B20: ○ | H20: 3 | J20: 後期 | K20: 月 | L20: 2 | M20: U12C507 | N20: 参画ゼミナールⅡ | O20: CM07 | Q20: 2 | R20: 李 相哲 | S20: クラス指定科目
B21: ○ | J21: 通年 | K21: 月 | L21: 3 | M21: U13C101 | N21: コミュニティマネジメント特論 | O21: 旧旧カリ | Q21: 4 | R21: 華 京碩 | U21: ○
B22: ○ | H22: 1 | J22: 前期 | K22: 月 | L22: 3 | M22: U13C111 | N22: コミュニティマネジメント特論１Ａ | Q22: 2 | R22: 華 京碩 | U22: ○
B23: ○ | H23: 2 | J23: 前期 | K23: 月 | L23: 3 | M23: U13C104 | N23: 質的調査法 | Q23: 2 | R23: 塩見 翔 | U23: ○
D24: ○ | E24: ● | F24: ○ | G24: ○ | I24: 2 | J24: 前期 | K24: 月 | L24: 3 | M24: U13C105 | N24: 防災とメディア | Q24: 2 | R24: 松浦 哲郎 | U24: ○
A25: ○ | B25: ○ | C25: ○ | H25: 2 | J25: 前期 | K25: 月 | L25: 3 | M25: U13C110 | N25: 地域社会とメディア | Q25: 2 | R25: 松浦 哲郎 | S25: （～２０２４年度入学生まで）学部共通講義（シラバスで卒業要件を確認すること） | U25: ○
C26: ○ | H26: 3 | J26: 前期 | K26: 月 | L26: 3 | M26: U13C106 | N26: 精神保健福祉援助技術論 | Q26: 4 | R26: 金子 秀明 | U26: ○
C27: ○ | H27: 1 | I27: 2 | J27: 前期 | K27: 月 | L27: 3 | M27: U13C107 | N27: ソーシャルワークの基盤と専門職 | Q27: 2 | R27: 山田 容 | S27: （～２０２４年度入学生まで）必修科目
D28: ● | E28: ● | F28: ● | G28: ● | H28: 1 | I28: 2 | J28: 前期 | K28: 月 | L28: 3 | M28: U13C114 | N28: ソーシャルワークの基盤と専門職 | Q28: 2 | R28: 山田 容 | S28: ２０２５年度以降入学生対象 | U28: ○
C29: ○ | H29: 4 | J29: 前期 | K29: 月 | L29: 3 | M29: U13C108 | N29: ソーシャルワーク演習Ⅲ | P29: 月4 | Q29: 4 | R29: 桐髙 とよみ | S29: クラス指定科目・ポータルサイトのアンケート機能で事前に登録が必要
B30: ○ | H30: 4 | J30: 前期 | K30: 月 | L30: 3 | M30: U13C109 | N30: 参画ゼミナールⅢ | O30: CM07 | Q30: 2 | R30: 李 相哲 | S30: クラス指定科目
D31: ○ | E31: ● | F31: ○ | G31: ○ | I31: 2 | J31: 前期 | K31: 月 | L31: 3 | M31: U13C112 | N31: 文化と表象の社会学 | Q31: 2 | R31: 栗田 正和 | U31: ○
A32: ○ | H32: 2 | J32: 前期 | K32: 月 | L32: 3 | M32: U13C113 | N32: 文化社会学 | Q32: 2 | R32: 栗田 正和 | U32: ○
A33: ○ | H33: 3 | J33: 後期 | K33: 月 | L33: 3 | M33: U13C501 | N33: 考現学 | Q33: 2 | R33: 塩見 翔 | U33: ○
A34: ○ | D34: ● | E34: ● | F34: ● | G34: ● | H34: 2 | I34: 2 | J34: 後期 | K34: 月 | L34: 3 | M34: U13C502 | N34: 質的調査法 | Q34: 2 | R34: 閻 美芳 | S34: 「社会調査実習」受講に必要な科目 | U34: ○
A35: ○ | D35: ● | E35: ● | F35: ○ | G35: ○ | H35: 3 | I35: 2 | J35: 後期 | K35: 月 | L35: 3 | M35: U13C503 | N35: 観光社会学 | Q35: 2 | R35: 寺田 憲弘 | U35: ○
C36: ○ | H36: 2 | J36: 後期 | K36: 月 | L36: 3 | M36: U13C504 | N36: 地域福祉論 | P36: 月4 | Q36: 4 | R36: 筒井 乃り子 | U36: ○
D37: ● | E37: ● | F37: ● | G37: ● | I37: 2 | J37: 後期 | K37: 月 | L37: 3 | M37: U13C505 | N37: ＩＣＴリテラシー技法 | Q37: 2 | R37: 松浦 哲郎 | S37: 【抽選登録科目】 | T37: ○
B38: ○ | H38: 4 | J38: 後期 | K38: 月 | L38: 3 | M38: U13C506 | N38: 参画ゼミナールⅣ | O38: CM07 | Q38: 2 | R38: 李 相哲 | S38: クラス指定科目
B39: ○ | H39: 1 | J39: 後期 | K39: 月 | L39: 3 | M39: U13C507 | N39: コミュニティマネジメント特論１Ｂ | Q39: 2 | R39: 華 京碩 | T39: ○
A40: ○ | H40: 3 | J40: 前期 | K40: 月 | L40: 4 | M40: U14C101 | N40: 社会学演習ⅠＡ | Q40: 2 | R40: 津島 昌弘 | S40: クラス指定科目
A41: ○ | H41: 3 | J41: 前期 | K41: 月 | L41: 4 | M41: U14C102 | N41: 社会学演習ⅠＡ | Q41: 2 | R41: 閻 美芳 | S41: クラス指定科目
A42: ○ | H42: 4 | J42: 前期 | K42: 月 | L42: 4 | M42: U14C103 | N42: 社会学演習ⅡＡ | Q42: 2 | R42: 清家 竜介 | S42: クラス指定科目
A43: ○ | H43: 4 | J43: 前期 | K43: 月 | L43: 4 | M43: U14C104 | N43: 社会学演習ⅡＡ | Q43: 2 | R43: 津島 昌弘 | S43: クラス指定科目
D44: ● | E44: ● | F44: ● | G44: ● | I44: 2 | J44: 前期 | K44: 月 | L44: 4 | M44: U14C105 | N44: 多様性の社会学 | Q44: 2 | R44: 舟橋 健太 | U44: ○
C45: ○ | H45: 3 | J45: 前期 | K45: 月 | L45: 4 | M45: U13C106 | N45: 精神保健福祉援助技術論 | Q45: 4 | R45: 金子 秀明 | U45: ○
C46: ○ | H46: 4 | J46: 前期 | K46: 月 | L46: 4 | M46: U13C108 | N46: ソーシャルワーク演習Ⅲ | P46: 月3 | Q46: 4 | R46: 桐髙 とよみ | S46: クラス指定科目・ポータルサイトのアンケート機能で事前に登録が必要
B47: ○ | H47: 3 | J47: 前期 | K47: 月 | L47: 4 | M47: U14C108 | N47: 参画ゼミナールⅠ | O47: CM04 | Q47: 2 | R47: 松浦 哲郎 | S47: クラス指定科目
A48: ○ | H48: 3 | J48: 後期 | K48: 月 | L48: 4 | M48: U14C501 | N48: 社会学演習ⅠＢ | Q48: 2 | R48: 津島 昌弘 | S48: クラス指定科目
A49: ○ | H49: 3 | J49: 後期 | K49: 月 | L49: 4 | M49: U14C502 | N49: 社会学演習ⅠＢ | Q49: 2 | R49: 閻 美芳 | S49: クラス指定科目
A50: ○ | H50: 4 | J50: 後期 | K50: 月 | L50: 4 | M50: U14C503 | N50: 社会学演習ⅡＢ | Q50: 2 | R50: 清家 竜介 | S50: クラス指定科目
A51: ○ | H51: 4 | J51: 後期 | K51: 月 | L51: 4 | M51: U14C504 | N51: 社会学演習ⅡＢ | Q51: 2 | R51: 津島 昌弘 | S51: クラス指定科目
A52: ○ | B52: ○ | C52: ○ | H52: 2 | J52: 後期 | K52: 月 | L52: 4 | M52: U14C505 | N52: 差別論 | Q52: 2 | R52: 舟橋 健太 | S52: （～２０２４年度入学生まで）学部共通講義（シラバスで卒業要件を確認すること） | U52: ○
D53: ● | E53: ● | F53: ● | G53: ● | I53: 2 | J53: 後期 | K53: 月 | L53: 4 | M53: U14C507 | N53: 差別と排除の社会学 | Q53: 2 | R53: 舟橋 健太 | U53: ○
C54: ○ | H54: 2 | J54: 後期 | K54: 月 | L54: 4 | M54: U13C504 | N54: 地域福祉論 | P54: 月3 | Q54: 4 | R54: 筒井 乃り子 | U54: ○
B55: ○ | H55: 3 | J55: 後期 | K55: 月 | L55: 4 | M55: U14C509 | N55: 参画ゼミナールⅡ | O55: CM04 | Q55: 2 | R55: 松浦 哲郎 | S55: クラス指定科目
A56: ○ | B56: ○ | C56: ○ | D56: ○ | E56: ○ | F56: ○ | G56: ○ | H56: 2 | I56: 2 | J56: 通年 | K56: 月 | L56: 5 | M56: U15C601 | N56: 外国史概説 | Q56: 4 | R56: 村上 亮 | U56: ○
B57: ○ | H57: 1 | J57: 通年 | K57: 月 | L57: 5 | M57: U15C602 | N57: 真宗史 | Q57: 4 | R57: 真名子 晃征 | U57: ○
A58: ○ | B58: ○ | C58: ○ | H58: 3 | J58: 前期 | K58: 月 | L58: 5 | M58: U15C101 | N58: 医療社会学 | Q58: 2 | R58: 笠井 敬太 | S58: （～２０２４年度入学生まで）学部共通講義（シラバスで卒業要件を確認すること） | U58: ○
D59: ● | E59: ○ | F59: ● | G59: ● | I59: 2 | J59: 前期 | K59: 月 | L59: 5 | M59: U15C104 | N59: 健康と病の社会学 | Q59: 2 | R59: 笠井 敬太 | U59: ○
A60: ○ | H60: 3 | J60: 前期 | K60: 月 | L60: 5 | M60: U15C102 | N60: 民俗学 | Q60: 2 | R60: 木村 裕樹 | U60: ○
A61: ○ | H61: 3 | J61: 前期 | K61: 月 | L61: 5 | M61: U15C103 | N61: 民俗学 | O61: 教職 | Q61: 2 | R61: 木村 裕樹 | S61: 指定学生のみ（他学科受講用） 教職
C62: ○ | J62: 前期 | K62: 月 | L62: 5 | M62: U15C105 | N62: 権利擁護と成年後見制度 | O62: 旧旧カリ | Q62: 2 | R62: 桐髙 とよみ | U62: ○
C63: ○ | H63: 2 | J63: 前期 | K63: 月 | L63: 5 | M63: U15C106 | N63: 権利擁護を支える法制度 | Q63: 2 | R63: 桐髙 とよみ | U63: ○
A64: ○ | B64: ○ | C64: ○ | D64: ○ | E64: ○ | F64: ● | G64: ● | H64: 1 | I64: 2 | J64: 後期 | K64: 月 | L64: 5 | M64: U15C504 | N64: 精神保健福祉制度論 | Q64: 2 | R64: 樽井 康彦 | S64: （～２０２４年度入学生まで）学部共通講義（シラバスで卒業要件を確認すること） | U64: ○
A65: ○ | B65: ○ | C65: ○ | H65: 1 | J65: 後期 | K65: 月 | L65: 5 | M65: U15C502 | N65: 地域と語り | Q65: 2 | R65: 塩見 翔 | S65: （～２０２４年度入学生まで）学部共通講義（シラバスで卒業要件を確認すること） | U65: ○
B66: ○ | J66: 後期 | K66: 月 | L66: 5 | M66: U15C503 | N66: 語りから未来を紡ぐ | O66: 旧旧カリ | Q66: 2 | R66: 塩見 翔 | U66: ○
A67: ○ | B67: ○ | C67: ○ | H67: 2 | J67: 前期 | K67: 火 | L67: 1 | M67: U21C101 | N67: 家族福祉論 | Q67: 2 | R67: 浦田 雅夫 | S67: （～２０２４年度入学生まで）学部共通講義（シラバスで卒業要件を確認すること） | U67: ○
D68: ○ | E68: ● | I68: 2 | J68: 前期 | K68: 火 | L68: 1 | M68: U21C102 | N68: 広告と社会 | Q68: 2 | R68: 伊吹 勇亮 | U68: ○
C69: ○ | H69: 2 | I69: 2 | J69: 前期 | K69: 火 | L69: 1 | M69: U21C103 | N69: 社会福祉原論 | P69: 火3 | Q69: 4 | R69: 砂脇 恵 | S69: （～２０２４年度入学生まで）必修科目
D70: ● | E70: ● | F70: ● | G70: ● | H70: 2 | I70: 2 | J70: 前期 | K70: 火 | L70: 1 | M70: U21C109 | N70: 社会福祉原論 | P70: 火3 | Q70: 4 | R70: 砂脇 恵 | S70: ２０２５年度以降入学生対象 | U70: ○
C71: ○ | H71: 3 | J71: 前期 | K71: 火 | L71: 1 | M71: U21C104 | N71: ソーシャルワーク演習Ⅱ | P71: 火2 | Q71: 4 | R71: 芹沢 出 | S71: クラス指定科目・ポータルサイトのアンケート機能で事前に登録が必要
A72: ○ | B72: ○ | C72: ○ | H72: 2 | J72: 前期 | K72: 火 | L72: 1 | M72: U21C106 | N72: 寺院活動論 | Q72: 2 | R72: 井上 見淳 | S72: （～２０２４年度入学生まで）学部共通講義（シラバスで卒業要件を確認すること） | U72: ○
B73: ○ | H73: 1 | J73: 前期 | K73: 火 | L73: 1 | M73: U21C107 | N73: 現代ニュース論Ⅰ | Q73: 2 | R73: 畑仲 哲雄 | U73: ○
A74: ○ | C74: ○ | H74: 2 | J74: 前期 | K74: 火 | L74: 1 | M74: U21C108 | N74: 現代ニュース論Ⅰ | Q74: 2 | R74: 畑仲 哲雄 | S74: （～２０２４年度入学生まで）学部共通講義（シラバスで卒業要件を確認すること） | U74: ○
D75: ● | E75: ● | F75: ○ | G75: ○ | I75: 2 | J75: 後期 | K75: 火 | L75: 1 | M75: U21C501 | N75: 国際文化論 | Q75: 2 | R75: 嶋崎 陽一 | U75: ○
D76: ○ | E76: ○ | F76: ● | G76: ○ | I76: 2 | J76: 後期 | K76: 火 | L76: 1 | M76: U21C502 | N76: 地域とスポーツ | Q76: 2 | R76: 大西 孝之 | U76: ○
B77: ○ | H77: 1 | J77: 後期 | K77: 火 | L77: 1 | M77: U21C514 | N77: 地域スポーツ論 | Q77: 2 | R77: 大西 孝之 | U77: ○
D78: ○ | E78: ○ | F78: ○ | G78: ○ | I78: 2 | J78: 後期 | K78: 火 | L78: 1 | M78: U21C503 | N78: プロジェクトマネジメント論 | Q78: 2 | R78: 澤田 幸子 | S78: 【抽選登録科目】 | T78: ○
A79: ○ | B79: ○ | C79: ○ | H79: 1 | J79: 後期 | K79: 火 | L79: 1 | M79: U21C505 | N79: プロジェクトマネジメント | Q79: 2 | R79: 澤田 幸子 | S79: 【抽選登録科目】（～２０２４入学生）学部共通講義（シラバスで卒業要件を確認すること） | T79: ○
B80: ○ | H80: 1 | J80: 後期 | K80: 火 | L80: 1 | M80: U21C506 | N80: 現代ニュース論Ⅱ | Q80: 2 | R80: 畑仲 哲雄 | U80: ○
A81: ○ | C81: ○ | H81: 2 | J81: 後期 | K81: 火 | L81: 1 | M81: U21C507 | N81: 現代ニュース論Ⅱ | Q81: 2 | R81: 畑仲 哲雄 | S81: （～２０２４年度入学生まで）学部共通講義（シラバスで卒業要件を確認すること） | U81: ○
C82: ○ | J82: 後期 | K82: 火 | L82: 1 | M82: U21C512 | N82: 心理学理論と心理的支援 | O82: 旧旧カリ | Q82: 2 | R82: 赤澤 正人 | U82: ○
C83: ○ | D83: ○ | E83: ○ | F83: ● | G83: ● | H83: 1 | I83: 2 | J83: 後期 | K83: 火 | L83: 1 | M83: U21C513 | N83: 心理学と心理的支援 | Q83: 2 | R83: 赤澤 正人 | U83: ○
A84: ○ | H84: 3 | J84: 前期 | K84: 火 | L84: 2 | M84: U22C101 | N84: 労働社会学 | Q84: 2 | R84: 吉田 秀和 | U84: ○
D85: ○ | E85: ● | F85: ○ | G85: ○ | I85: 1 | J85: 前期 | K85: 火 | L85: 2 | M85: U22C102 | N85: メディア産業論 | Q85: 2 | R85: 岸本 文利 | U85: ○
D86: ● | E86: ● | F86: ○ | G86: ○ | I86: 2 | J86: 前期 | K86: 火 | L86: 2 | M86: U22C103 | N86: ジャーナリズム論 | Q86: 2 | R86: 李 相哲 | U86: ○
A87: ○ | B87: ○ | C87: ○ | H87: 2 | J87: 前期 | K87: 火 | L87: 2 | M87: U22C111 | N87: ジャーナリズム論Ⅰ | Q87: 2 | R87: 李 相哲 | S87: （～２０２４年度入学生まで）学部共通講義（シラバスで卒業要件を確認すること） | U87: ○
D88: ○ | E88: ○ | F88: ○ | G88: ○ | I88: 1 | J88: 前期 | K88: 火 | L88: 2 | M88: U22C104 | N88: プレゼンテーション技法 | Q88: 2 | R88: 坂本 清彦 | U88: ○
C89: ○ | H89: 3 | J89: 前期 | K89: 火 | L89: 2 | M89: U22C105 | N89: 精神障害リハビリテーション論 | Q89: 2 | R89: 和泉 亮 | U89: ○
C90: ○ | H90: 3 | J90: 前期 | K90: 火 | L90: 2 | M90: U21C104 | N90: ソーシャルワーク演習Ⅱ | P90: 火1 | Q90: 4 | R90: 芹沢 出 | S90: クラス指定科目・ポータルサイトのアンケート機能で事前に登録が必要
B91: ○ | H91: 3 | J91: 前期 | K91: 火 | L91: 2 | M91: U22C108 | N91: 参画ゼミナールⅠ | O91: CM12 | Q91: 2 | R91: 数実 浩佑 | S91: クラス指定科目
A92: ○ | B92: ○ | C92: ○ | D92: ○ | E92: ○ | F92: ○ | G92: ○ | H92: 1 | I92: 1 | J92: 前期 | K92: 火 | L92: 2 | M92: U22C109 | N92: キャリアデザイン論 | Q92: 2 | R92: 澤田 幸子 | S92: 【抽選登録科目】、（～２０２４入学生）学部共通講義（シラバスで卒業要件を確認すること） | T92: ○
A93: ○ | B93: ○ | C93: ○ | H93: 3 | J93: 前期 | K93: 火 | L93: 2 | M93: U22C110 | N93: 仏教福祉活動論 | Q93: 2 | R93: 長崎 陽子 | S93: （～２０２４年度入学生まで）学部共通講義（シラバスで卒業要件を確認すること） | U93: ○
B94: ○ | H94: 3 | J94: 前期 | K94: 火 | L94: 2 | M94: U22C119 | N94: 参画ゼミナールⅠ | O94: CM01 | Q94: 2 | R94: 井上 辰樹 | S94: クラス指定科目
E95: ● | I95: 2 | J95: 前期 | K95: 火 | L95: 2 | M95: U22C301 | N95: メディアコンテンツ技法Ⅰ | Q95: 2 | R95: 池﨑 光恭 ほか | S95: 【抽選登録科目】 | T95: ○
A96: ○ | H96: 4 | J96: 後期 | K96: 火 | L96: 2 | M96: U22C501 | N96: 社会学演習ⅡＢ | Q96: 2 | R96: 岸本 文利 | S96: クラス指定科目
D97: ◎ | E97: ◎ | F97: ◎ | G97: ◎ | I97: 1 | J97: 後期 | K97: 火 | L97: 2 | M97: U22C502 | N97: 社会学概論 | Q97: 2 | R97: 村澤 真保呂 吉田 竜司 清家 竜介 | S97: 必修科目
B98: ○ | H98: 3 | J98: 後期 | K98: 火 | L98: 2 | M98: U22C506 | N98: 参画ゼミナールⅡ | O98: CM12 | Q98: 2 | R98: 数実 浩佑 | S98: クラス指定科目
A99: ○ | B99: ○ | C99: ○ | H99: 1 | J99: 後期 | K99: 火 | L99: 2 | M99: U22C507 | N99: コモンセンス論 | Q99: 2 | R99: 貫井 隆 | S99: （～２０２４年度入学生まで）学部共通講義（シラバスで卒業要件を確認すること） | U99: ○
A100: ○ | B100: ○ | C100: ○ | H100: 3 | J100: 後期 | K100: 火 | L100: 2 | M100: U22C508 | N100: 社会教育実習 | Q100: 2 | R100: 竹久 輝顕 | S100: 【抽選登録科目】 | T100: ○
...

Sheet sortby
K1: 10 | N1: 6 | O1: 9 | AN1: 7 | BK1: 3 | BL1: 1 | BM1: 2 | CK1: 8
A2: 社会 | B2: ＣＭ | C2: 福祉 | D2: 総合社会 | E2: 分野① | F2: 分野② | G2: ●主レコード フラグ | H2: 開講年度 | I2: 開講学部 コード | J2: 設置区分 | K2: 時間割番号 | L2: 科目コード | M2: クラスコード | N2: ●授業名 | O2: クラス名 | P2: ●科目開講期 コード | Q2: ●開講曜講時 | R2: ●単位 | S2: ●受講者数 | T2: 主開講 学部コード | U2: 主開講 設置区分 | V2: 主開講 科目コード | W2: 主開講 クラスコード | X2: 履修可能 学部１ | Y2: 履修可能 学部２ | Z2: 履修可能 学部３ | AA2: 履修可能 学部４ | AB2: 履修可能 学部５ | AC2: 履修可能 学部６ | AD2: 履修可能 学部７ | AE2: 履修可能 学部８ | AF2: 履修可能 学部９ | AG2: 履修可能 学部１０ | AH2: 履修辞退 可能フラグ | AI2: 配当年次 FROM | AJ2: 配当年次 TO | AK2: 配当セメスタ FROM | AL2: 配当セメスタ TO | AM2: 配当カリキュラム年度 FROM | AN2: 配当カリキュラム年度 TO | AO2: 履修登録 方法区分 | AP2: 単位互換 区分 | AQ2: 抽選パターン コード | AR2: 抽選状態 コード | AS2: 前期登録 定員 | AT2: 後期登録 定員 | AU2: 採点パターン | AV2: 第１学期 採点フラグ | AW2: 第２学期 採点フラグ | AX2: 履修制限算入 | AY2: 継続評価 | AZ2: ●開講区分 | BA2: 授業評価 アンケート | BB2: 備考（学生への表示項目） | BC2: メモ欄１ | BD2: メモ欄２ | BE2: メモ欄３ | BF2: メモ欄４ | BG2: 施設コード | BH2: 教職員コード | BI2: ●教員名 | BJ2: ●カナ氏名 | BK2: 担当科目 開講期コード | BL2: 担当 曜日コード | BM2: 担当 講時コード | BN2: 担当 順位 | BO2: 担当 授業回数 | BP2: ●担当 前期コマ数 | BQ2: ●担当 後期コマ数 | BR2: ●担当 通年コマ数 | BS2: ●支払４月 | BT2: ●支払５月 | BU2: ●支払６月 | BV2: ●支払７月 | BW2: ●支払８月 | BX2: ●支払９月 | BY2: ●支払１０月 | BZ2: ●支払１１月 | CA2: ●支払１２月 | CB2: ●支払１月 | CC2: ●支払２月 | CD2: ●支払３月 | CE2: ●シラバス 主担当フラグ | CF2: シラバス管理番号 | CG2: シラバス合併番号 | CH2: 講義概要参照先番号 | CI2: シラバス 状態 | CJ2: 演習 サイン | CK2: シラバス用 配当年次Ｆｒｏｍ | CL2: シラバス用 配当年次Ｔｏ | CM2: 属性番号１ | CN2: 属性内 ソートキー１ | CO2: 属性番号２ | CP2: 属性内 ソートキー２ | CQ2: 属性番号３ | CR2: 属性内 ソートキー３ | CS2: 属性番号４ | CT2: 属性内 ソートキー４ | CU2: 属性番号５ | CV2: 属性内 ソートキー５ | CW2: 属性番号６ | CX2: 属性内 ソートキー６ | CY2: 属性番号７ | CZ2: 属性内 ソートキー７ | DA2: 属性番号８ | DB2: 属性内 ソートキー８ | DC2: 属性番号９ | DD2: 属性内 ソートキー９ | DE2: 属性番号１０ | DF2: 属性内 ソートキー１０ | DG2: 履修可能 学科１ | DH2: 履修可能 学科２ | DI2: 履修可能 学科３ | DJ2: 履修可能 学科４ | DK2: 履修可能 学科５ | DL2: 履修可能 学科６ | DM2: 履修可能 学科７ | DN2: 履修可能 学科８ | DO2: 履修可能 学科９ | DP2: 履修可能 学科１０ | DQ2: 備考１ | DR2: 備考２ | DS2: 備考３ | DT2: 備考４ | DU2: 備考５ | DV2: 備考６ | DW2: 備考７ | DX2: 備考８ | DY2: 備考９ | DZ2: 備考１０ | EA2: 加工 | EB2: 加工2 | EC2: 加工3
A3: {=+_xlfn.SORTBY(時間割データ!A3:EC1478,時間割データ!BL3:BL1478,1,時間割データ!BM3:BM1478,1,時間割データ!BK3:BK1478,1,時間割データ!E3:E1478,-1,時間割データ!CK3:CK1478,1,時間割データ!L3:L1478,1,時間割データ!AN3:AN1478,1,時間割データ!K3:K1478,1,時間割データ!L3:L1478,1,時間割データ!N3:N1478,1)} -> 0 | B3: 0 | C3: 0 | D3: ○ | E3: 0 | F3: 0 | G3: 1 | H3: 2025 | I3: C | J3: U | K3: U11C206 | L3: CU25007001 | M3: 001 | N3: 共感とコミュニケーション | O3: 1組 | P3: 02 | Q3: 前期 月１ | R3: 2 | S3: 0 | T3: C | U3: U | V3: CU25007001 | W3: 001 | X3: C | AH3: 0 | AM3: 2025 | AN3: 9999 | AO3: 4 | AP3: 0 | AR3: 0 | AS3: 0 | AT3: 0 | AU3: 1 | AV3: 0 | AW3: 0 | AX3: 1 | AY3: 0 | AZ3: 1 | BA3: 1 | BB3: 必修科目・クラス指定科目 | BG3: 10000000 | BH3: 96131 | BI3: 山田 容 | BJ3: ヤマダ ヨウ | BK3: 02 | BL3: 1 | BM3: 1 | BN3: 1 | BO3: 15 | BP3: 0.00 | BQ3: 0.00 | BR3: 0.00 | BS3: 0 | BT3: 0 | BU3: 0 | BV3: 0 | BW3: 0 | BX3: 0 | BY3: 0 | BZ3: 0 | CA3: 0 | CB3: 0 | CC3: 0 | CD3: 0 | CE3: 1 | CF3: C500700101 | CG3: C300007200 | CI3: 0 | CJ3: 0 | CK3: 1 | CL3: 4 | CM3: C8000 | EA3: 0 | EB3: 0 | EC3: 0
A4: 0 | B4: 0 | C4: 0 | D4: ○ | E4: 0 | F4: 0 | G4: 1 | H4: 2025 | I4: C | J4: U | K4: U11C207 | L4: CU25007001 | M4: 002 | N4: 共感とコミュニケーション | O4: 2組 | P4: 02 | Q4: 前期 月１ | R4: 2 | S4: 0 | T4: C | U4: U | V4: CU25007001 | W4: 002 | X4: C | AH4: 0 | AM4: 2025 | AN4: 9999 | AO4: 4 | AP4: 0 | AR4: 0 | AS4: 0 | AT4: 0 | AU4: 1 | AV4: 0 | AW4: 0 | AX4: 1 | AY4: 0 | AZ4: 1 | BA4: 1 | BB4: 必修科目・クラス指定科目 | BG4: 10000000 | BH4: 19008 | BI4: 中村 美智代 | BJ4: ナカムラ ミチヨ | BK4: 02 | BL4: 1 | BM4: 1 | BN4: 1 | BO4: 15 | BP4: 0.00 | BQ4: 0.00 | BR4: 0.00 | BS4: 0 | BT4: 0 | BU4: 0 | BV4: 0 | BW4: 0 | BX4: 0 | BY4: 0 | BZ4: 0 | CA4: 0 | CB4: 0 | CC4: 0 | CD4: 0 | CE4: 1 | CF4: C500700102 | CG4: C300007200 | CI4: 0 | CJ4: 0 | CK4: 1 | CL4: 4 | CM4: C8000 | EA4: 0 | EB4: 0 | EC4: 0
A5: 0 | B5: 0 | C5: 0 | D5: ○ | E5: 0 | F5: 0 | G5: 1 | H5: 2025 | I5: C | J5: U | K5: U11C208 | L5: CU25007001 | M5: 003 | N5: 共感とコミュニケーション | O5: 3組 | P5: 02 | Q5: 前期 月１ | R5: 2 | S5: 0 | T5: C | U5: U | V5: CU25007001 | W5: 003 | X5: C | AH5: 0 | AM5: 2025 | AN5: 9999 | AO5: 4 | AP5: 0 | AR5: 0 | AS5: 0 | AT5: 0 | AU5: 1 | AV5: 0 | AW5: 0 | AX5: 1 | AY5: 0 | AZ5: 1 | BA5: 1 | BB5: 必修科目・クラス指定科目 | BG5: 10000000 | BH5: 09034 | BI5: 村田 智美 | BJ5: ムラタ トモミ | BK5: 02 | BL5: 1 | BM5: 1 | BN5: 1 | BO5: 15 | BP5: 0.00 | BQ5: 0.00 | BR5: 0.00 | BS5: 0 | BT5: 0 | BU5: 0 | BV5: 0 | BW5: 0 | BX5: 0 | BY5: 0 | BZ5: 0 | CA5: 0 | CB5: 0 | CC5: 0 | CD5: 0 | CE5: 1 | CF5: C500700103 | CG5: C300007200 | CI5: 0 | CJ5: 0 | CK5: 1 | CL5: 4 | CM5: C8000 | EA5: 0 | EB5: 0 | EC5: 0
A6: ○ | B6: ○ | C6: ○ | D6: 0 | E6: 0 | F6: 0 | G6: 1 | H6: 2025 | I6: C | J6: U | K6: U11C203 | L6: CU81600150 | M6: 001 | N6: 支援コミュニケーション論 | O6: 1組 | P6: 02 | Q6: 前期 月１ | R6: 2 | S6: 0 | T6: C | U6: U | V6: CU81600150 | W6: 001 | X6: C | AH6: 1 | AM6: 2016 | AN6: 9999 | AO6: 2 | AP6: 0 | AQ6: C900 | AR6: 0 | AS6: 9999 | AT6: 9999 | AU6: 0 | AV6: 1 | AW6: 0 | AX6: 1 | AY6: 0 | AZ6: 1 | BA6: 1 | BB6: 学部共通講義（シラバスで卒業要件を確認すること） | BC6: 現代福祉・６ｅ | BG6: 10000000 | BH6: 96131 | BI6: 山田 容 | BJ6: ヤマダ ヨウ | BK6: 02 | BL6: 1 | BM6: 1 | BN6: 1 | BO6: 15 | BP6: 0.00 | BQ6: 0.00 | BR6: 0.00 | BS6: 0 | BT6: 0 | BU6: 0 | BV6: 0 | BW6: 0 | BX6: 0 | BY6: 0 | BZ6: 0 | CA6: 0 | CB6: 0 | CC6: 0 | CD6: 0 | CE6: 1 | CF6: C300007200 | CG6: C300007200 | CI6: 0 | CJ6: 0 | CK6: 2 | CL6: 4 | CM6: C2100 | CO6: C2200 | CQ6: C2300 | DR6: 学部共通講義（現代福祉学科提供） | DS6: 卒業要件単位に含まれるのは上限１６単位まで（社会学科・コミュニティマネジメント学科） | EA6: 0 | EB6: 0 | EC6: 0
A7: ○ | B7: ○ | C7: ○ | D7: 0 | E7: 0 | F7: 0 | G7: 1 | H7: 2025 | I7: C | J7: U | K7: U11C204 | L7: CU81600150 | M7: 002 | N7: 支援コミュニケーション論 | O7: 2組 | P7: 02 | Q7: 前期 月１ | R7: 2 | S7: 0 | T7: C | U7: U | V7: CU81600150 | W7: 002 | X7: C | AH7: 1 | AM7: 2016 | AN7: 9999 | AO7: 2 | AP7: 0 | AQ7: C900 | AR7: 0 | AS7: 9999 | AT7: 9999 | AU7: 0 | AV7: 1 | AW7: 0 | AX7: 1 | AY7: 0 | AZ7: 1 | BA7: 1 | BB7: 学部共通講義（シラバスで卒業要件を確認すること） | BC7: 現代福祉・６ｅ | BG7: 10000000 | BH7: 19008 | BI7: 中村 美智代 | BJ7: ナカムラ ミチヨ | BK7: 02 | BL7: 1 | BM7: 1 | BN7: 1 | BO7: 15 | BP7: 0.00 | BQ7: 0.00 | BR7: 0.00 | BS7: 0 | BT7: 0 | BU7: 0 | BV7: 0 | BW7: 0 | BX7: 0 | BY7: 0 | BZ7: 0 | CA7: 0 | CB7: 0 | CC7: 0 | CD7: 0 | CE7: 1 | CF7: C300007201 | CG7: C300007200 | CI7: 0 | CJ7: 0 | CK7: 2 | CL7: 4 | CM7: C2100 | CO7: C2200 | CQ7: C2300 | DR7: 学部共通講義（現代福祉学科提供） | DS7: 卒業要件単位に含まれるのは上限１６単位まで（社会学科・コミュニティマネジメント学科） | EA7: 0 | EB7: 0 | EC7: 0
A8: ○ | B8: ○ | C8: ○ | D8: 0 | E8: 0 | F8: 0 | G8: 1 | H8: 2025 | I8: C | J8: U | K8: U11C205 | L8: CU81600150 | M8: 003 | N8: 支援コミュニケーション論 | O8: 3組 | P8: 02 | Q8: 前期 月１ | R8: 2 | S8: 0 | T8: C | U8: U | V8: CU81600150 | W8: 003 | X8: C | AH8: 1 | AM8: 2016 | AN8: 9999 | AO8: 2 | AP8: 0 | AQ8: C900 | AR8: 0 | AS8: 9999 | AT8: 9999 | AU8: 0 | AV8: 1 | AW8: 0 | AX8: 1 | AY8: 0 | AZ8: 1 | BA8: 1 | BB8: 学部共通講義（シラバスで卒業要件を確認すること） | BC8: 現代福祉・６ｅ | BG8: 10000000 | BH8: 09034 | BI8: 村田 智美 | BJ8: ムラタ トモミ | BK8: 02 | BL8: 1 | BM8: 1 | BN8: 1 | BO8: 15 | BP8: 0.00 | BQ8: 0.00 | BR8: 0.00 | BS8: 0 | BT8: 0 | BU8: 0 | BV8: 0 | BW8: 0 | BX8: 0 | BY8: 0 | BZ8: 0 | CA8: 0 | CB8: 0 | CC8: 0 | CD8: 0 | CE8: 1 | CF8: C300007202 | CG8: C300007200 | CI8: 0 | CJ8: 0 | CK8: 2 | CL8: 4 | CM8: C2100 | CO8: C2200 | CQ8: C2300 | DR8: 学部共通講義（現代福祉学科提供） | DS8: 卒業要件単位に含まれるのは上限１６単位まで（社会学科・コミュニティマネジメント学科） | EA8: 0 | EB8: 0 | EC8: 0
C9: ○ | D9: 0 | E9: 0 | F9: 0 | G9: 1 | H9: 2025 | I9: C | J9: U | K9: U11C202 | L9: CU45200000 | M9: 002 | N9: ソーシャルワーク演習Ⅲ | P9: 02 | Q9: 前期 月１、月２ | R9: 4 | S9: 0 | T9: C | U9: U | V9: CU45200000 | W9: 002 | X9: C | AH9: 0 | AM9: 0000 | AN9: 9999 | AO9: 4 | AP9: 0 | AR9: 0 | AS9: 0 | AT9: 0 | AU9: 0 | AV9: 1 | AW9: 0 | AX9: 1 | AY9: 0 | AZ9: 1 | BA9: 0 | BB9: クラス指定科目・ポータルサイトのアンケート機能で事前に登録が必要 | BC9: 現代福祉・５ | BG9: 10000000 | BH9: 22275 | BI9: 塩田 祥子 | BJ9: シオタ ショウコ | BK9: 02 | BL9: 1 | BM9: 1 | BN9: 1 | BO9: 15 | BP9: 0.00 | BQ9: 0.00 | BR9: 0.00 | BS9: 0 | BT9: 0 | BU9: 0 | BV9: 0 | BW9: 0 | BX9: 0 | BY9: 0 | BZ9: 0 | CA9: 0 | CB9: 0 | CC9: 0 | CD9: 0 | CE9: 1 | CF9: C3SW300200 | CG9: C3SW300100 | CI9: 0 | CJ9: 0 | CK9: 4 | CL9: 4 | CM9: C2300 | DV9: 社会福祉士指定科目 | EA9: 0 | EB9: 0 | EC9: 0
A10: ○ | D10: 0 | E10: 0 | F10: 0 | G10: 1 | H10: 2025 | I10: C | J10: U | K10: U11C301 | L10: CU11105000 | M10: 007 | N10: 社会学基礎ゼミナール | P10: 03 | Q10: 後期 月１ | R10: 2 | S10: 0 | T10: C | U10: U | V10: CU11105000 | W10: 007 | X10: C | AH10: 0 | AM10: 0000 | AN10: 9999 | AO10: 4 | AP10: 0 | AR10: 0 | AS10: 0 | AT10: 0 | AU10: 0 | AV10: 0 | AW10: 1 | AX10: 1 | AY10: 0 | AZ10: 1 | BA10: 1 | BB10: クラス指定科目 | BC10: 社会・１ | BG10: 10000000 | BH10: 16005 | BI10: 清家 竜介 | BJ10: セイケ リュウスケ | BK10: 03 | BL10: 1 | BM10: 1 | BN10: 1 | BO10: 15 | BP10: 0.00 | BQ10: 0.00 | BR10: 0.00 | BS10: 0 | BT10: 0 | BU10: 0 | BV10: 0 | BW10: 0 | BX10: 0 | BY10: 0 | BZ10: 0 | CA10: 0 | CB10: 0 | CC10: 0 | CD10: 0 | CE10: 1 | CF10: C1SEM00270 | CG10: C1SEM00290 | CI10: 0 | CJ10: 0 | CK10: 2 | CL10: 4 | CM10: C2100 | EA10: 0 | EB10: 0 | EC10: 0
A11: ○ | D11: ○ | E11: 0 | F11: 0 | G11: 1 | H11: 2025 | I11: C | J11: U | K11: U12C201 | L11: CU11135000 | M11: 001 | N11: 社会調査入門 | P11: 02 | Q11: 前期 月２ | R11: 2 | S11: 0 | T11: C | U11: U | V11: CU11135000 | W11: 001 | X11: C | AH11: 0 | AM11: 0000 | AN11: 9999 | AO11: 4 | AP11: 0 | AR11: 0 | AS11: 0 | AT11: 0 | AU11: 0 | AV11: 1 | AW11: 0 | AX11: 1 | AY11: 0 | AZ11: 1 | BA11: 1 | BB11: 0 | BC11: 社会・６ａ | BG11: 10000000 | BH11: 11014 | BI11: 猪瀬 優理 | BJ11: イノセ ユリ | BK11: 02 | BL11: 1 | BM11: 2 | BN11: 1 | BO11: 5 | BP11: 0.00 | BQ11: 0.00 | BR11: 0.00 | BS11: 0 | BT11: 0 | BU11: 0 | BV11: 0 | BW11: 0 | BX11: 0 | BY11: 0 | BZ11: 0 | CA11: 0 | CB11: 0 | CC11: 0 | CD11: 0 | CE11: 1 | CF11: C100000100 | CG11: C100000100 | CI11: 0 | CJ11: 0 | CK11: 1 | CL11: 4 | CM11: C2100 | CO11: C8000 | EA11: 0 | EB11: 0 | EC11: 0
A12: ○ | D12: ○ | E12: 0 | F12: 0 | G12: 1 | H12: 2025 | I12: C | J12: U | K12: U12C201 | L12: CU11135000 | M12: 001 | N12: 社会調査入門 | P12: 02 | Q12: 前期 月２ | R12: 2 | S12: 0 | T12: C | U12: U | V12: CU11135000 | W12: 001 | X12: C | AH12: 0 | AM12: 0000 | AN12: 9999 | AO12: 4 | AP12: 0 | AR12: 0 | AS12: 0 | AT12: 0 | AU12: 0 | AV12: 1 | AW12: 0 | AX12: 1 | AY12: 0 | AZ12: 1 | BA12: 1 | BB12: 0 | BC12: 社会・６ａ | BG12: 10000000 | BH12: 22004 | BI12: 松岡 亮二 | BJ12: マツオカ リョウジ | BK12: 02 | BL12: 1 | BM12: 2 | BN12: 2 | BO12: 5 | BP12: 0.00 | BQ12: 0.00 | BR12: 0.00 | BS12: 0 | BT12: 0 | BU12: 0 | BV12: 0 | BW12: 0 | BX12: 0 | BY12: 0 | BZ12: 0 | CA12: 0 | CB12: 0 | CC12: 0 | CD12: 0 | CE12: 1 | CF12: C100000101 | CG12: C100000100 | CI12: 0 | CJ12: 0 | CK12: 1 | CL12: 4 | CM12: C2100 | CO12: C8000 | EA12: 0 | EB12: 0 | EC12: 0
A13: ○ | D13: ○ | E13: 0 | F13: 0 | G13: 1 | H13: 2025 | I13: C | J13: U | K13: U12C201 | L13: CU11135000 | M13: 001 | N13: 社会調査入門 | P13: 02 | Q13: 前期 月２ | R13: 2 | S13: 0 | T13: C | U13: U | V13: CU11135000 | W13: 001 | X13: C | AH13: 0 | AM13: 0000 | AN13: 9999 | AO13: 4 | AP13: 0 | AR13: 0 | AS13: 0 | AT13: 0 | AU13: 0 | AV13: 1 | AW13: 0 | AX13: 1 | AY13: 0 | AZ13: 1 | BA13: 1 | BB13: 0 | BC13: 社会・６ａ | BG13: 10000000 | BH13: 25008 | BI13: 数実 浩佑 | BJ13: カズミ コウスケ | BK13: 02 | BL13: 1 | BM13: 2 | BN13: 3 | BO13: 5 | BP13: 0.00 | BQ13: 0.00 | BR13: 0.00 | BS13: 0 | BT13: 0 | BU13: 0 | BV13: 0 | BW13: 0 | BX13: 0 | BY13: 0 | BZ13: 0 | CA13: 0 | CB13: 0 | CC13: 0 | CD13: 0 | CE13: 1 | CF13: C100000102 | CG13: C100000100 | CI13: 0 | CJ13: 0 | CK13: 1 | CL13: 4 | CM13: C2100 | CO13: C8000 | EA13: 0 | EB13: 0 | EC13: 0
A14: ○ | D14: 0 | E14: 0 | F14: 0 | G14: 1 | H14: 2025 | I14: C | J14: U | K14: U12C206 | L14: CU12645000 | M14: 001 | N14: 社会統計学Ⅱ | P14: 02 | Q14: 前期 月２ | R14: 2 | S14: 0 | T14: C | U14: U | V14: CU12645000 | W14: 001 | X14: C | AH14: 1 | AM14: 0000 | AN14: 9999 | AO14: 2 | AP14: 0 | AQ14: C900 | AR14: 0 | AS14: 9999 | AT14: 9999 | AU14: 0 | AV14: 1 | AW14: 0 | AX14: 1 | AY14: 0 | AZ14: 1 | BA14: 1 | BC14: 社会・６ｂ | BG14: 10000000 | BH14: 00014 | BI14: 津島 昌弘 | BJ14: ツシマ マサヒロ | BK14: 02 | BL14: 1 | BM14: 2 | BN14: 1 | BO14: 15 | BP14: 0.00 | BQ14: 0.00 | BR14: 0.00 | BS14: 0 | BT14: 0 | BU14: 0 | BV14: 0 | BW14: 0 | BX14: 0 | BY14: 0 | BZ14: 0 | CA14: 0 | CB14: 0 | CC14: 0 | CD14: 0 | CE14: 1 | CF14: C100005700 | CG14: C100005700 | CI14: 0 | CJ14: 0 | CK14: 2 | CL14: 4 | CM14: C2100 | DR14: 社会調査士課程科目 | EA14: 0 | EB14: 0 | EC14: 0
C15: ○ | D15: 0 | E15: 0 | F15: 0 | G15: 1 | H15: 2025 | I15: C | J15: U | K15: U12C207 | L15: CU45111000 | M15: 001 | N15: 刑事司法と福祉 | P15: 02 | Q15: 前期 月２ | R15: 2 | S15: 0 | T15: C | U15: U | V15: CU45111000 | W15: 001 | X15: C | AH15: 1 | AI15: 2 | AJ15: 4 | AM15: 2021 | AN15: 9999 | AO15: 2 | AP15: 0 | AQ15: C900 | AR15: 2 | AS15: 9999 | AT15: 9999 | AU15: 0 | AV15: 1 | AW15: 0 | AX15: 1 | AY15: 0 | AZ15: 1 | BA15: 1 | BC15: 現代福祉・６ｂ | BG15: 10000000 | BH15: 19333 | BI15: 掛川 直之 | BJ15: カケガワ ナオユキ | BK15: 02 | BL15: 1 | BM15: 2 | BN15: 1 | BO15: 15 | BP15: 0.00 | BQ15: 0.00 | BR15: 0.00 | BS15: 0 | BT15: 0 | BU15: 0 | BV15: 0 | BW15: 0 | BX15: 0 | BY15: 0 | BZ15: 0 | CA15: 0 | CB15: 0 | CC15: 0 | CD15: 0 | CE15: 1 | CF15: C300991600 | CG15: C300991600 | CI15: 0 | CJ15: 0 | CK15: 2 | CL15: 4 | CM15: C2300 | DU15: ２０２１年度以降入学生用 | DV15: 社会福祉士指定科目 | DW15: 精神保健福祉士指定科目 | EA15: 0 | EB15: 0 | EC15: 0
B16: ○ | D16: 0 | E16: 0 | F16: 0 | G16: 1 | H16: 2025 | I16: C | J16: U | K16: U12C209 | L16: CU60050000 | M16: 007 | N16: 参画ゼミナールⅠ | O16: CM09 | P16: 02 | Q16: 前期 月２ | R16: 2 | S16: 0 | T16: C | U16: U | V16: CU60050000 | W16: 007 | X16: C | AH16: 0 | AM16: 0000 | AN16: 9999 | AO16: 4 | AP16: 0 | AR16: 0 | AS16: 0 | AT16: 0 | AU16: 0 | AV16: 1 | AW16: 0 | AX16: 1 | AY16: 0 | AZ16: 1 | BA16: 1 | BB16: クラス指定科目 | BC16: ＣＭ・１ | BG16: 10000000 | BH16: 98015 | BI16: 李 相哲 | BJ16: リ ソウテツ | BK16: 02 | BL16: 1 | BM16: 2 | BN16: 1 | BO16: 15 | BP16: 0.00 | BQ16: 0.00 | BR16: 0.00 | BS16: 0 | BT16: 0 | BU16: 0 | BV16: 0 | BW16: 0 | BX16: 0 | BY16: 0 | BZ16: 0 | CA16: 0 | CB16: 0 | CC16: 0 | CD16: 0 | CE16: 1 | CF16: C2SEM30090 | CG16: C2SEM30020 | CI16: 0 | CJ16: 0 | CK16: 3 | CL16: 4 | CM16: C2200 | EA16: 0 | EB16: 0 | EC16: 0
C17: ○ | D17: 0 | E17: 0 | F17: 0 | G17: 1 | H17: 2025 | I17: C | J17: U | K17: U11C202 | L17: CU45200000 | M17: 002 | N17: ソーシャルワーク演習Ⅲ | P17: 02 | Q17: 前期 月１、月２ | R17: 4 | S17: 0 | T17: C | U17: U | V17: CU45200000 | W17: 002 | X17: C | AH17: 0 | AM17: 0000 | AN17: 9999 | AO17: 4 | AP17: 0 | AR17: 0 | AS17: 0 | AT17: 0 | AU17: 0 | AV17: 1 | AW17: 0 | AX17: 1 | AY17: 0 | AZ17: 1 | BA17: 0 | BB17: クラス指定科目・ポータルサイトのアンケート機能で事前に登録が必要 | BC17: 現代福祉・５ | BG17: 10000000 | BH17: 22275 | BI17: 塩田 祥子 | BJ17: シオタ ショウコ | BK17: 02 | BL17: 1 | BM17: 2 | BN17: 1 | BO17: 15 | BP17: 0.00 | BQ17: 0.00 | BR17: 0.00 | BS17: 0 | BT17: 0 | BU17: 0 | BV17: 0 | BW17: 0 | BX17: 0 | BY17: 0 | BZ17: 0 | CA17: 0 | CB17: 0 | CC17: 0 | CD17: 0 | CE17: 1 | CF17: C3SW300200 | CG17: C3SW300100 | CI17: 0 | CJ17: 0 | CK17: 4 | CL17: 4 | CM17: C2300 | DV17: 社会福祉士指定科目 | EA17: 0 | EB17: 0 | EC17: 0
A18: ○ | D18: ○ | E18: 0 | F18: 0 | G18: 1 | H18: 2025 | I18: C | J18: U | K18: U12C304 | L18: CU12635000 | M18: 001 | N18: 社会統計学Ⅰ | P18: 03 | Q18: 後期 月２ | R18: 2 | S18: 0 | T18: C | U18: U | V18: CU12635000 | W18: 001 | X18: C | AH18: 1 | AM18: 0000 | AN18: 9999 | AO18: 2 | AP18: 0 | AQ18: C100 | AR18: 2 | AS18: 50 | AT18: 50 | AU18: 0 | AV18: 0 | AW18: 1 | AX18: 1 | AY18: 0 | AZ18: 1 | BA18: 1 | BC18: 社会・６ｂ | BG18: 10000000 | BH18: 01010 | BI18: 黒田 浩一郎 | BJ18: クロダ コウイチロウ | BK18: 03 | BL18: 1 | BM18: 2 | BN18: 1 | BO18: 15 | BP18: 0.00 | BQ18: 0.00 | BR18: 0.00 | BS18: 0 | BT18: 0 | BU18: 0 | BV18: 0 | BW18: 0 | BX18: 0 | BY18: 0 | BZ18: 0 | CA18: 0 | CB18: 0 | CC18: 0 | CD18: 0 | CE18: 1 | CF18: C100005610 | CG18: C100005620 | CI18: 0 | CJ18: 0 | CK18: 1 | CL18: 4 | CM18: C2100 | CO18: C8000 | DR18: 社会調査士課程科目 | EA18: 0 | EB18: 0 | EC18: 0
A19: ○ | D19: ○ | E19: 0 | F19: 0 | G19: 1 | H19: 2025 | I19: C | J19: U | K19: U12C305 | L19: CU12635000 | M19: 002 | N19: 社会統計学Ⅰ | P19: 03 | Q19: 後期 月２ | R19: 2 | S19: 0 | T19: C | U19: U | V19: CU12635000 | W19: 002 | X19: C | AH19: 1 | AM19: 0000 | AN19: 9999 | AO19: 2 | AP19: 0 | AQ19: C100 | AR19: 2 | AS19: 50 | AT19: 50 | AU19: 0 | AV19: 0 | AW19: 1 | AX19: 1 | AY19: 0 | AZ19: 1 | BA19: 1 | BC19: 社会・６ｂ | BG19: 10000000 | BH19: 00014 | BI19: 津島 昌弘 | BJ19: ツシマ マサヒロ | BK19: 03 | BL19: 1 | BM19: 2 | BN19: 1 | BO19: 15 | BP19: 0.00 | BQ19: 0.00 | BR19: 0.00 | BS19: 0 | BT19: 0 | BU19: 0 | BV19: 0 | BW19: 0 | BX19: 0 | BY19: 0 | BZ19: 0 | CA19: 0 | CB19: 0 | CC19: 0 | CD19: 0 | CE19: 1 | CF19: C100005620 | CG19: C100005620 | CI19: 0 | CJ19: 0 | CK19: 1 | CL19: 4 | CM19: C2100 | CO19: C8000 | DR19: 社会調査士課程科目 | EA19: 0 | EB19: 0 | EC19: 0
B20: ○ | D20: 0 | E20: 0 | F20: 0 | G20: 1 | H20: 2025 | I20: C | J20: U | K20: U12C310 | L20: CU60060000 | M20: 007 | N20: 参画ゼミナールⅡ | O20: CM09 | P20: 03 | Q20: 後期 月２ | R20: 2 | S20: 0 | T20: C | U20: U | V20: CU60060000 | W20: 007 | X20: C | AH20: 0 | AM20: 0000 | AN20: 9999 | AO20: 4 | AP20: 0 | AR20: 0 | AS20: 0 | AT20: 0 | AU20: 0 | AV20: 0 | AW20: 1 | AX20: 1 | AY20: 0 | AZ20: 1 | BA20: 1 | BB20: クラス指定科目 | BC20: ＣＭ・１ | BG20: 10000000 | BH20: 98015 | BI20: 李 相哲 | BJ20: リ ソウテツ | BK20: 03 | BL20: 1 | BM20: 2 | BN20: 1 | BO20: 15 | BP20: 0.00 | BQ20: 0.00 | BR20: 0.00 | BS20: 0 | BT20: 0 | BU20: 0 | BV20: 0 | BW20: 0 | BX20: 0 | BY20: 0 | BZ20: 0 | CA20: 0 | CB20: 0 | CC20: 0 | CD20: 0 | CE20: 1 | CF20: C2SEM30290 | CG20: C2SEM30220 | CI20: 0 | CJ20: 0 | CK20: 3 | CL20: 4 | CM20: C2200 | EA20: 0 | EB20: 0 | EC20: 0
B21: ○ | D21: 0 | E21: 0 | F21: 0 | G21: 1 | H21: 2025 | I21: C | J21: U | K21: U13C126 | L21: CU64991000 | M21: 001 | N21: コミュニティマネジメント特論 | P21: 01 | Q21: 通年 月３ | R21: 4 | S21: 0 | T21: C | U21: U | V21: CU64991000 | W21: 001 | X21: C | AH21: 1 | AM21: 0000 | AN21: 2019 | AO21: 2 | AP21: 0 | AQ21: C100 | AR21: 0 | AS21: 9999 | AT21: 9999 | AU21: 0 | AV21: 0 | AW21: 1 | AX21: 1 | AY21: 0 | AZ21: 1 | BA21: 1 | BC21: ＣＭ・６ｅ 合併① コマ数０ | BG21: 10000000 | BH21: 18269 | BI21: 華 京碩 | BJ21: カ キョウセキ | BK21: 01 | BL21: 1 | BM21: 3 | BN21: 1 | BO21: 30 | BP21: 0.00 | BQ21: 0.00 | BR21: 0.00 | BS21: 0 | BT21: 0 | BU21: 0 | BV21: 0 | BW21: 0 | BX21: 0 | BY21: 0 | BZ21: 0 | CA21: 0 | CB21: 0 | CC21: 0 | CD21: 0 | CE21: 1 | CF21: C200006900 | CG21: C200006900 | CI21: 0 | CJ21: 0 | CK21: 1 | CL21: 4 | CM21: C2200 | EA21: 0 | EB21: 0 | EC21: 0
A22: ○ | B22: ○ | C22: ○ | D22: 0 | E22: 0 | F22: 0 | G22: 1 | H22: 2025 | I22: C | J22: U | K22: U13C113 | L22: CU13130000 | M22: 001 | N22: 政治学概論 | P22: 01 | Q22: 通年 月３ | R22: 4 | S22: 0 | T22: C | U22: U | V22: CU13130000 | W22: 001 | X22: C | AH22: 1 | AM22: 0000 | AN22: 9999 | AO22: 2 | AP22: 0 | AQ22: C900 | AR22: 0 | AS22: 9999 | AT22: 9999 | AU22: 0 | AV22: 0 | AW22: 1 | AX22: 1 | AY22: 0 | AZ22: 1 | BA22: 1 | BC22: 社会・６ｅ 専攻（固有）関連科目 | BG22: 10000000 | BH22: 24203 | BI22: 井元 拓斗 | BJ22: イモト タクト | BK22: 01 | BL22: 1 | BM22: 3 | BN22: 1 | BO22: 30 | BP22: 0.00 | BQ22: 0.00 | BR22: 0.00 | BS22: 0 | BT22: 0 | BU22: 0 | BV22: 0 | BW22: 0 | BX22: 0 | BY22: 0 | BZ22: 0 | CA22: 0 | CB22: 0 | CC22: 0 | CD22: 0 | CE22: 1 | CF22: C000000200 | CG22: C000000200 | CI22: 0 | CJ22: 0 | CK22: 2 | CL22: 4 | CM22: C2100 | CO22: C2200 | CQ22: C2300 | EA22: 0 | EB22: 0 | EC22: 0
C23: ○ | D23: 0 | E23: 0 | F23: 0 | G23: 1 | H23: 2025 | I23: C | J23: U | K23: U13C216 | L23: CU45071000 | M23: 001 | N23: ソーシャルワークの基盤と専門職 | P23: 02 | Q23: 前期 月３ | R23: 2 | S23: 0 | T23: C | U23: U | V23: CU45071000 | W23: 001 | X23: C | AH23: 0 | AM23: 2021 | AN23: 9999 | AO23: 4 | AP23: 0 | AR23: 0 | AS23: 0 | AT23: 0 | AU23: 0 | AV23: 1 | AW23: 0 | AX23: 1 | AY23: 0 | AZ23: 1 | BA23: 1 | BB23: 必修科目 | BC23: 現代福祉・６ａ 合併③ | BG23: 10000000 | BH23: 96131 | BI23: 山田 容 | BJ23: ヤマダ ヨウ | BK23: 02 | BL23: 1 | BM23: 3 | BN23: 1 | BO23: 15 | BP23: 0.00 | BQ23: 0.00 | BR23: 0.00 | BS23: 0 | BT23: 0 | BU23: 0 | BV23: 0 | BW23: 0 | BX23: 0 | BY23: 0 | BZ23: 0 | CA23: 0 | CB23: 0 | CC23: 0 | CD23: 0 | CE23: 1 | CF23: C300004501 | CG23: C300004501 | CI23: 0 | CJ23: 0 | CK23: 1 | CL23: 4 | CM23: C2300 | DU23: ２０２１年度以降入学生用 | DV23: 社会福祉士指定科目 | DW23: 精神保健福祉士指定科目 | EA23: 0 | EB23: 0 | EC23: 0
B24: ○ | D24: 0 | E24: 0 | F24: 0 | G24: 1 | H24: 2025 | I24: C | J24: U | K24: U13C224 | L24: CU62091010 | M24: 001 | N24: コミュニティマネジメント特論１Ａ | P24: 02 | Q24: 前期 月３ | R24: 2 | S24: 0 | T24: C | U24: U | V24: CU62091010 | W24: 001 | X24: C | AH24: 1 | AM24: 2020 | AN24: 9999 | AO24: 4 | AP24: 0 | AR24: 0 | AS24: 9999 | AT24: 9999 | AU24: 0 | AV24: 1 | AW24: 0 | AX24: 1 | AY24: 0 | AZ24: 1 | BA24: 1 | BC24: ＣＭ・６ｅ 合併① | BG24: 10000000 | BH24: 18269 | BI24: 華 京碩 | BJ24: カ キョウセキ | BK24: 02 | BL24: 1 | BM24: 3 | BN24: 1 | BO24: 15 | BP24: 0.00 | BQ24: 0.00 | BR24: 0.00 | BS24: 0 | BT24: 0 | BU24: 0 | BV24: 0 | BW24: 0 | BX24: 0 | BY24: 0 | BZ24: 0 | CA24: 0 | CB24: 0 | CC24: 0 | CD24: 0 | CE24: 1 | CF24: C500000600 | CG24: C500000600 | CI24: 0 | CJ24: 0 | CK24: 1 | CL24: 4 | CM24: C2200 | DU24: ２０２０年度以降入学生用 | EA24: 0 | EB24: 0 | EC24: 0
A25: ○ | D25: 0 | E25: 0 | F25: 0 | G25: 1 | H25: 2025 | I25: C | J25: U | K25: U13C201 | L25: CU11600090 | M25: 001 | N25: 社会学の展開 | O25: 社会01組 | P25: 02 | Q25: 前期 月３ | R25: 2 | S25: 0 | T25: C | U25: U | V25: CU11600090 | W25: 001 | X25: C | AH25: 1 | AM25: 2016 | AN25: 9999 | AO25: 2 | AP25: 0 | AQ25: C900 | AR25: 0 | AS25: 9999 | AT25: 9999 | AU25: 0 | AV25: 1 | AW25: 0 | AX25: 1 | AY25: 0 | AZ25: 1 | BA25: 1 | BC25: 社会・６ｅ | BG25: 10000000 | BH25: 16005 | BI25: 清家 竜介 | BJ25: セイケ リュウスケ | BK25: 02 | BL25: 1 | BM25: 3 | BN25: 1 | BO25: 15 | BP25: 0.00 | BQ25: 0.00 | BR25: 0.00 | BS25: 0 | BT25: 0 | BU25: 0 | BV25: 0 | BW25: 0 | BX25: 0 | BY25: 0 | BZ25: 0 | CA25: 0 | CB25: 0 | CC25: 0 | CD25: 0 | CE25: 1 | CF25: C100000800 | CG25: C100000800 | CI25: 0 | CJ25: 0 | CK25: 2 | CL25: 4 | CM25: C2100 | EA25: 0 | EB25: 0 | EC25: 0
A26: ○ | D26: 0 | E26: 0 | F26: 0 | G26: 1 | H26: 2025 | I26: C | J26: U | K26: U13C202 | L26: CU11600090 | M26: 002 | N26: 社会学の展開 | O26: 教職 | P26: 02 | Q26: 前期 月３ | R26: 2 | S26: 0 | T26: C | U26: U | V26: CU11600090 | W26: 002 | X26: C | AH26: 0 | AM26: 2016 | AN26: 9999 | AO26: 4 | AP26: 0 | AR26: 0 | AS26: 0 | AT26: 0 | AU26: 0 | AV26: 1 | AW26: 0 | AX26: 0 | AY26: 0 | AZ26: 1 | BA26: 1 | BB26: 指定学生のみ（他学科受講用） 教職 | BC26: 社会・６ｅ 履修制限フラグ外す、履修登録方法区分４、新カリ | BG26: 10000000 | BH26: 16005 | BI26: 清家 竜介 | BJ26: セイケ リュウスケ | BK26: 02 | BL26: 1 | BM26: 3 | BN26: 1 | BO26: 15 | BP26: 0.00 | BQ26: 0.00 | BR26: 0.00 | BS26: 0 | BT26: 0 | BU26: 0 | BV26: 0 | BW26: 0 | BX26: 0 | BY26: 0 | BZ26: 0 | CA26: 0 | CB26: 0 | CC26: 0 | CD26: 0 | CE26: 1 | CF26: C100000810 | CG26: C100000800 | CI26: 0 | CJ26: 0 | CK26: 2 | CL26: 4 | CM26: C2100 | EA26: 0 | EB26: 0 | EC26: 0
A27: ○ | B27: ○ | C27: ○ | D27: 0 | E27: 0 | F27: 0 | G27: 1 | H27: 2025 | I27: C | J27: U | K27: U13C205 | L27: CU11600190 | M27: 001 | N27: 社会問題の社会学 | P27: 02 | Q27: 前期 月３ | R27: 2 | S27: 0 | T27: C | U27: U | V27: CU11600190 | W27: 001 | X27: C | AH27: 1 | AM27: 2016 | AN27: 9999 | AO27: 2 | AP27: 0 | AQ27: C900 | AR27: 0 | AS27: 9999 | AT27: 9999 | AU27: 0 | AV27: 1 | AW27: 0 | AX27: 1 | AY27: 0 | AZ27: 1 | BA27: 1 | BB27: 学部共通講義（シラバスで卒業要件を確認すること） | BC27: 社会・６ｅ | BG27: 10000000 | BH27: 01010 | BI27: 黒田 浩一郎 | BJ27: クロダ コウイチロウ | BK27: 02 | BL27: 1 | BM27: 3 | BN27: 1 | BO27: 15 | BP27: 0.00 | BQ27: 0.00 | BR27: 0.00 | BS27: 0 | BT27: 0 | BU27: 0 | BV27: 0 | BW27: 0 | BX27: 0 | BY27: 0 | BZ27: 0 | CA27: 0 | CB27: 0 | CC27: 0 | CD27: 0 | CE27: 1 | CF27: C100001700 | CG27: C100001700 | CI27: 0 | CJ27: 0 | CK27: 2 | CL27: 4 | CM27: C2100 | CO27: C2200 | CQ27: C2300 | DR27: 学部共通講義（社会学科提供） | DS27: 卒業要件単位に含まれるのは上限１６単位まで（コミュニティマネジメント学科・現代福祉学科） | EA27: 0 | EB27: 0 | EC27: 0
A28: ○ | D28: 0 | E28: 0 | F28: 0 | G28: 1 | H28: 2025 | I28: C | J28: U | K28: U13C208 | L28: CU11600330 | M28: 001 | N28: 教育社会学 | P28: 02 | Q28: 前期 月３ | R28: 2 | S28: 0 | T28: C | U28: U | V28: CU11600330 | W28: 001 | X28: C | AH28: 1 | AM28: 2016 | AN28: 9999 | AO28: 2 | AP28: 0 | AQ28: C900 | AR28: 0 | AS28: 9999 | AT28: 9999 | AU28: 0 | AV28: 1 | AW28: 0 | AX28: 1 | AY28: 0 | AZ28: 1 | BA28: 1 | BC28: 社会・６ｅ | BG28: 10000000 | BH28: 22004 | BI28: 松岡 亮二 | BJ28: マツオカ リョウジ | BK28: 02 | BL28: 1 | BM28: 3 | BN28: 1 | BO28: 15 | BP28: 0.00 | BQ28: 0.00 | BR28: 0.00 | BS28: 0 | BT28: 0 | BU28: 0 | BV28: 0 | BW28: 0 | BX28: 0 | BY28: 0 | BZ28: 0 | CA28: 0 | CB28: 0 | CC28: 0 | CD28: 0 | CE28: 1 | CF28: C100003000 | CG28: C100003000 | CI28: 0 | CJ28: 0 | CK28: 2 | CL28: 4 | CM28: C2100 | EA28: 0 | EB28: 0 | EC28: 0
A29: ○ | D29: 0 | E29: 0 | F29: 0 | G29: 1 | H29: 2025 | I29: C | J29: U | K29: U13C210 | L29: CU12655000 | M29: 001 | N29: 質的調査法 | P29: 02 | Q29: 前期 月３ | R29: 2 | S29: 0 | T29: C | U29: U | V29: CU12655000 | W29: 001 | X29: C | AH29: 1 | AM29: 0000 | AN29: 9999 | AO29: 2 | AP29: 0 | AQ29: C900 | AR29: 0 | AS29: 9999 | AT29: 9999 | AU29: 0 | AV29: 1 | AW29: 0 | AX29: 1 | AY29: 0 | AZ29: 1 | BA29: 1 | BB29: 「社会調査実習」受講に必要な科目 | BC29: 社会・６ｂ | BD29: ２０２３年度は「社会調査実習」受講者確認のため、事前登録とする | BG29: 10000000 | BH29: 22005 | BI29: 閻 美芳 | BJ29: ヤン メイファン | BK29: 02 | BL29: 1 | BM29: 3 | BN29: 1 | BO29: 15 | BP29: 0.00 | BQ29: 0.00 | BR29: 0.00 | BS29: 0 | BT29: 0 | BU29: 0 | BV29: 0 | BW29: 0 | BX29: 0 | BY29: 0 | BZ29: 0 | CA29: 0 | CB29: 0 | CC29: 0 | CD29: 0 | CE29: 1 | CF29: C100005800 | CG29: C100005800 | CI29: 0 | CJ29: 0 | CK29: 2 | CL29: 4 | CM29: C2100 | DR29: 社会調査士課程科目 | EA29: 0 | EB29: 0 | EC29: 0
C30: ○ | D30: 0 | E30: 0 | F30: 0 | G30: 1 | H30: 2025 | I30: C | J30: U | K30: U13C217 | L30: CU45120000 | M30: 001 | N30: 医療ソーシャルワーク | P30: 02 | Q30: 前期 月３ | R30: 2 | S30: 0 | T30: C | U30: U | V30: CU45120000 | W30: 001 | X30: C | AH30: 1 | AM30: 0000 | AN30: 9999 | AO30: 2 | AP30: 0 | AQ30: C900 | AR30: 0 | AS30: 9999 | AT30: 9999 | AU30: 0 | AV30: 1 | AW30: 0 | AX30: 1 | AY30: 0 | AZ30: 1 | BA30: 1 | BC30: 現代福祉・６ｅ | BG30: 10000000 | BH30: 08368 | BI30: 大坪 勇 | BJ30: オオツボ イサム | BK30: 02 | BL30: 1 | BM30: 3 | BN30: 1 | BO30: 15 | BP30: 0.00 | BQ30: 0.00 | BR30: 0.00 | BS30: 0 | BT30: 0 | BU30: 0 | BV30: 0 | BW30: 0 | BX30: 0 | BY30: 0 | BZ30: 0 | CA30: 0 | CB30: 0 | CC30: 0 | CD30: 0 | CE30: 1 | CF30: C300005000 | CG30: C300005000 | CI30: 0 | CJ30: 0 | CK30: 2 | CL30: 4 | CM30: C2300 | EA30: 0 | EB30: 0 | EC30: 0
C31: ○ | D31: 0 | E31: 0 | F31: 0 | G31: 1 | H31: 2025 | I31: C | J31: U | K31: U13C215 | L31: CU44291000 | M31: 001 | N31: 精神保健福祉援助技術論 | P31: 02 | Q31: 前期 月３、月４ | R31: 4 | S31: 0 | T31: C | U31: U | V31: CU44291000 | W31: 001 | X31: C | AH31: 1 | AM31: 2021 | AN31: 9999 | AO31: 2 | AP31: 0 | AQ31: C900 | AR31: 0 | AS31: 9999 | AT31: 9999 | AU31: 0 | AV31: 1 | AW31: 0 | AX31: 1 | AY31: 0 | AZ31: 1 | BA31: 1 | BC31: 現代福祉・６ｂ | BG31: 10000000 | BH31: 07236 | BI31: 金子 秀明 | BJ31: カネコ ヒデアキ | BK31: 02 | BL31: 1 | BM31: 3 | BN31: 1 | BO31: 15 | BP31: 0.00 | BQ31: 0.00 | BR31: 0.00 | BS31: 0 | BT31: 0 | BU31: 0 | BV31: 0 | BW31: 0 | BX31: 0 | BY31: 0 | BZ31: 0 | CA31: 0 | CB31: 0 | CC31: 0 | CD31: 0 | CE31: 1 | CF31: C300005010 | CG31: C300005010 | CI31: 0 | CJ31: 0 | CK31: 3 | CL31: 4 | CM31: C2300 | DW31: 精神保健福祉士指定科目 | EA31: 0 | EB31: 0 | EC31: 0
C32: ○ | D32: 0 | E32: 0 | F32: 0 | G32: 1 | H32: 2025 | I32: C | J32: U | K32: U13C218 | L32: CU45190000 | M32: 001 | N32: ソーシャルワーク演習Ⅱ | P32: 02 | Q32: 前期 月３、月４ | R32: 4 | S32: 0 | T32: C | U32: U | V32: CU45190000 | W32: 001 | X32: C | AH32: 0 | AM32: 0000 | AN32: 9999 | AO32: 4 | AP32: 0 | AR32: 0 | AS32: 0 | AT32: 0 | AU32: 0 | AV32: 1 | AW32: 0 | AX32: 1 | AY32: 0 | AZ32: 1 | BA32: 0 | BB32: クラス指定科目・ポータルサイトのアンケート機能で事前に登録が必要 | BC32: 現代福祉・５ | BG32: 10000000 | BH32: 14269 | BI32: 佐分 厚子 | BJ32: サブリ アツコ | BK32: 02 | BL32: 1 | BM32: 3 | BN32: 1 | BO32: 15 | BP32: 0.00 | BQ32: 0.00 | BR32: 0.00 | BS32: 0 | BT32: 0 | BU32: 0 | BV32: 0 | BW32: 0 | BX32: 0 | BY32: 0 | BZ32: 0 | CA32: 0 | CB32: 0 | CC32: 0 | CD32: 0 | CE32: 1 | CF32: C3SW200100 | CG32: C3SW200100 | CI32: 0 | CJ32: 0 | CK32: 3 | CL32: 4 | CM32: C2300 | DV32: 社会福祉士指定科目 | EA32: 0 | EB32: 0 | EC32: 0
C33: ○ | D33: 0 | E33: 0 | F33: 0 | G33: 1 | H33: 2025 | I33: C | J33: U | K33: U13C219 | L33: CU45200000 | M33: 006 | N33: ソーシャルワーク演習Ⅲ | P33: 02 | Q33: 前期 月３、月４ | R33: 4 | S33: 0 | T33: C | U33: U | V33: CU45200000 | W33: 006 | X33: C | AH33: 0 | AM33: 0000 | AN33: 9999 | AO33: 4 | AP33: 0 | AR33: 0 | AS33: 0 | AT33: 0 | AU33: 0 | AV33: 1 | AW33: 0 | AX33: 1 | AY33: 0 | AZ33: 1 | BA33: 0 | BB33: クラス指定科目・ポータルサイトのアンケート機能で事前に登録が必要 | BC33: 現代福祉・５ | BG33: 10000000 | BH33: 22277 | BI33: 桐髙 とよみ | BJ33: キリタカ トヨミ | BK33: 02 | BL33: 1 | BM33: 3 | BN33: 1 | BO33: 15 | BP33: 0.00 | BQ33: 0.00 | BR33: 0.00 | BS33: 0 | BT33: 0 | BU33: 0 | BV33: 0 | BW33: 0 | BX33: 0 | BY33: 0 | BZ33: 0 | CA33: 0 | CB33: 0 | CC33: 0 | CD33: 0 | CE33: 1 | CF33: C3SW300600 | CG33: C3SW300100 | CI33: 0 | CJ33: 0 | CK33: 4 | CL33: 4 | CM33: C2300 | DV33: 社会福祉士指定科目 | EA33: 0 | EB33: 0 | EC33: 0
B34: ○ | D34: 0 | E34: 0 | F34: 0 | G34: 1 | H34: 2025 | I34: C | J34: U | K34: U13C220 | L34: CU60070000 | M34: 004 | N34: 参画ゼミナールⅢ | O34: CM05 | P34: 02 | Q34: 前期 月３ | R34: 2 | S34: 0 | T34: C | U34: U | V34: CU60070000 | W34: 004 | X34: C | AH34: 0 | AM34: 0000 | AN34: 9999 | AO34: 4 | AP34: 0 | AR34: 0 | AS34: 0 | AT34: 0 | AU34: 0 | AV34: 1 | AW34: 0 | AX34: 1 | AY34: 0 | AZ34: 1 | BA34: 1 | BB34: クラス指定科目 | BC34: ＣＭ・１ | BG34: 10000000 | BH34: 07210 | BI34: 松浦 哲郎 | BJ34: マツウラ テツオ | BK34: 02 | BL34: 1 | BM34: 3 | BN34: 1 | BO34: 15 | BP34: 0.00 | BQ34: 0.00 | BR34: 0.00 | BS34: 0 | BT34: 0 | BU34: 0 | BV34: 0 | BW34: 0 | BX34: 0 | BY34: 0 | BZ34: 0 | CA34: 0 | CB34: 0 | CC34: 0 | CD34: 0 | CE34: 1 | CF34: C2SEM40050 | CG34: C2SEM40020 | CI34: 0 | CJ34: 0 | CK34: 4 | CL34: 4 | CM34: C2200 | EA34: 0 | EB34: 0 | EC34: 0
B35: ○ | D35: 0 | E35: 0 | F35: 0 | G35: 1 | H35: 2025 | I35: C | J35: U | K35: U13C221 | L35: CU60070000 | M35: 007 | N35: 参画ゼミナールⅢ | O35: CM09 | P35: 02 | Q35: 前期 月３ | R35: 2 | S35: 0 | T35: C | U35: U | V35: CU60070000 | W35: 007 | X35: C | AH35: 0 | AM35: 0000 | AN35: 9999 | AO35: 4 | AP35: 0 | AR35: 0 | AS35: 0 | AT35: 0 | AU35: 0 | AV35: 1 | AW35: 0 | AX35: 1 | AY35: 0 | AZ35: 1 | BA35: 1 | BB35: クラス指定科目 | BC35: ＣＭ・１ | BG35: 10000000 | BH35: 98015 | BI35: 李 相哲 | BJ35: リ ソウテツ | BK35: 02 | BL35: 1 | BM35: 3 | BN35: 1 | BO35: 15 | BP35: 0.00 | BQ35: 0.00 | BR35: 0.00 | BS35: 0 | BT35: 0 | BU35: 0 | BV35: 0 | BW35: 0 | BX35: 0 | BY35: 0 | BZ35: 0 | CA35: 0 | CB35: 0 | CC35: 0 | CD35: 0 | CE35: 1 | CF35: C2SEM40090 | CG35: C2SEM40020 | CI35: 0 | CJ35: 0 | CK35: 4 | CL35: 4 | CM35: C2200 | EA35: 0 | EB35: 0 | EC35: 0
B36: ○ | D36: 0 | E36: 0 | F36: 0 | G36: 1 | H36: 2025 | I36: C | J36: U | K36: U13C325 | L36: CU62091020 | M36: 001 | N36: コミュニティマネジメント特論１Ｂ | P36: 03 | Q36: 後期 月３ | R36: 2 | S36: 0 | T36: C | U36: U | V36: CU62091020 | W36: 001 | X36: C | AH36: 0 | AM36: 2020 | AN36: 9999 | AO36: 2 | AP36: 0 | AQ36: C100 | AR36: 2 | AS36: 40 | AT36: 40 | AU36: 0 | AV36: 0 | AW36: 1 | AX36: 1 | AY36: 0 | AZ36: 1 | BA36: 1 | BB36: ２０２５年度は教室定員の都合上、人数制限を行う | BC36: ＣＭ・６ｅ 合併① | BG36: 10000000 | BH36: 18269 | BI36: 華 京碩 | BJ36: カ キョウセキ | BK36: 03 | BL36: 1 | BM36: 3 | BN36: 1 | BO36: 15 | BP36: 0.00 | BQ36: 0.00 | BR36: 0.00 | BS36: 0 | BT36: 0 | BU36: 0 | BV36: 0 | BW36: 0 | BX36: 0 | BY36: 0 | BZ36: 0 | CA36: 0 | CB36: 0 | CC36: 0 | CD36: 0 | CE36: 1 | CF36: C500000700 | CG36: C500000700 | CI36: 0 | CJ36: 0 | CK36: 1 | CL36: 4 | CM36: C2200 | DU36: ２０２０年度以降入学生用 | EA36: 0 | EB36: 0 | EC36: 0
A37: ○ | B37: ○ | C37: ○ | D37: 0 | E37: 0 | F37: 0 | G37: 0 | H37: 2025 | I37: C | J37: U | K37: U13C328 | L37: CU81600040 | M37: 002 | N37: 児童福祉論Ⅰ | P37: 03 | Q37: 後期 月３ | R37: 2 | S37: 0 | T37: C | U37: U | V37: CU81600050 | W37: 001 | X37: C | AH37: 1 | AM37: 2016 | AN37: 2019 | AO37: 2 | AP37: 0 | AQ37: C900 | AR37: 2 | AS37: 9999 | AT37: 9999 | AU37: 0 | AV37: 0 | AW37: 1 | AX37: 1 | AY37: 0 | AZ37: 1 | BA37: 1 | BC37: 現代福祉・６ｅ | BG37: 10000000 | BH37: 06201 | BI37: 土田 美世子 | BJ37: ツチダ ミヨコ | BK37: 03 | BL37: 1 | BM37: 3 | BN37: 1 | BO37: 15 | BP37: 0.00 | BQ37: 0.00 | BR37: 0.00 | BS37: 0 | BT37: 0 | BU37: 0 | BV37: 0 | BW37: 0 | BX37: 0 | BY37: 0 | BZ37: 0 | CA37: 0 | CB37: 0 | CC37: 0 | CD37: 0 | CE37: 1 | CF37: C300006300 | CG37: C300006300 | CI37: 0 | CJ37: 0 | CK37: 1 | CL37: 4 | CM37: C2100 | CO37: C2200 | CQ37: C2300 | DU37: ２０１６～２０１９年度入学生用 | EA37: 0 | EB37: 0 | EC37: 0
A38: ○ | B38: ○ | C38: ○ | D38: 0 | E38: 0 | F38: 0 | G38: 1 | H38: 2025 | I38: C | J38: U | K38: U13C327 | L38: CU81600050 | M38: 001 | N38: 児童福祉論Ⅱ | P38: 03 | Q38: 後期 月３ | R38: 2 | S38: 0 | T38: C | U38: U | V38: CU81600050 | W38: 001 | X38: C | AH38: 1 | AM38: 2020 | AN38: 9999 | AO38: 2 | AP38: 0 | AQ38: C900 | AR38: 2 | AS38: 9999 | AT38: 9999 | AU38: 0 | AV38: 0 | AW38: 1 | AX38: 1 | AY38: 0 | AZ38: 1 | BA38: 1 | BB38: 学部共通講義（シラバスで卒業要件を確認すること） | BC38: 現代福祉・６ｅ | BG38: 10000000 | BH38: 06201 | BI38: 土田 美世子 | BJ38: ツチダ ミヨコ | BK38: 03 | BL38: 1 | BM38: 3 | BN38: 1 | BO38: 15 | BP38: 0.00 | BQ38: 0.00 | BR38: 0.00 | BS38: 0 | BT38: 0 | BU38: 0 | BV38: 0 | BW38: 0 | BX38: 0 | BY38: 0 | BZ38: 0 | CA38: 0 | CB38: 0 | CC38: 0 | CD38: 0 | CE38: 1 | CF38: C600000200 | CG38: C600000200 | CI38: 0 | CJ38: 0 | CK38: 1 | CL38: 4 | CM38: C2100 | CO38: C2200 | CQ38: C2300 | DU38: ２０２０年度以降入学生用 | EA38: 0 | EB38: 0 | EC38: 0
A39: ○ | B39: ○ | C39: ○ | D39: 0 | E39: 0 | F39: 0 | G39: 1 | H39: 2025 | I39: C | J39: U | K39: U13C304 | L39: CU11600140 | M39: 002 | N39: 比較社会論 | P39: 03 | Q39: 後期 月３ | R39: 2 | S39: 0 | T39: C | U39: U | V39: CU11600140 | W39: 002 | X39: C | AH39: 1 | AI39: 2 | AJ39: 4 | AM39: 2020 | AN39: 9999 | AO39: 2 | AP39: 0 | AQ39: C900 | AR39: 2 | AS39: 9999 | AT39: 9999 | AU39: 0 | AV39: 0 | AW39: 1 | AX39: 1 | AY39: 0 | AZ39: 1 | BA39: 1 | BB39: 学部共通講義（シラバスで卒業要件を確認すること） | BC39: 社会・６ｅ ２０２０年度以降入学生用 | BG39: 10000000 | BH39: 11107 | BI39: 舟橋 健太 | BJ39: フナハシ ケンタ | BK39: 03 | BL39: 1 | BM39: 3 | BN39: 1 | BO39: 15 | BP39: 0.00 | BQ39: 0.00 | BR39: 0.00 | BS39: 0 | BT39: 0 | BU39: 0 | BV39: 0 | BW39: 0 | BX39: 0 | BY39: 0 | BZ39: 0 | CA39: 0 | CB39: 0 | CC39: 0 | CD39: 0 | CE39: 1 | CF39: C100001201 | CG39: C100001200 | CI39: 0 | CJ39: 0 | CK39: 2 | CL39: 4 | CM39: C2100 | CO39: C2200 | CQ39: C2300 | DR39: 学部共通講義（社会学科提供） | DS39: 卒業要件単位に含まれるのは上限１６単位まで（コミュニティマネジメント学科・現代福祉学科） | EA39: 0 | EB39: 0 | EC39: 0
A40: ○ | B40: ○ | C40: ○ | D40: 0 | E40: 0 | F40: 0 | G40: 1 | H40: 2025 | I40: C | J40: U | K40: U13C307 | L40: CU11600270 | M40: 001 | N40: 環境社会学 | P40: 03 | Q40: 後期 月３ | R40: 2 | S40: 0 | T40: C | U40: U | V40: CU11600270 | W40: 001 | X40: C | AH40: 1 | AM40: 2016 | AN40: 9999 | AO40: 2 | AP40: 3 | AQ40: C900 | AR40: 2 | AS40: 9999 | AT40: 9999 | AU40: 0 | AV40: 0 | AW40: 1 | AX40: 1 | AY40: 0 | AZ40: 1 | BA40: 1 | BB40: 学部共通講義（シラバスで卒業要件を確認すること） | BC40: 社会・６ｅ | BG40: 10000000 | BH40: 22005 | BI40: 閻 美芳 | BJ40: ヤン メイファン | BK40: 03 | BL40: 1 | BM40: 3 | BN40: 1 | BO40: 15 | BP40: 0.00 | BQ40: 0.00 | BR40: 0.00 | BS40: 0 | BT40: 0 | BU40: 0 | BV40: 0 | BW40: 0 | BX40: 0 | BY40: 0 | BZ40: 0 | CA40: 0 | CB40: 0 | CC40: 0 | CD40: 0 | CE40: 1 | CF40: C100002400 | CG40: C100002400 | CI40: 0 | CJ40: 0 | CK40: 2 | CL40: 4 | CM40: C2100 | CO40: C2200 | CQ40: C2300 | DR40: 学部共通講義（社会学科提供） | DS40: 卒業要件単位に含まれるのは上限１６単位まで（コミュニティマネジメント学科・現代福祉学科） | EA40: 0 | EB40: 0 | EC40: 0
C41: ○ | D41: 0 | E41: 0 | F41: 0 | G41: 1 | H41: 2025 | I41: C | J41: U | K41: U13C314 | L41: CU22190000 | M41: 001 | N41: 地域福祉論 | P41: 03 | Q41: 後期 月３、月４ | R41: 4 | S41: 0 | T41: C | U41: U | V41: CU22190000 | W41: 001 | X41: C | AH41: 1 | AM41: 0000 | AN41: 9999 | AO41: 2 | AP41: 0 | AQ41: C900 | AR41: 2 | AS41: 9999 | AT41: 9999 | AU41: 0 | AV41: 0 | AW41: 1 | AX41: 1 | AY41: 0 | AZ41: 1 | BA41: 1 | BC41: 現代福祉・６ｂ | BG41: 10000000 | BH41: 99007 | BI41: 筒井 乃り子 | BJ41: ツツイ ノリコ | BK41: 03 | BL41: 1 | BM41: 3 | BN41: 1 | BO41: 15 | BP41: 0.00 | BQ41: 0.00 | BR41: 0.00 | BS41: 0 | BT41: 0 | BU41: 0 | BV41: 0 | BW41: 0 | BX41: 0 | BY41: 0 | BZ41: 0 | CA41: 0 | CB41: 0 | CC41: 0 | CD41: 0 | CE41: 1 | CF41: C300002500 | CG41: C300002500 | CI41: 0 | CJ41: 0 | CK41: 2 | CL41: 4 | CM41: C2300 | DV41: 社会福祉士指定科目 | DW41: 精神保健福祉士指定科目 | EA41: 0 | EB41: 0 | EC41: 0
A42: ○ | B42: ○ | C42: ○ | D42: 0 | E42: 0 | F42: 0 | G42: 1 | H42: 2025 | I42: C | J42: U | K42: U13C303 | L42: CU11600140 | M42: 001 | N42: 比較社会論 | P42: 03 | Q42: 後期 月３ | R42: 2 | S42: 0 | T42: C | U42: U | V42: CU11600140 | W42: 001 | X42: C | AH42: 1 | AI42: 3 | AJ42: 4 | AM42: 2016 | AN42: 2019 | AO42: 2 | AP42: 0 | AQ42: C900 | AR42: 2 | AS42: 9999 | AT42: 9999 | AU42: 0 | AV42: 0 | AW42: 1 | AX42: 1 | AY42: 0 | AZ42: 1 | BA42: 1 | BC42: 社会・６ｅ ２０１９年度以前入学生用 | BG42: 10000000 | BH42: 11107 | BI42: 舟橋 健太 | BJ42: フナハシ ケンタ | BK42: 03 | BL42: 1 | BM42: 3 | BN42: 1 | BO42: 15 | BP42: 0.00 | BQ42: 0.00 | BR42: 0.00 | BS42: 0 | BT42: 0 | BU42: 0 | BV42: 0 | BW42: 0 | BX42: 0 | BY42: 0 | BZ42: 0 | CA42: 0 | CB42: 0 | CC42: 0 | CD42: 0 | CE42: 1 | CF42: C100001200 | CG42: C100001200 | CI42: 0 | CJ42: 0 | CK42: 3 | CL42: 4 | CM42: C2100 | CO42: C2200 | CQ42: C2300 | DR42: 学部共通講義（社会学科提供） | DS42: 卒業要件単位に含まれるのは上限１６単位まで（コミュニティマネジメント学科・現代福祉学科） | EA42: 0 | EB42: 0 | EC42: 0
A43: ○ | B43: ○ | C43: ○ | D43: 0 | E43: 0 | F43: 0 | G43: 1 | H43: 2025 | I43: C | J43: U | K43: U13C306 | L43: CU11600200 | M43: 001 | N43: 医療社会学 | P43: 03 | Q43: 後期 月３ | R43: 2 | S43: 0 | T43: C | U43: U | V43: CU11600200 | W43: 001 | X43: C | AH43: 1 | AM43: 2016 | AN43: 9999 | AO43: 2 | AP43: 0 | AQ43: C900 | AR43: 2 | AS43: 9999 | AT43: 9999 | AU43: 0 | AV43: 0 | AW43: 1 | AX43: 1 | AY43: 0 | AZ43: 1 | BA43: 1 | BB43: 学部共通講義（シラバスで卒業要件を確認すること） | BC43: 社会・６ｅ | BG43: 10000000 | BH43: 01010 | BI43: 黒田 浩一郎 | BJ43: クロダ コウイチロウ | BK43: 03 | BL43: 1 | BM43: 3 | BN43: 1 | BO43: 15 | BP43: 0.00 | BQ43: 0.00 | BR43: 0.00 | BS43: 0 | BT43: 0 | BU43: 0 | BV43: 0 | BW43: 0 | BX43: 0 | BY43: 0 | BZ43: 0 | CA43: 0 | CB43: 0 | CC43: 0 | CD43: 0 | CE43: 1 | CF43: C100001000 | CG43: C100001000 | CI43: 0 | CJ43: 0 | CK43: 3 | CL43: 4 | CM43: C2100 | CO43: C2200 | CQ43: C2300 | DR43: 学部共通講義（社会学科提供） | DS43: 卒業要件単位に含まれるのは上限１６単位まで（コミュニティマネジメント学科・現代福祉学科） | EA43: 0 | EB43: 0 | EC43: 0
A44: ○ | D44: 0 | E44: 0 | F44: 0 | G44: 1 | H44: 2025 | I44: C | J44: U | K44: U13C309 | L44: CU11600380 | M44: 001 | N44: 考現学 | P44: 03 | Q44: 後期 月３ | R44: 2 | S44: 0 | T44: C | U44: U | V44: CU11600380 | W44: 001 | X44: C | AH44: 1 | AM44: 2016 | AN44: 9999 | AO44: 2 | AP44: 0 | AQ44: C900 | AR44: 2 | AS44: 9999 | AT44: 9999 | AU44: 0 | AV44: 0 | AW44: 1 | AX44: 1 | AY44: 0 | AZ44: 1 | BA44: 1 | BC44: 社会・６ｅ | BG44: 10000000 | BH44: 23211 | BI44: 塩見 翔 | BJ44: シオミ ショウ | BK44: 03 | BL44: 1 | BM44: 3 | BN44: 1 | BO44: 15 | BP44: 0.00 | BQ44: 0.00 | BR44: 0.00 | BS44: 0 | BT44: 0 | BU44: 0 | BV44: 0 | BW44: 0 | BX44: 0 | BY44: 0 | BZ44: 0 | CA44: 0 | CB44: 0 | CC44: 0 | CD44: 0 | CE44: 1 | CF44: C100003300 | CG44: C100003300 | CI44: 0 | CJ44: 0 | CK44: 3 | CL44: 4 | CM44: C2100 | EA44: 0 | EB44: 0 | EC44: 0
A45: ○ | D45: 0 | E45: 0 | F45: 0 | G45: 1 | H45: 2025 | I45: C | J45: U | K45: U13C311 | L45: CU12920000 | M45: 001 | N45: 環境思想 | P45: 03 | Q45: 後期 月３ | R45: 2 | S45: 0 | T45: C | U45: U | V45: CU12920000 | W45: 001 | X45: C | AH45: 1 | AM45: 0000 | AN45: 9999 | AO45: 2 | AP45: 0 | AQ45: C900 | AR45: 2 | AS45: 9999 | AT45: 9999 | AU45: 0 | AV45: 0 | AW45: 1 | AX45: 1 | AY45: 0 | AZ45: 1 | BA45: 1 | BC45: 社会・６ｅ | BG45: 10000000 | BH45: 03198 | BI45: 浅沼 光樹 | BJ45: アサヌマ コウキ | BK45: 03 | BL45: 1 | BM45: 3 | BN45: 1 | BO45: 15 | BP45: 0.00 | BQ45: 0.00 | BR45: 0.00 | BS45: 0 | BT45: 0 | BU45: 0 | BV45: 0 | BW45: 0 | BX45: 0 | BY45: 0 | BZ45: 0 | CA45: 0 | CB45: 0 | CC45: 0 | CD45: 0 | CE45: 1 | CF45: C100006500 | CG45: C100006500 | CI45: 0 | CJ45: 0 | CK45: 3 | CL45: 4 | CM45: C2100 | EA45: 0 | EB45: 0 | EC45: 0
A46: ○ | D46: 0 | E46: 0 | F46: 0 | G46: 1 | H46: 2025 | I46: C | J46: U | K46: U13C312 | L46: CU12920000 | M46: 002 | N46: 環境思想 | P46: 03 | Q46: 後期 月３ | R46: 2 | S46: 0 | T46: C | U46: U | V46: CU12920000 | W46: 002 | X46: C | AH46: 0 | AM46: 2016 | AN46: 9999 | AO46: 4 | AP46: 0 | AR46: 0 | AS46: 0 | AT46: 0 | AU46: 0 | AV46: 0 | AW46: 1 | AX46: 0 | AY46: 0 | AZ46: 1 | BA46: 1 | BB46: 指定学生のみ（他学科受講用） 教職 | BC46: 社会・６ｅ 履修制限フラグ外す、履修登録方法区分４、新カリ | BG46: 10000000 | BH46: 03198 | BI46: 浅沼 光樹 | BJ46: アサヌマ コウキ | BK46: 03 | BL46: 1 | BM46: 3 | BN46: 1 | BO46: 15 | BP46: 0.00 | BQ46: 0.00 | BR46: 0.00 | BS46: 0 | BT46: 0 | BU46: 0 | BV46: 0 | BW46: 0 | BX46: 0 | BY46: 0 | BZ46: 0 | CA46: 0 | CB46: 0 | CC46: 0 | CD46: 0 | CE46: 1 | CF46: C100006510 | CG46: C100006500 | CI46: 0 | CJ46: 0 | CK46: 3 | CL46: 4 | CM46: C2100 | EA46: 0 | EB46: 0 | EC46: 0
B47: ○ | D47: 0 | E47: 0 | F47: 0 | G47: 1 | H47: 2025 | I47: C | J47: U | K47: U13C322 | L47: CU60080000 | M47: 004 | N47: 参画ゼミナールⅣ | O47: CM05 | P47: 03 | Q47: 後期 月３ | R47: 2 | S47: 0 | T47: C | U47: U | V47: CU60080000 | W47: 004 | X47: C | AH47: 0 | AM47: 0000 | AN47: 9999 | AO47: 4 | AP47: 0 | AR47: 0 | AS47: 0 | AT47: 0 | AU47: 0 | AV47: 0 | AW47: 1 | AX47: 1 | AY47: 0 | AZ47: 1 | BA47: 1 | BB47: クラス指定科目 | BC47: ＣＭ・１ | BG47: 10000000 | BH47: 07210 | BI47: 松浦 哲郎 | BJ47: マツウラ テツオ | BK47: 03 | BL47: 1 | BM47: 3 | BN47: 1 | BO47: 15 | BP47: 0.00 | BQ47: 0.00 | BR47: 0.00 | BS47: 0 | BT47: 0 | BU47: 0 | BV47: 0 | BW47: 0 | BX47: 0 | BY47: 0 | BZ47: 0 | CA47: 0 | CB47: 0 | CC47: 0 | CD47: 0 | CE47: 1 | CF47: C2SEM40250 | CG47: C2SEM40220 | CI47: 0 | CJ47: 0 | CK47: 4 | CL47: 4 | CM47: C2200 | EA47: 0 | EB47: 0 | EC47: 0
B48: ○ | D48: 0 | E48: 0 | F48: 0 | G48: 1 | H48: 2025 | I48: C | J48: U | K48: U13C323 | L48: CU60080000 | M48: 007 | N48: 参画ゼミナールⅣ | O48: CM09 | P48: 03 | Q48: 後期 月３ | R48: 2 | S48: 0 | T48: C | U48: U | V48: CU60080000 | W48: 007 | X48: C | AH48: 0 | AM48: 0000 | AN48: 9999 | AO48: 4 | AP48: 0 | AR48: 0 | AS48: 0 | AT48: 0 | AU48: 0 | AV48: 0 | AW48: 1 | AX48: 1 | AY48: 0 | AZ48: 1 | BA48: 1 | BB48: クラス指定科目 | BC48: ＣＭ・１ | BG48: 10000000 | BH48: 98015 | BI48: 李 相哲 | BJ48: リ ソウテツ | BK48: 03 | BL48: 1 | BM48: 3 | BN48: 1 | BO48: 15 | BP48: 0.00 | BQ48: 0.00 | BR48: 0.00 | BS48: 0 | BT48: 0 | BU48: 0 | BV48: 0 | BW48: 0 | BX48: 0 | BY48: 0 | BZ48: 0 | CA48: 0 | CB48: 0 | CC48: 0 | CD48: 0 | CE48: 1 | CF48: C2SEM40290 | CG48: C2SEM40220 | CI48: 0 | CJ48: 0 | CK48: 4 | CL48: 4 | CM48: C2200 | EA48: 0 | EB48: 0 | EC48: 0
B49: ○ | D49: 0 | E49: 0 | F49: 0 | G49: 1 | H49: 2025 | I49: C | J49: U | K49: U14C219 | L49: CU61600210 | M49: 001 | N49: シティズンシップ論 | P49: 02 | Q49: 前期 月４ | R49: 2 | S49: 0 | T49: C | U49: U | V49: CU61600210 | W49: 001 | X49: C | AH49: 1 | AM49: 2016 | AN49: 9999 | AO49: 2 | AP49: 0 | AQ49: C900 | AR49: 0 | AS49: 9999 | AT49: 9999 | AU49: 0 | AV49: 1 | AW49: 0 | AX49: 1 | AY49: 0 | AZ49: 1 | BA49: 1 | BC49: ＣＭ・６ｅ | BG49: 10000000 | BH49: 20253 | BI49: 山下 比佐暢 | BJ49: ヤマシタ ヒサノブ | BK49: 02 | BL49: 1 | BM49: 4 | BN49: 1 | BO49: 15 | BP49: 0.00 | BQ49: 0.00 | BR49: 0.00 | BS49: 0 | BT49: 0 | BU49: 0 | BV49: 0 | BW49: 0 | BX49: 0 | BY49: 0 | BZ49: 0 | CA49: 0 | CB49: 0 | CC49: 0 | CD49: 0 | CE49: 1 | CF49: C200003100 | CG49: C200003100 | CI49: 0 | CJ49: 0 | CK49: 1 | CL49: 4 | CM49: C2200 | EA49: 0 | EB49: 0 | EC49: 0
A50: ○ | B50: ○ | C50: ○ | D50: 0 | E50: 0 | F50: 0 | G50: 1 | H50: 2025 | I50: C | J50: U | K50: U14C211 | L50: CU12850000 | M50: 001 | N50: 差別論 | P50: 02 | Q50: 前期 月４ | R50: 2 | S50: 0 | T50: C | U50: U | V50: CU12850000 | W50: 001 | X50: C | AH50: 1 | AM50: 2016 | AN50: 9999 | AO50: 2 | AP50: 0 | AQ50: C900 | AR50: 0 | AS50: 9999 | AT50: 9999 | AU50: 0 | AV50: 1 | AW50: 0 | AX50: 1 | AY50: 0 | AZ50: 1 | BA50: 1 | BB50: 学部共通講義（シラバスで卒業要件を確認すること） | BC50: 社会・６ｅ | BG50: 10000000 | BH50: 11107 | BI50: 舟橋 健太 | BJ50: フナハシ ケンタ | BK50: 02 | BL50: 1 | BM50: 4 | BN50: 1 | BO50: 15 | BP50: 0.00 | BQ50: 0.00 | BR50: 0.00 | BS50: 0 | BT50: 0 | BU50: 0 | BV50: 0 | BW50: 0 | BX50: 0 | BY50: 0 | BZ50: 0 | CA50: 0 | CB50: 0 | CC50: 0 | CD50: 0 | CE50: 1 | CF50: C100006200 | CG50: C100006200 | CI50: 0 | CJ50: 0 | CK50: 2 | CL50: 4 | CM50: C2100 | CO50: C2200 | CQ50: C2300 | DR50: 学部共通講義（社会学科提供） | DS50: 卒業要件単位に含まれるのは上限１６単位まで（コミュニティマネジメント学科・現代福祉学科） | EA50: 0 | EB50: 0 | EC50: 0
C51: ○ | D51: 0 | E51: 0 | F51: 0 | G51: 1 | H51: 2025 | I51: C | J51: U | K51: U14C212 | L51: CU21150000 | M51: 001 | N51: 社会保障論 | P51: 02 | Q51: 前期 月４、木１ | R51: 4 | S51: 0 | T51: C | U51: U | V51: CU21150000 | W51: 001 | X51: C | AH51: 1 | AM51: 2016 | AN51: 9999 | AO51: 2 | AP51: 0 | AQ51: C900 | AR51: 0 | AS51: 9999 | AT51: 9999 | AU51: 0 | AV51: 1 | AW51: 0 | AX51: 1 | AY51: 0 | AZ51: 1 | BA51: 1 | BC51: 現代福祉・６ｂ | BG51: 10000000 | BH51: 17259 | BI51: 妹尾 知則 | BJ51: セノオ トモノリ | BK51: 02 | BL51: 1 | BM51: 4 | BN51: 1 | BO51: 15 | BP51: 0.00 | BQ51: 0.00 | BR51: 0.00 | BS51: 0 | BT51: 0 | BU51: 0 | BV51: 0 | BW51: 0 | BX51: 0 | BY51: 0 | BZ51: 0 | CA51: 0 | CB51: 0 | CC51: 0 | CD51: 0 | CE51: 1 | CF51: C300002200 | CG51: C300002200 | CI51: 0 | CJ51: 0 | CK51: 2 | CL51: 4 | CM51: C2300 | DU51: ２０１６年度以降入学生用 | DV51: 社会福祉士指定科目 | DW51: 精神保健福祉士指定科目 | EA51: 0 | EB51: 0 | EC51: 0
A52: ○ | D52: 0 | E52: 0 | F52: 0 | G52: 1 | H52: 2025 | I52: C | J52: U | K52: U14C202 | L52: CU12151000 | M52: 005 | N52: 社会学演習ⅠＡ | P52: 02 | Q52: 前期 月４ | R52: 2 | S52: 0 | T52: C | U52: U | V52: CU12151000 | W52: 005 | X52: C | AH52: 0 | AM52: 0000 | AN52: 9999 | AO52: 4 | AP52: 0 | AR52: 0 | AS52: 0 | AT52: 0 | AU52: 0 | AV52: 1 | AW52: 0 | AX52: 1 | AY52: 0 | AZ52: 1 | BA52: 1 | BB52: クラス指定科目 | BC52: 社会・１ ４年生と合同開講のため２０２４コマ０ | BG52: 10000000 | BH52: 00014 | BI52: 津島 昌弘 | BJ52: ツシマ マサヒロ | BK52: 02 | BL52: 1 | BM52: 4 | BN52: 1 | BO52: 15 | BP52: 0.00 | BQ52: 0.00 | BR52: 0.00 | BS52: 0 | BT52: 0 | BU52: 0 | BV52: 0 | BW52: 0 | BX52: 0 | BY52: 0 | BZ52: 0 | CA52: 0 | CB52: 0 | CC52: 0 | CD52: 0 | CE52: 1 | CF52: C1SEM30060 | CG52: C1SEM30090 | CI52: 0 | CJ52: 0 | CK52: 3 | CL52: 4 | CM52: C2100 | EA52: 0 | EB52: 0 | EC52: 0
A53: ○ | D53: 0 | E53: 0 | F53: 0 | G53: 1 | H53: 2025 | I53: C | J53: U | K53: U14C203 | L53: CU12151000 | M53: 008 | N53: 社会学演習ⅠＡ | P53: 02 | Q53: 前期 月４ | R53: 2 | S53: 0 | T53: C | U53: U | V53: CU12151000 | W53: 008 | X53: C | AH53: 0 | AM53: 0000 | AN53: 9999 | AO53: 4 | AP53: 0 | AR53: 0 | AS53: 0 | AT53: 0 | AU53: 0 | AV53: 1 | AW53: 0 | AX53: 1 | AY53: 0 | AZ53: 1 | BA53: 1 | BB53: クラス指定科目 | BC53: 社会・１ | BG53: 10000000 | BH53: 22004 | BI53: 松岡 亮二 | BJ53: マツオカ リョウジ | BK53: 02 | BL53: 1 | BM53: 4 | BN53: 1 | BO53: 15 | BP53: 0.00 | BQ53: 0.00 | BR53: 0.00 | BS53: 0 | BT53: 0 | BU53: 0 | BV53: 0 | BW53: 0 | BX53: 0 | BY53: 0 | BZ53: 0 | CA53: 0 | CB53: 0 | CC53: 0 | CD53: 0 | CE53: 1 | CF53: C1SEM30090 | CG53: C1SEM30090 | CI53: 0 | CJ53: 0 | CK53: 3 | CL53: 4 | CM53: C2100 | EA53: 0 | EB53: 0 | EC53: 0
A54: ○ | D54: 0 | E54: 0 | F54: 0 | G54: 1 | H54: 2025 | I54: C | J54: U | K54: U14C204 | L54: CU12151000 | M54: 010 | N54: 社会学演習ⅠＡ | P54: 02 | Q54: 前期 月４ | R54: 2 | S54: 0 | T54: C | U54: U | V54: CU12151000 | W54: 010 | X54: C | AH54: 0 | AM54: 0000 | AN54: 9999 | AO54: 4 | AP54: 0 | AR54: 0 | AS54: 0 | AT54: 0 | AU54: 0 | AV54: 1 | AW54: 0 | AX54: 1 | AY54: 0 | AZ54: 1 | BA54: 1 | BB54: クラス指定科目 | BC54: 社会・１ | BG54: 10000000 | BH54: 22005 | BI54: 閻 美芳 | BJ54: ヤン メイファン | BK54: 02 | BL54: 1 | BM54: 4 | BN54: 1 | BO54: 15 | BP54: 0.00 | BQ54: 0.00 | BR54: 0.00 | BS54: 0 | BT54: 0 | BU54: 0 | BV54: 0 | BW54: 0 | BX54: 0 | BY54: 0 | BZ54: 0 | CA54: 0 | CB54: 0 | CC54: 0 | CD54: 0 | CE54: 1 | CF54: C1SEM30110 | CG54: C1SEM30090 | CI54: 0 | CJ54: 0 | CK54: 3 | CL54: 4 | CM54: C2100 | EA54: 0 | EB54: 0 | EC54: 0
C55: ○ | D55: 0 | E55: 0 | F55: 0 | G55: 1 | H55: 2025 | I55: C | J55: U | K55: U13C215 | L55: CU44291000 | M55: 001 | N55: 精神保健福祉援助技術論 | P55: 02 | Q55: 前期 月３、月４ | R55: 4 | S55: 0 | T55: C | U55: U | V55: CU44291000 | W55: 001 | X55: C | AH55: 1 | AM55: 2021 | AN55: 9999 | AO55: 2 | AP55: 0 | AQ55: C900 | AR55: 0 | AS55: 9999 | AT55: 9999 | AU55: 0 | AV55: 1 | AW55: 0 | AX55: 1 | AY55: 0 | AZ55: 1 | BA55: 1 | BC55: 現代福祉・６ｂ | BG55: 10000000 | BH55: 07236 | BI55: 金子 秀明 | BJ55: カネコ ヒデアキ | BK55: 02 | BL55: 1 | BM55: 4 | BN55: 1 | BO55: 15 | BP55: 0.00 | BQ55: 0.00 | BR55: 0.00 | BS55: 0 | BT55: 0 | BU55: 0 | BV55: 0 | BW55: 0 | BX55: 0 | BY55: 0 | BZ55: 0 | CA55: 0 | CB55: 0 | CC55: 0 | CD55: 0 | CE55: 1 | CF55: C300005010 | CG55: C300005010 | CI55: 0 | CJ55: 0 | CK55: 3 | CL55: 4 | CM55: C2300 | DW55: 精神保健福祉士指定科目 | EA55: 0 | EB55: 0 | EC55: 0
C56: ○ | D56: 0 | E56: 0 | F56: 0 | G56: 1 | H56: 2025 | I56: C | J56: U | K56: U13C218 | L56: CU45190000 | M56: 001 | N56: ソーシャルワーク演習Ⅱ | P56: 02 | Q56: 前期 月３、月４ | R56: 4 | S56: 0 | T56: C | U56: U | V56: CU45190000 | W56: 001 | X56: C | AH56: 0 | AM56: 0000 | AN56: 9999 | AO56: 4 | AP56: 0 | AR56: 0 | AS56: 0 | AT56: 0 | AU56: 0 | AV56: 1 | AW56: 0 | AX56: 1 | AY56: 0 | AZ56: 1 | BA56: 0 | BB56: クラス指定科目・ポータルサイトのアンケート機能で事前に登録が必要 | BC56: 現代福祉・５ | BG56: 10000000 | BH56: 14269 | BI56: 佐分 厚子 | BJ56: サブリ アツコ | BK56: 02 | BL56: 1 | BM56: 4 | BN56: 1 | BO56: 15 | BP56: 0.00 | BQ56: 0.00 | BR56: 0.00 | BS56: 0 | BT56: 0 | BU56: 0 | BV56: 0 | BW56: 0 | BX56: 0 | BY56: 0 | BZ56: 0 | CA56: 0 | CB56: 0 | CC56: 0 | CD56: 0 | CE56: 1 | CF56: C3SW200100 | CG56: C3SW200100 | CI56: 0 | CJ56: 0 | CK56: 3 | CL56: 4 | CM56: C2300 | DV56: 社会福祉士指定科目 | EA56: 0 | EB56: 0 | EC56: 0
B57: ○ | D57: 0 | E57: 0 | F57: 0 | G57: 1 | H57: 2025 | I57: C | J57: U | K57: U14C217 | L57: CU60050000 | M57: 004 | N57: 参画ゼミナールⅠ | O57: CM05 | P57: 02 | Q57: 前期 月４ | R57: 2 | S57: 0 | T57: C | U57: U | V57: CU60050000 | W57: 004 | X57: C | AH57: 0 | AM57: 0000 | AN57: 9999 | AO57: 4 | AP57: 0 | AR57: 0 | AS57: 0 | AT57: 0 | AU57: 0 | AV57: 1 | AW57: 0 | AX57: 1 | AY57: 0 | AZ57: 1 | BA57: 1 | BB57: クラス指定科目 | BC57: ＣＭ・１ | BG57: 10000000 | BH57: 07210 | BI57: 松浦 哲郎 | BJ57: マツウラ テツオ | BK57: 02 | BL57: 1 | BM57: 4 | BN57: 1 | BO57: 15 | BP57: 0.00 | BQ57: 0.00 | BR57: 0.00 | BS57: 0 | BT57: 0 | BU57: 0 | BV57: 0 | BW57: 0 | BX57: 0 | BY57: 0 | BZ57: 0 | CA57: 0 | CB57: 0 | CC57: 0 | CD57: 0 | CE57: 1 | CF57: C2SEM30050 | CG57: C2SEM30020 | CI57: 0 | CJ57: 0 | CK57: 3 | CL57: 4 | CM57: C2200 | EA57: 0 | EB57: 0 | EC57: 0
A58: ○ | D58: 0 | E58: 0 | F58: 0 | G58: 1 | H58: 2025 | I58: C | J58: U | K58: U14C207 | L58: CU12161000 | M58: 004 | N58: 社会学演習ⅡＡ | P58: 02 | Q58: 前期 月４ | R58: 2 | S58: 0 | T58: C | U58: U | V58: CU12161000 | W58: 004 | X58: C | AH58: 0 | AM58: 0000 | AN58: 9999 | AO58: 4 | AP58: 0 | AR58: 0 | AS58: 0 | AT58: 0 | AU58: 0 | AV58: 1 | AW58: 0 | AX58: 1 | AY58: 0 | AZ58: 1 | BA58: 1 | BB58: クラス指定科目 | BC58: 社会・１ | BG58: 10000000 | BH58: 16005 | BI58: 清家 竜介 | BJ58: セイケ リュウスケ | BK58: 02 | BL58: 1 | BM58: 4 | BN58: 1 | BO58: 15 | BP58: 0.00 | BQ58: 0.00 | BR58: 0.00 | BS58: 0 | BT58: 0 | BU58: 0 | BV58: 0 | BW58: 0 | BX58: 0 | BY58: 0 | BZ58: 0 | CA58: 0 | CB58: 0 | CC58: 0 | CD58: 0 | CE58: 1 | CF58: C1SEM40050 | CG58: C1SEM40130 | CI58: 0 | CJ58: 0 | CK58: 4 | CL58: 4 | CM58: C2100 | EA58: 0 | EB58: 0 | EC58: 0
A59: ○ | D59: 0 | E59: 0 | F59: 0 | G59: 1 | H59: 2025 | I59: C | J59: U | K59: U14C208 | L59: CU12161000 | M59: 005 | N59: 社会学演習ⅡＡ | P59: 02 | Q59: 前期 月４ | R59: 2 | S59: 0 | T59: C | U59: U | V59: CU12161000 | W59: 005 | X59: C | AH59: 0 | AM59: 0000 | AN59: 9999 | AO59: 4 | AP59: 0 | AR59: 0 | AS59: 0 | AT59: 0 | AU59: 0 | AV59: 1 | AW59: 0 | AX59: 1 | AY59: 0 | AZ59: 1 | BA59: 1 | BB59: クラス指定科目 | BC59: 社会・１ | BG59: 10000000 | BH59: 00014 | BI59: 津島 昌弘 | BJ59: ツシマ マサヒロ | BK59: 02 | BL59: 1 | BM59: 4 | BN59: 1 | BO59: 15 | BP59: 0.00 | BQ59: 0.00 | BR59: 0.00 | BS59: 0 | BT59: 0 | BU59: 0 | BV59: 0 | BW59: 0 | BX59: 0 | BY59: 0 | BZ59: 0 | CA59: 0 | CB59: 0 | CC59: 0 | CD59: 0 | CE59: 1 | CF59: C1SEM40060 | CG59: C1SEM40130 | CI59: 0 | CJ59: 0 | CK59: 4 | CL59: 4 | CM59: C2100 | EA59: 0 | EB59: 0 | EC59: 0
C60: ○ | D60: 0 | E60: 0 | F60: 0 | G60: 1 | H60: 2025 | I60: C | J60: U | K60: U13C219 | L60: CU45200000 | M60: 006 | N60: ソーシャルワーク演習Ⅲ | P60: 02 | Q60: 前期 月３、月４ | R60: 4 | S60: 0 | T60: C | U60: U | V60: CU45200000 | W60: 006 | X60: C | AH60: 0 | AM60: 0000 | AN60: 9999 | AO60: 4 | AP60: 0 | AR60: 0 | AS60: 0 | AT60: 0 | AU60: 0 | AV60: 1 | AW60: 0 | AX60: 1 | AY60: 0 | AZ60: 1 | BA60: 0 | BB60: クラス指定科目・ポータルサイトのアンケート機能で事前に登録が必要 | BC60: 現代福祉・５ | BG60: 10000000 | BH60: 22277 | BI60: 桐髙 とよみ | BJ60: キリタカ トヨミ | BK60: 02 | BL60: 1 | BM60: 4 | BN60: 1 | BO60: 15 | BP60: 0.00 | BQ60: 0.00 | BR60: 0.00 | BS60: 0 | BT60: 0 | BU60: 0 | BV60: 0 | BW60: 0 | BX60: 0 | BY60: 0 | BZ60: 0 | CA60: 0 | CB60: 0 | CC60: 0 | CD60: 0 | CE60: 1 | CF60: C3SW300600 | CG60: C3SW300100 | CI60: 0 | CJ60: 0 | CK60: 4 | CL60: 4 | CM60: C2300 | DV60: 社会福祉士指定科目 | EA60: 0 | EB60: 0 | EC60: 0
A61: ○ | B61: ○ | C61: ○ | D61: 0 | E61: 0 | F61: 0 | G61: 1 | H61: 2025 | I61: C | J61: U | K61: U14C301 | L61: CU11600290 | M61: 001 | N61: エスニシティ論 | P61: 03 | Q61: 後期 月４ | R61: 2 | S61: 0 | T61: C | U61: U | V61: CU11600290 | W61: 001 | X61: C | AH61: 1 | AM61: 2016 | AN61: 9999 | AO61: 2 | AP61: 0 | AQ61: C900 | AR61: 2 | AS61: 9999 | AT61: 9999 | AU61: 0 | AV61: 0 | AW61: 1 | AX61: 1 | AY61: 0 | AZ61: 1 | BA61: 1 | BB61: 学部共通講義（シラバスで卒業要件を確認すること） | BC61: 社会・６ｅ | BG61: 10000000 | BH61: 11107 | BI61: 舟橋 健太 | BJ61: フナハシ ケンタ | BK61: 03 | BL61: 1 | BM61: 4 | BN61: 1 | BO61: 15 | BP61: 0.00 | BQ61: 0.00 | BR61: 0.00 | BS61: 0 | BT61: 0 | BU61: 0 | BV61: 0 | BW61: 0 | BX61: 0 | BY61: 0 | BZ61: 0 | CA61: 0 | CB61: 0 | CC61: 0 | CD61: 0 | CE61: 1 | CF61: C100002600 | CG61: C100002600 | CI61: 0 | CJ61: 0 | CK61: 2 | CL61: 4 | CM61: C2100 | CO61: C2200 | CQ61: C2300 | DR61: 学部共通講義（社会学科提供） | DS61: 卒業要件単位に含まれるのは上限１６単位まで（コミュニティマネジメント学科・現代福祉学科） | EA61: 0 | EB61: 0 | EC61: 0
C62: ○ | D62: 0 | E62: 0 | F62: 0 | G62: 1 | H62: 2025 | I62: C | J62: U | K62: U13C314 | L62: CU22190000 | M62: 001 | N62: 地域福祉論 | P62: 03 | Q62: 後期 月３、月４ | R62: 4 | S62: 0 | T62: C | U62: U | V62: CU22190000 | W62: 001 | X62: C | AH62: 1 | AM62: 0000 | AN62: 9999 | AO62: 2 | AP62: 0 | AQ62: C900 | AR62: 2 | AS62: 9999 | AT62: 9999 | AU62: 0 | AV62: 0 | AW62: 1 | AX62: 1 | AY62: 0 | AZ62: 1 | BA62: 1 | BC62: 現代福祉・６ｂ | BG62: 10000000 | BH62: 99007 | BI62: 筒井 乃り子 | BJ62: ツツイ ノリコ | BK62: 03 | BL62: 1 | BM62: 4 | BN62: 1 | BO62: 15 | BP62: 0.00 | BQ62: 0.00 | BR62: 0.00 | BS62: 0 | BT62: 0 | BU62: 0 | BV62: 0 | BW62: 0 | BX62: 0 | BY62: 0 | BZ62: 0 | CA62: 0 | CB62: 0 | CC62: 0 | CD62: 0 | CE62: 1 | CF62: C300002500 | CG62: C300002500 | CI62: 0 | CJ62: 0 | CK62: 2 | CL62: 4 | CM62: C2300 | DV62: 社会福祉士指定科目 | DW62: 精神保健福祉士指定科目 | EA62: 0 | EB62: 0 | EC62: 0
A63: ○ | D63: 0 | E63: 0 | F63: 0 | G63: 1 | H63: 2025 | I63: C | J63: U | K63: U14C306 | L63: CU12152000 | M63: 010 | N63: 社会学演習ⅠＢ | P63: 03 | Q63: 後期 月４ | R63: 2 | S63: 0 | T63: C | U63: U | V63: CU12152000 | W63: 010 | X63: C | AH63: 0 | AM63: 0000 | AN63: 9999 | AO63: 4 | AP63: 0 | AR63: 0 | AS63: 0 | AT63: 0 | AU63: 0 | AV63: 0 | AW63: 1 | AX63: 1 | AY63: 0 | AZ63: 1 | BA63: 1 | BB63: クラス指定科目 | BC63: 社会・１ | BG63: 10000000 | BH63: 22005 | BI63: 閻 美芳 | BJ63: ヤン メイファン | BK63: 03 | BL63: 1 | BM63: 4 | BN63: 1 | BO63: 15 | BP63: 0.00 | BQ63: 0.00 | BR63: 0.00 | BS63: 0 | BT63: 0 | BU63: 0 | BV63: 0 | BW63: 0 | BX63: 0 | BY63: 0 | BZ63: 0 | CA63: 0 | CB63: 0 | CC63: 0 | CD63: 0 | CE63: 1 | CF63: C1SEM30310 | CG63: C1SEM30290 | CI63: 0 | CJ63: 0 | CK63: 3 | CL63: 4 | CM63: C2100 | EA63: 0 | EB63: 0 | EC63: 0
B64: ○ | D64: 0 | E64: 0 | F64: 0 | G64: 1 | H64: 2025 | I64: C | J64: U | K64: U14C318 | L64: CU60060000 | M64: 004 | N64: 参画ゼミナールⅡ | O64: CM05 | P64: 03 | Q64: 後期 月４ | R64: 2 | S64: 0 | T64: C | U64: U | V64: CU60060000 | W64: 004 | X64: C | AH64: 0 | AM64: 0000 | AN64: 9999 | AO64: 4 | AP64: 0 | AR64: 0 | AS64: 0 | AT64: 0 | AU64: 0 | AV64: 0 | AW64: 1 | AX64: 1 | AY64: 0 | AZ64: 1 | BA64: 1 | BB64: クラス指定科目 | BC64: ＣＭ・１ | BG64: 10000000 | BH64: 07210 | BI64: 松浦 哲郎 | BJ64: マツウラ テツオ | BK64: 03 | BL64: 1 | BM64: 4 | BN64: 1 | BO64: 15 | BP64: 0.00 | BQ64: 0.00 | BR64: 0.00 | BS64: 0 | BT64: 0 | BU64: 0 | BV64: 0 | BW64: 0 | BX64: 0 | BY64: 0 | BZ64: 0 | CA64: 0 | CB64: 0 | CC64: 0 | CD64: 0 | CE64: 1 | CF64: C2SEM30250 | CG64: C2SEM30220 | CI64: 0 | CJ64: 0 | CK64: 3 | CL64: 4 | CM64: C2200 | EA64: 0 | EB64: 0 | EC64: 0
C65: ○ | D65: 0 | E65: 0 | F65: 0 | G65: 1 | H65: 2025 | I65: C | J65: U | K65: U14C320 | L65: CU81600330 | M65: 001 | N65: 障害者発達論 | P65: 03 | Q65: 後期 月４ | R65: 2 | S65: 0 | T65: C | U65: U | V65: CU81600330 | W65: 001 | X65: C | AH65: 1 | AM65: 2016 | AN65: 9999 | AO65: 2 | AP65: 0 | AQ65: C900 | AR65: 2 | AS65: 9999 | AT65: 9999 | AU65: 0 | AV65: 0 | AW65: 1 | AX65: 1 | AY65: 0 | AZ65: 1 | BA65: 1 | BC65: 現代福祉・６ｅ | BG65: 10000000 | BH65: 06201 | BI65: 土田 美世子 | BJ65: ツチダ ミヨコ | BK65: 03 | BL65: 1 | BM65: 4 | BN65: 1 | BO65: 15 | BP65: 0.00 | BQ65: 0.00 | BR65: 0.00 | BS65: 0 | BT65: 0 | BU65: 0 | BV65: 0 | BW65: 0 | BX65: 0 | BY65: 0 | BZ65: 0 | CA65: 0 | CB65: 0 | CC65: 0 | CD65: 0 | CE65: 1 | CF65: C300009000 | CG65: C300009000 | CI65: 0 | CJ65: 0 | CK65: 3 | CL65: 4 | CM65: C2300 | DR65: 福祉教育科目 | EA65: 0 | EB65: 0 | EC65: 0
A66: ○ | D66: 0 | E66: 0 | F66: 0 | G66: 1 | H66: 2025 | I66: C | J66: U | K66: U14C305 | L66: CU12152000 | M66: 005 | N66: 社会学演習ⅠＢ | P66: 03 | Q66: 後期 月４ | R66: 2 | S66: 0 | T66: C | U66: U | V66: CU12152000 | W66: 005 | X66: C | AH66: 0 | AM66: 0000 | AN66: 9999 | AO66: 4 | AP66: 0 | AR66: 0 | AS66: 0 | AT66: 0 | AU66: 0 | AV66: 0 | AW66: 1 | AX66: 1 | AY66: 0 | AZ66: 1 | BA66: 1 | BB66: クラス指定科目 | BC66: 社会・１ ４年生と合同開講のため２０２４コマ０ | BG66: 10000000 | BH66: 00014 | BI66: 津島 昌弘 | BJ66: ツシマ マサヒロ | BK66: 03 | BL66: 1 | BM66: 4 | BN66: 1 | BO66: 15 | BP66: 0.00 | BQ66: 0.00 | BR66: 0.00 | BS66: 0 | BT66: 0 | BU66: 0 | BV66: 0 | BW66: 0 | BX66: 0 | BY66: 0 | BZ66: 0 | CA66: 0 | CB66: 0 | CC66: 0 | CD66: 0 | CE66: 1 | CF66: C1SEM30260 | CG66: C1SEM30290 | CI66: 0 | CJ66: 0 | CK66: 4 | CL66: 4 | CM66: C2100 | EA66: 0 | EB66: 0 | EC66: 0
A67: ○ | D67: 0 | E67: 0 | F67: 0 | G67: 1 | H67: 2025 | I67: C | J67: U | K67: U14C309 | L67: CU12162000 | M67: 004 | N67: 社会学演習ⅡＢ | P67: 03 | Q67: 後期 月４ | R67: 2 | S67: 0 | T67: C | U67: U | V67: CU12162000 | W67: 004 | X67: C | AH67: 0 | AM67: 0000 | AN67: 9999 | AO67: 4 | AP67: 0 | AR67: 0 | AS67: 0 | AT67: 0 | AU67: 0 | AV67: 0 | AW67: 1 | AX67: 1 | AY67: 0 | AZ67: 1 | BA67: 1 | BB67: クラス指定科目 | BC67: 社会・１ | BG67: 10000000 | BH67: 16005 | BI67: 清家 竜介 | BJ67: セイケ リュウスケ | BK67: 03 | BL67: 1 | BM67: 4 | BN67: 1 | BO67: 15 | BP67: 0.00 | BQ67: 0.00 | BR67: 0.00 | BS67: 0 | BT67: 0 | BU67: 0 | BV67: 0 | BW67: 0 | BX67: 0 | BY67: 0 | BZ67: 0 | CA67: 0 | CB67: 0 | CC67: 0 | CD67: 0 | CE67: 1 | CF67: C1SEM40250 | CG67: C1SEM40330 | CI67: 0 | CJ67: 0 | CK67: 4 | CL67: 4 | CM67: C2100 | EA67: 0 | EB67: 0 | EC67: 0
A68: ○ | D68: 0 | E68: 0 | F68: 0 | G68: 1 | H68: 2025 | I68: C | J68: U | K68: U14C310 | L68: CU12162000 | M68: 005 | N68: 社会学演習ⅡＢ | P68: 03 | Q68: 後期 月４ | R68: 2 | S68: 0 | T68: C | U68: U | V68: CU12162000 | W68: 005 | X68: C | AH68: 0 | AM68: 0000 | AN68: 9999 | AO68: 4 | AP68: 0 | AR68: 0 | AS68: 0 | AT68: 0 | AU68: 0 | AV68: 0 | AW68: 1 | AX68: 1 | AY68: 0 | AZ68: 1 | BA68: 1 | BB68: クラス指定科目 | BC68: 社会・１ | BG68: 10000000 | BH68: 00014 | BI68: 津島 昌弘 | BJ68: ツシマ マサヒロ | BK68: 03 | BL68: 1 | BM68: 4 | BN68: 1 | BO68: 15 | BP68: 0.00 | BQ68: 0.00 | BR68: 0.00 | BS68: 0 | BT68: 0 | BU68: 0 | BV68: 0 | BW68: 0 | BX68: 0 | BY68: 0 | BZ68: 0 | CA68: 0 | CB68: 0 | CC68: 0 | CD68: 0 | CE68: 1 | CF68: C1SEM40260 | CG68: C1SEM40330 | CI68: 0 | CJ68: 0 | CK68: 4 | CL68: 4 | CM68: C2100 | EA68: 0 | EB68: 0 | EC68: 0
C69: ○ | D69: 0 | E69: 0 | F69: 0 | G69: 0 | H69: 2025 | I69: C | J69: U | K69: U15C203 | L69: CU45080000 | M69: 001 | N69: 権利擁護と成年後見制度 | P69: 02 | Q69: 前期 月５ | R69: 2 | S69: 0 | T69: C | U69: U | V69: CU45081000 | W69: 001 | X69: C | AH69: 1 | AM69: 2016 | AN69: 2020 | AO69: 2 | AP69: 0 | AQ69: C900 | AR69: 0 | AS69: 9999 | AT69: 9999 | AU69: 0 | AV69: 1 | AW69: 0 | AX69: 1 | AY69: 0 | AZ69: 1 | BA69: 1 | BC69: 現代福祉・６ｂ | BG69: 10000000 | BH69: 22277 | BI69: 桐髙 とよみ | BJ69: キリタカ トヨミ | BK69: 02 | BL69: 1 | BM69: 5 | BN69: 1 | BO69: 15 | BP69: 0.00 | BQ69: 0.00 | BR69: 0.00 | BS69: 0 | BT69: 0 | BU69: 0 | BV69: 0 | BW69: 0 | BX69: 0 | BY69: 0 | BZ69: 0 | CA69: 0 | CB69: 0 | CC69: 0 | CD69: 0 | CE69: 1 | CF69: C300004600 | CG69: C300991500 | CI69: 0 | CJ69: 0 | CK69: 2 | CL69: 4 | CM69: C2300 | DU69: ２０２０年度以前入学生用 | EA69: 0 | EB69: 0 | EC69: 0
C70: ○ | D70: 0 | E70: 0 | F70: 0 | G70: 1 | H70: 2025 | I70: C | J70: U | K70: U15C202 | L70: CU45081000 | M70: 001 | N70: 権利擁護を支える法制度 | P70: 02 | Q70: 前期 月５ | R70: 2 | S70: 0 | T70: C | U70: U | V70: CU45081000 | W70: 001 | X70: C | AH70: 1 | AI70: 2 | AJ70: 4 | AM70: 2021 | AN70: 9999 | AO70: 2 | AP70: 0 | AQ70: C900 | AR70: 0 | AS70: 9999 | AT70: 9999 | AU70: 0 | AV70: 1 | AW70: 0 | AX70: 1 | AY70: 0 | AZ70: 1 | BA70: 1 | BC70: 現代福祉・６ｂ | BG70: 10000000 | BH70: 22277 | BI70: 桐髙 とよみ | BJ70: キリタカ トヨミ | BK70: 02 | BL70: 1 | BM70: 5 | BN70: 1 | BO70: 15 | BP70: 0.00 | BQ70: 0.00 | BR70: 0.00 | BS70: 0 | BT70: 0 | BU70: 0 | BV70: 0 | BW70: 0 | BX70: 0 | BY70: 0 | BZ70: 0 | CA70: 0 | CB70: 0 | CC70: 0 | CD70: 0 | CE70: 1 | CF70: C300991500 | CG70: C300991500 | CI70: 0 | CJ70: 0 | CK70: 2 | CL70: 4 | CM70: C2300 | DU70: ２０２１年度以降入学生用 | DV70: 社会福祉士指定科目 | DW70: 精神保健福祉士指定科目 | EA70: 0 | EB70: 0 | EC70: 0
A71: ○ | B71: ○ | C71: ○ | D71: 0 | E71: 0 | F71: 0 | G71: 1 | H71: 2025 | I71: C | J71: U | K71: U15C306 | L71: CU62091000 | M71: 001 | N71: 地域と語り | P71: 03 | Q71: 後期 月５ | R71: 2 | S71: 0 | T71: C | U71: U | V71: CU62091000 | W71: 001 | X71: C | AH71: 1 | AM71: 2020 | AN71: 9999 | AO71: 2 | AP71: 0 | AQ71: C900 | AR71: 2 | AS71: 9999 | AT71: 9999 | AU71: 0 | AV71: 0 | AW71: 1 | AX71: 1 | AY71: 0 | AZ71: 1 | BA71: 1 | BB71: 学部共通講義（シラバスで卒業要件を確認すること） | BC71: ＣＭ・６ｅ | BG71: 10000000 | BH71: 23211 | BI71: 塩見 翔 | BJ71: シオミ ショウ | BK71: 03 | BL71: 1 | BM71: 5 | BN71: 1 | BO71: 15 | BP71: 0.00 | BQ71: 0.00 | BR71: 0.00 | BS71: 0 | BT71: 0 | BU71: 0 | BV71: 0 | BW71: 0 | BX71: 0 | BY71: 0 | BZ71: 0 | CA71: 0 | CB71: 0 | CC71: 0 | CD71: 0 | CE71: 1 | CF71: C500000500 | CG71: C500000500 | CI71: 0 | CJ71: 0 | CK71: 1 | CL71: 4 | CM71: C2100 | CO71: C2200 | CQ71: C2300 | DR71: 学部共通講義（コミュニティマネジメント学科提供） | DS71: 卒業要件単位に含まれるのは上限１６単位まで（社会学科・現代福祉学科） | EA71: 0 | EB71: 0 | EC71: 0
A72: ○ | B72: ○ | C72: ○ | D72: 0 | E72: 0 | F72: 0 | G72: 0 | H72: 2025 | I72: C | J72: U | K72: U15C307 | L72: CU64990000 | M72: 001 | N72: 語りから未来を紡ぐ | P72: 03 | Q72: 後期 月５ | R72: 2 | S72: 0 | T72: C | U72: U | V72: CU62091000 | W72: 001 | X72: C | AH72: 1 | AM72: 0000 | AN72: 2019 | AO72: 2 | AP72: 0 | AQ72: C900 | AR72: 2 | AS72: 9999 | AT72: 9999 | AU72: 0 | AV72: 0 | AW72: 1 | AX72: 1 | AY72: 0 | AZ72: 1 | BA72: 1 | BB72: 学部共通講義（シラバスで卒業要件を確認すること） | BC72: ＣＭ・６ｅ | BG72: 10000000 | BH72: 23211 | BI72: 塩見 翔 | BJ72: シオミ ショウ | BK72: 03 | BL72: 1 | BM72: 5 | BN72: 1 | BO72: 15 | BP72: 0.00 | BQ72: 0.00 | BR72: 0.00 | BS72: 0 | BT72: 0 | BU72: 0 | BV72: 0 | BW72: 0 | BX72: 0 | BY72: 0 | BZ72: 0 | CA72: 0 | CB72: 0 | CC72: 0 | CD72: 0 | CE72: 1 | CF72: C200006000 | CG72: C500000500 | CI72: 0 | CJ72: 0 | CK72: 1 | CL72: 4 | CM72: C2100 | CO72: C2200 | CQ72: C2300 | DR72: 学部共通講義（コミュニティマネジメント学科提供） | DS72: 卒業要件単位に含まれるのは上限１６単位まで（社会学科・現代福祉学科） | EA72: 0 | EB72: 0 | EC72: 0
C73: ○ | D73: 0 | E73: 0 | F73: 0 | G73: 1 | H73: 2025 | I73: C | J73: U | K73: U15C304 | L73: CU45180000 | M73: 003 | N73: ソーシャルワーク演習Ⅰ | P73: 03 | Q73: 後期 月５ | R73: 2 | S73: 0 | T73: C | U73: U | V73: CU45180000 | W73: 003 | X73: C | AH73: 0 | AM73: 0000 | AN73: 9999 | AO73: 4 | AP73: 0 | AR73: 0 | AS73: 0 | AT73: 0 | AU73: 0 | AV73: 0 | AW73: 1 | AX73: 1 | AY73: 0 | AZ73: 1 | BA73: 0 | BB73: クラス指定科目・ポータルサイトのアンケート機能で事前に登録が必要 | BC73: 現代福祉・５ | BG73: 10000000 | BH73: 25026 | BI73: 越智 紀子 | BJ73: オチ ノリコ | BK73: 03 | BL73: 1 | BM73: 5 | BN73: 1 | BO73: 15 | BP73: 0.00 | BQ73: 0.00 | BR73: 0.00 | BS73: 0 | BT73: 0 | BU73: 0 | BV73: 0 | BW73: 0 | BX73: 0 | BY73: 0 | BZ73: 0 | CA73: 0 | CB73: 0 | CC73: 0 | CD73: 0 | CE73: 1 | CF73: C3SW100030 | CG73: C3SW100010 | CI73: 0 | CJ73: 0 | CK73: 2 | CL73: 4 | CM73: C2300 | DV73: 社会福祉士指定科目 | DW73: 精神保健福祉士指定科目 | EA73: 0 | EB73: 0 | EC73: 0
C74: ○ | D74: 0 | E74: 0 | F74: 0 | G74: 1 | H74: 2025 | I74: C | J74: U | K74: U15C305 | L74: CU45180000 | M74: 006 | N74: ソーシャルワーク演習Ⅰ | P74: 03 | Q74: 後期 月５ | R74: 2 | S74: 0 | T74: C | U74: U | V74: CU45180000 | W74: 006 | X74: C | AH74: 0 | AM74: 0000 | AN74: 9999 | AO74: 4 | AP74: 0 | AR74: 0 | AS74: 0 | AT74: 0 | AU74: 0 | AV74: 0 | AW74: 1 | AX74: 1 | AY74: 0 | AZ74: 1 | BA74: 0 | BB74: クラス指定科目・ポータルサイトのアンケート機能で事前に登録が必要 | BC74: 現代福祉・５ | BG74: 10000000 | BH74: 14269 | BI74: 佐分 厚子 | BJ74: サブリ アツコ | BK74: 03 | BL74: 1 | BM74: 5 | BN74: 1 | BO74: 15 | BP74: 0.00 | BQ74: 0.00 | BR74: 0.00 | BS74: 0 | BT74: 0 | BU74: 0 | BV74: 0 | BW74: 0 | BX74: 0 | BY74: 0 | BZ74: 0 | CA74: 0 | CB74: 0 | CC74: 0 | CD74: 0 | CE74: 1 | CF74: C3SW100060 | CG74: C3SW100010 | CI74: 0 | CJ74: 0 | CK74: 2 | CL74: 4 | CM74: C2300 | DV74: 社会福祉士指定科目 | DW74: 精神保健福祉士指定科目 | EA74: 0 | EB74: 0 | EC74: 0
A75: ○ | B75: ○ | C75: ○ | D75: 0 | E75: 0 | F75: 0 | G75: 1 | H75: 2025 | I75: C | J75: U | K75: U21C209 | L75: CU12000500 | M75: 001 | N75: ＮＰＯ・ＮＧＯ論 | P75: 02 | Q75: 前期 火１ | R75: 2 | S75: 0 | T75: C | U75: U | V75: CU12000500 | W75: 001 | X75: C | AH75: 0 | AM75: 2020 | AN75: 9999 | AO75: 2 | AP75: 0 | AQ75: C100 | AR75: 0 | AS75: 52 | AT75: 52 | AU75: 0 | AV75: 1 | AW75: 0 | AX75: 1 | AY75: 0 | AZ75: 1 | BA75: 1 | BB75: 学部共通講義（シラバスで卒業要件を確認すること）２０２５年度は教室定員の都合上、人数制限を行う | BC75: 社会・６ｅ | BG75: 10000000 | BH75: 94275 | BI75: 柴田 和子 | BJ75: シバタ カズコ | BK75: 02 | BL75: 2 | BM75: 1 | BN75: 1 | BO75: 15 | BP75: 0.00 | BQ75: 0.00 | BR75: 0.00 | BS75: 0 | BT75: 0 | BU75: 0 | BV75: 0 | BW75: 0 | BX75: 0 | BY75: 0 | BZ75: 0 | CA75: 0 | CB75: 0 | CC75: 0 | CD75: 0 | CE75: 1 | CF75: C600000500 | CG75: C600000500 | CI75: 0 | CJ75: 0 | CK75: 2 | CL75: 4 | CM75: C2100 | CO75: C2200 | CQ75: C2300 | DR75: 学部共通講義（社会学科提供） | DS75: 卒業要件単位に含まれるのは上限１６単位まで（コミュニティマネジメント学科・現代福祉学科） | EA75: 0 | EB75: 0 | EC75: 0
A76: ○ | B76: ○ | C76: ○ | D76: 0 | E76: 0 | F76: 0 | G76: 1 | H76: 2025 | I76: C | J76: U | K76: U21C211 | L76: CU22170000 | M76: 001 | N76: 家族福祉論 | P76: 02 | Q76: 前期 火１ | R76: 2 | S76: 0 | T76: C | U76: U | V76: CU22170000 | W76: 001 | X76: C | AH76: 1 | AM76: 0000 | AN76: 9999 | AO76: 2 | AP76: 0 | AQ76: C900 | AR76: 0 | AS76: 9999 | AT76: 9999 | AU76: 0 | AV76: 1 | AW76: 0 | AX76: 1 | AY76: 0 | AZ76: 1 | BA76: 1 | BB76: 学部共通講義（シラバスで卒業要件を確認すること） | BC76: 現代福祉・６ｅ | BG76: 10000000 | BH76: 12320 | BI76: 浦田 雅夫 | BJ76: ウラタ マサオ | BK76: 02 | BL76: 2 | BM76: 1 | BN76: 1 | BO76: 15 | BP76: 0.00 | BQ76: 0.00 | BR76: 0.00 | BS76: 0 | BT76: 0 | BU76: 0 | BV76: 0 | BW76: 0 | BX76: 0 | BY76: 0 | BZ76: 0 | CA76: 0 | CB76: 0 | CC76: 0 | CD76: 0 | CE76: 1 | CF76: C300002300 | CG76: C300002300 | CI76: 0 | CJ76: 0 | CK76: 2 | CL76: 4 | CM76: C2100 | CO76: C2200 | CQ76: C2300 | DR76: 学部共通講義（現代福祉学科提供） | DS76: 卒業要件単位に含まれるのは上限１６単位まで（社会学科・コミュニティマネジメント学科） | EA76: 0 | EB76: 0 | EC76: 0
C77: ○ | D77: 0 | E77: 0 | F77: 0 | G77: 1 | H77: 2025 | I77: C | J77: U | K77: U21C213 | L77: CU45040000 | M77: 001 | N77: 社会福祉原論 | P77: 02 | Q77: 前期 火１、火３ | R77: 4 | S77: 0 | T77: C | U77: U | V77: CU45040000 | W77: 001 | X77: C | AH77: 0 | AM77: 2016 | AN77: 9999 | AO77: 4 | AP77: 0 | AR77: 0 | AS77: 0 | AT77: 0 | AU77: 0 | AV77: 1 | AW77: 0 | AX77: 1 | AY77: 0 | AZ77: 1 | BA77: 1 | BB77: 必修科目 | BC77: 現代福祉・６ａ | BG77: 10000000 | BH77: 95223 | BI77: 砂脇 恵 | BJ77: スナワキ メグミ | BK77: 02 | BL77: 2 | BM77: 1 | BN77: 1 | BO77: 15 | BP77: 0.00 | BQ77: 0.00 | BR77: 0.00 | BS77: 0 | BT77: 0 | BU77: 0 | BV77: 0 | BW77: 0 | BX77: 0 | BY77: 0 | BZ77: 0 | CA77: 0 | CB77: 0 | CC77: 0 | CD77: 0 | CE77: 1 | CF77: C300004300 | CG77: C300004300 | CI77: 0 | CJ77: 0 | CK77: 2 | CL77: 4 | CM77: C2300 | DU77: ２０１６年度以降入学生用 | DV77: 社会福祉士指定科目 | DW77: 精神保健福祉士指定科目 | EA77: 0 | EB77: 0 | EC77: 0
A78: ○ | B78: ○ | C78: ○ | D78: 0 | E78: 0 | F78: 0 | G78: 1 | H78: 2025 | I78: C | J78: U | K78: U21C217 | L78: CU61580000 | M78: 001 | N78: 寺院活動論 | P78: 02 | Q78: 前期 火１ | R78: 2 | S78: 0 | T78: C | U78: U | V78: CU61580000 | W78: 001 | X78: C | AH78: 1 | AM78: 0000 | AN78: 9999 | AO78: 2 | AP78: 0 | AQ78: C900 | AR78: 0 | AS78: 9999 | AT78: 9999 | AU78: 0 | AV78: 1 | AW78: 0 | AX78: 1 | AY78: 0 | AZ78: 1 | BA78: 1 | BB78: 学部共通講義（シラバスで卒業要件を確認すること） | BC78: ＣＭ・６ｅ | BG78: 10000000 | BH78: 04183 | BI78: 井上 見淳 | BJ78: イノウエ ケンジユン | BK78: 02 | BL78: 2 | BM78: 1 | BN78: 1 | BO78: 15 | BP78: 0.00 | BQ78: 0.00 | BR78: 0.00 | BS78: 0 | BT78: 0 | BU78: 0 | BV78: 0 | BW78: 0 | BX78: 0 | BY78: 0 | BZ78: 0 | CA78: 0 | CB78: 0 | CC78: 0 | CD78: 0 | CE78: 1 | CF78: C200000200 | CG78: C200000200 | CI78: 0 | CJ78: 0 | CK78: 2 | CL78: 4 | CM78: C2100 | CO78: C2200 | CQ78: C2300 | DR78: 学部共通講義（コミュニティマネジメント学科提供） | DS78: 卒業要件単位に含まれるのは上限１６単位まで（社会学科・現代福祉学科） | EA78: 0 | EB78: 0 | EC78: 0
A79: ○ | D79: 0 | E79: 0 | F79: 0 | G79: 0 | H79: 2025 | I79: C | J79: U | K79: U21C210 | L79: CU42215000 | M79: 001 | N79: ＮＰＯ論 | P79: 02 | Q79: 前期 火１ | R79: 2 | S79: 0 | T79: C | U79: U | V79: CU12000500 | W79: 001 | X79: C | AH79: 0 | AM79: 2016 | AN79: 2019 | AO79: 2 | AP79: 0 | AQ79: C100 | AR79: 0 | AS79: 52 | AT79: 52 | AU79: 0 | AV79: 1 | AW79: 0 | AX79: 1 | AY79: 0 | AZ79: 1 | BA79: 1 | BB79: ２０２５年度は教室定員の都合上、人数制限を行う | BC79: 社会・６ｅ | BG79: 10000000 | BH79: 94275 | BI79: 柴田 和子 | BJ79: シバタ カズコ | BK79: 02 | BL79: 2 | BM79: 1 | BN79: 1 | BO79: 15 | BP79: 0.00 | BQ79: 0.00 | BR79: 0.00 | BS79: 0 | BT79: 0 | BU79: 0 | BV79: 0 | BW79: 0 | BX79: 0 | BY79: 0 | BZ79: 0 | CA79: 0 | CB79: 0 | CC79: 0 | CD79: 0 | CE79: 1 | CF79: C100006700 | CG79: C600000500 | CI79: 0 | CJ79: 0 | CK79: 3 | CL79: 4 | CM79: C2100 | EA79: 0 | EB79: 0 | EC79: 0
C80: ○ | D80: 0 | E80: 0 | F80: 0 | G80: 1 | H80: 2025 | I80: C | J80: U | K80: U21C214 | L80: CU45190000 | M80: 003 | N80: ソーシャルワーク演習Ⅱ | P80: 02 | Q80: 前期 火１、火２ | R80: 4 | S80: 0 | T80: C | U80: U | V80: CU45190000 | W80: 003 | X80: C | AH80: 0 | AM80: 0000 | AN80: 9999 | AO80: 4 | AP80: 0 | AR80: 0 | AS80: 0 | AT80: 0 | AU80: 0 | AV80: 1 | AW80: 0 | AX80: 1 | AY80: 0 | AZ80: 1 | BA80: 0 | BB80: クラス指定科目・ポータルサイトのアンケート機能で事前に登録が必要 | BC80: 現代福祉・５ | BG80: 10000000 | BH80: 07175 | BI80: 芹沢 出 | BJ80: セリザワ イズル | BK80: 02 | BL80: 2 | BM80: 1 | BN80: 1 | BO80: 15 | BP80: 0.00 | BQ80: 0.00 | BR80: 0.00 | BS80: 0 | BT80: 0 | BU80: 0 | BV80: 0 | BW80: 0 | BX80: 0 | BY80: 0 | BZ80: 0 | CA80: 0 | CB80: 0 | CC80: 0 | CD80: 0 | CE80: 1 | CF80: C3SW200300 | CG80: C3SW200100 | CI80: 0 | CJ80: 0 | CK80: 3 | CL80: 4 | CM80: C2300 | DV80: 社会福祉士指定科目 | EA80: 0 | EB80: 0 | EC80: 0
B81: ○ | D81: 0 | E81: 0 | F81: 0 | G81: 1 | H81: 2025 | I81: C | J81: U | K81: U21C215 | L81: CU60070000 | M81: 011 | N81: 参画ゼミナールⅢ | O81: CM08 | P81: 02 | Q81: 前期 火１ | R81: 2 | S81: 0 | T81: C | U81: U | V81: CU60070000 | W81: 011 | X81: C | AH81: 0 | AM81: 0000 | AN81: 9999 | AO81: 4 | AP81: 0 | AR81: 0 | AS81: 0 | AT81: 0 | AU81: 0 | AV81: 1 | AW81: 0 | AX81: 1 | AY81: 0 | AZ81: 1 | BA81: 1 | BB81: クラス指定科目 | BC81: ＣＭ・１ | BG81: 10000000 | BH81: 11124 | BI81: 古莊 匡義 | BJ81: フルソウ タダヨシ | BK81: 02 | BL81: 2 | BM81: 1 | BN81: 1 | BO81: 15 | BP81: 0.00 | BQ81: 0.00 | BR81: 0.00 | BS81: 0 | BT81: 0 | BU81: 0 | BV81: 0 | BW81: 0 | BX81: 0 | BY81: 0 | BZ81: 0 | CA81: 0 | CB81: 0 | CC81: 0 | CD81: 0 | CE81: 1 | CF81: C2SEM40140 | CG81: C2SEM40020 | CI81: 0 | CJ81: 0 | CK81: 4 | CL81: 4 | CM81: C2200 | EA81: 0 | EB81: 0 | EC81: 0
A82: ○ | B82: ○ | C82: ○ | D82: 0 | E82: 0 | F82: 0 | G82: 1 | H82: 2025 | I82: C | J82: U | K82: U21C312 | L82: CU22175000 | M82: 001 | N82: 生活問題論 | P82: 03 | Q82: 後期 火１ | R82: 2 | S82: 0 | T82: C | U82: U | V82: CU22175000 | W82: 001 | X82: C | AH82: 1 | AM82: 0000 | AN82: 9999 | AO82: 2 | AP82: 0 | AQ82: C900 | AR82: 2 | AS82: 9999 | AT82: 9999 | AU82: 0 | AV82: 0 | AW82: 1 | AX82: 1 | AY82: 0 | AZ82: 1 | BA82: 1 | BB82: 学部共通講義（シラバスで卒業要件を確認すること） | BC82: 現代福祉・６ｅ | BG82: 10000000 | BH82: 95223 | BI82: 砂脇 恵 | BJ82: スナワキ メグミ | BK82: 03 | BL82: 2 | BM82: 1 | BN82: 1 | BO82: 15 | BP82: 0.00 | BQ82: 0.00 | BR82: 0.00 | BS82: 0 | BT82: 0 | BU82: 0 | BV82: 0 | BW82: 0 | BX82: 0 | BY82: 0 | BZ82: 0 | CA82: 0 | CB82: 0 | CC82: 0 | CD82: 0 | CE82: 1 | CF82: C300002400 | CG82: C300002400 | CI82: 0 | CJ82: 0 | CK82: 1 | CL82: 4 | CM82: C2100 | CO82: C2200 | CQ82: C2300 | DR82: 学部共通講義（現代福祉学科提供） | DS82: 卒業要件単位に含まれるのは上限１６単位まで（社会学科・コミュニティマネジメント学科） | EA82: 0 | EB82: 0 | EC82: 0
A83: ○ | D83: 0 | E83: 0 | F83: 0 | G83: 1 | H83: 2025 | I83: C | J83: U | K83: U21C301 | L83: CU11105000 | M83: 001 | N83: 社会学基礎ゼミナール | P83: 03 | Q83: 後期 火１ | R83: 2 | S83: 0 | T83: C | U83: U | V83: CU11105000 | W83: 001 | X83: C | AH83: 0 | AM83: 0000 | AN83: 9999 | AO83: 4 | AP83: 0 | AR83: 0 | AS83: 0 | AT83: 0 | AU83: 0 | AV83: 0 | AW83: 1 | AX83: 1 | AY83: 0 | AZ83: 1 | BA83: 1 | BB83: クラス指定科目 | BC83: 社会・１ | BG83: 10000000 | BH83: 99012 | BI83: 吉田 竜司 | BJ83: ヨシダ リユウジ | BK83: 03 | BL83: 2 | BM83: 1 | BN83: 1 | BO83: 15 | BP83: 0.00 | BQ83: 0.00 | BR83: 0.00 | BS83: 0 | BT83: 0 | BU83: 0 | BV83: 0 | BW83: 0 | BX83: 0 | BY83: 0 | BZ83: 0 | CA83: 0 | CB83: 0 | CC83: 0 | CD83: 0 | CE83: 1 | CF83: C1SEM00210 | CG83: C1SEM00290 | CI83: 0 | CJ83: 0 | CK83: 2 | CL83: 4 | CM83: C2100 | EA83: 0 | EB83: 0 | EC83: 0
A84: ○ | D84: 0 | E84: 0 | F84: 0 | G84: 1 | H84: 2025 | I84: C | J84: U | K84: U21C302 | L84: CU11105000 | M84: 004 | N84: 社会学基礎ゼミナール | P84: 03 | Q84: 後期 火１ | R84: 2 | S84: 0 | T84: C | U84: U | V84: CU11105000 | W84: 004 | X84: C | AH84: 0 | AM84: 0000 | AN84: 9999 | AO84: 4 | AP84: 0 | AR84: 0 | AS84: 0 | AT84: 0 | AU84: 0 | AV84: 0 | AW84: 1 | AX84: 1 | AY84: 0 | AZ84: 1 | BA84: 1 | BB84: クラス指定科目 | BC84: 社会・１ | BG84: 10000000 | BH84: 04014 | BI84: 脇田 健一 | BJ84: ワキタ ケンイチ | BK84: 03 | BL84: 2 | BM84: 1 | BN84: 1 | BO84: 15 | BP84: 0.00 | BQ84: 0.00 | BR84: 0.00 | BS84: 0 | BT84: 0 | BU84: 0 | BV84: 0 | BW84: 0 | BX84: 0 | BY84: 0 | BZ84: 0 | CA84: 0 | CB84: 0 | CC84: 0 | CD84: 0 | CE84: 1 | CF84: C1SEM00240 | CG84: C1SEM00290 | CI84: 0 | CJ84: 0 | CK84: 2 | CL84: 4 | CM84: C2100 | EA84: 0 | EB84: 0 | EC84: 0
A85: ○ | D85: 0 | E85: 0 | F85: 0 | G85: 1 | H85: 2025 | I85: C | J85: U | K85: U21C303 | L85: CU11105000 | M85: 006 | N85: 社会学基礎ゼミナール | P85: 03 | Q85: 後期 火１ | R85: 2 | S85: 0 | T85: C | U85: U | V85: CU11105000 | W85: 006 | X85: C | AH85: 0 | AM85: 0000 | AN85: 9999 | AO85: 4 | AP85: 0 | AR85: 0 | AS85: 0 | AT85: 0 | AU85: 0 | AV85: 0 | AW85: 1 | AX85: 1 | AY85: 0 | AZ85: 1 | BA85: 1 | BB85: クラス指定科目 | BC85: 社会・１ | BG85: 10000000 | BH85: 95026 | BI85: 嶋崎 陽一 | BJ85: シマザキ ヨウイチ | BK85: 03 | BL85: 2 | BM85: 1 | BN85: 1 | BO85: 15 | BP85: 0.00 | BQ85: 0.00 | BR85: 0.00 | BS85: 0 | BT85: 0 | BU85: 0 | BV85: 0 | BW85: 0 | BX85: 0 | BY85: 0 | BZ85: 0 | CA85: 0 | CB85: 0 | CC85: 0 | CD85: 0 | CE85: 1 | CF85: C1SEM00260 | CG85: C1SEM00290 | CI85: 0 | CJ85: 0 | CK85: 2 | CL85: 4 | CM85: C2100 | EA85: 0 | EB85: 0 | EC85: 0
A86: ○ | D86: 0 | E86: 0 | F86: 0 | G86: 1 | H86: 2025 | I86: C | J86: U | K86: U21C304 | L86: CU11105000 | M86: 008 | N86: 社会学基礎ゼミナール | P86: 03 | Q86: 後期 火１ | R86: 2 | S86: 0 | T86: C | U86: U | V86: CU11105000 | W86: 008 | X86: C | AH86: 0 | AM86: 0000 | AN86: 9999 | AO86: 4 | AP86: 0 | AR86: 0 | AS86: 0 | AT86: 0 | AU86: 0 | AV86: 0 | AW86: 1 | AX86: 1 | AY86: 0 | AZ86: 1 | BA86: 1 | BB86: クラス指定科目 | BC86: 社会・１ | BG86: 10000000 | BH86: 22005 | BI86: 閻 美芳 | BJ86: ヤン メイファン | BK86: 03 | BL86: 2 | BM86: 1 | BN86: 1 | BO86: 15 | BP86: 0.00 | BQ86: 0.00 | BR86: 0.00 | BS86: 0 | BT86: 0 | BU86: 0 | BV86: 0 | BW86: 0 | BX86: 0 | BY86: 0 | BZ86: 0 | CA86: 0 | CB86: 0 | CC86: 0 | CD86: 0 | CE86: 1 | CF86: C1SEM00280 | CG86: C1SEM00290 | CI86: 0 | CJ86: 0 | CK86: 2 | CL86: 4 | CM86: C2100 | EA86: 0 | EB86: 0 | EC86: 0
A87: ○ | D87: 0 | E87: 0 | F87: 0 | G87: 1 | H87: 2025 | I87: C | J87: U | K87: U21C305 | L87: CU11105000 | M87: 009 | N87: 社会学基礎ゼミナール | P87: 03 | Q87: 後期 火１ | R87: 2 | S87: 0 | T87: C | U87: U | V87: CU11105000 | W87: 009 | X87: C | AH87: 0 | AM87: 0000 | AN87: 9999 | AO87: 4 | AP87: 0 | AR87: 0 | AS87: 0 | AT87: 0 | AU87: 0 | AV87: 0 | AW87: 1 | AX87: 1 | AY87: 0 | AZ87: 1 | BA87: 1 | BB87: クラス指定科目 | BC87: 社会・１ | BG87: 10000000 | BH87: 22004 | BI87: 松岡 亮二 | BJ87: マツオカ リョウジ | BK87: 03 | BL87: 2 | BM87: 1 | BN87: 1 | BO87: 15 | BP87: 0.00 | BQ87: 0.00 | BR87: 0.00 | BS87: 0 | BT87: 0 | BU87: 0 | BV87: 0 | BW87: 0 | BX87: 0 | BY87: 0 | BZ87: 0 | CA87: 0 | CB87: 0 | CC87: 0 | CD87: 0 | CE87: 1 | CF87: C1SEM00290 | CG87: C1SEM00290 | CI87: 0 | CJ87: 0 | CK87: 2 | CL87: 4 | CM87: C2100 | EA87: 0 | EB87: 0 | EC87: 0
A88: ○ | D88: 0 | E88: 0 | F88: 0 | G88: 1 | H88: 2025 | I88: C | J88: U | K88: U21C306 | L88: CU11105000 | M88: 010 | N88: 社会学基礎ゼミナール | P88: 03 | Q88: 後期 火１ | R88: 2 | S88: 0 | T88: C | U88: U | V88: CU11105000 | W88: 010 | X88: C | AH88: 0 | AM88: 0000 | AN88: 9999 | AO88: 4 | AP88: 0 | AR88: 0 | AS88: 0 | AT88: 0 | AU88: 0 | AV88: 0 | AW88: 1 | AX88: 1 | AY88: 0 | AZ88: 1 | BA88: 1 | BB88: クラス指定科目 | BC88: 社会・１ | BG88: 10000000 | BH88: 94275 | BI88: 柴田 和子 | BJ88: シバタ カズコ | BK88: 03 | BL88: 2 | BM88: 1 | BN88: 1 | BO88: 15 | BP88: 0.00 | BQ88: 0.00 | BR88: 0.00 | BS88: 0 | BT88: 0 | BU88: 0 | BV88: 0 | BW88: 0 | BX88: 0 | BY88: 0 | BZ88: 0 | CA88: 0 | CB88: 0 | CC88: 0 | CD88: 0 | CE88: 1 | CF88: C1SEM00300 | CG88: C1SEM00290 | CI88: 0 | CJ88: 0 | CK88: 2 | CL88: 4 | CM88: C2100 | EA88: 0 | EB88: 0 | EC88: 0
A89: ○ | D89: 0 | E89: 0 | F89: 0 | G89: 1 | H89: 2025 | I89: C | J89: U | K89: U21C307 | L89: CU11105000 | M89: 011 | N89: 社会学基礎ゼミナール | P89: 03 | Q89: 後期 火１ | R89: 2 | S89: 0 | T89: C | U89: U | V89: CU11105000 | W89: 011 | X89: C | AH89: 0 | AM89: 0000 | AN89: 9999 | AO89: 4 | AP89: 0 | AR89: 0 | AS89: 0 | AT89: 0 | AU89: 0 | AV89: 0 | AW89: 1 | AX89: 1 | AY89: 0 | AZ89: 1 | BA89: 1 | BB89: クラス指定科目 | BC89: 社会・１ | BG89: 10000000 | BH89: 02016 | BI89: 村澤 真保呂 | BJ89: ムラサワ マホロ | BK89: 03 | BL89: 2 | BM89: 1 | BN89: 1 | BO89: 15 | BP89: 0.00 | BQ89: 0.00 | BR89: 0.00 | BS89: 0 | BT89: 0 | BU89: 0 | BV89: 0 | BW89: 0 | BX89: 0 | BY89: 0 | BZ89: 0 | CA89: 0 | CB89: 0 | CC89: 0 | CD89: 0 | CE89: 1 | CF89: C1SEM00310 | CG89: C1SEM00290 | CI89: 0 | CJ89: 0 | CK89: 2 | CL89: 4 | CM89: C2100 | EA89: 0 | EB89: 0 | EC89: 0
A90: ○ | D90: 0 | E90: 0 | F90: 0 | G90: 1 | H90: 2025 | I90: C | J90: U | K90: U21C308 | L90: CU11105000 | M90: 012 | N90: 社会学基礎ゼミナール | P90: 03 | Q90: 後期 火１ | R90: 2 | S90: 0 | T90: C | U90: U | V90: CU11105000 | W90: 012 | X90: C | AH90: 0 | AM90: 0000 | AN90: 9999 | AO90: 4 | AP90: 0 | AR90: 0 | AS90: 0 | AT90: 0 | AU90: 0 | AV90: 0 | AW90: 1 | AX90: 1 | AY90: 0 | AZ90: 1 | BA90: 1 | BB90: クラス指定科目 | BC90: 社会・１ | BG90: 10000000 | BH90: 03366 | BI90: 松本 拓 | BJ90: マツモト タク | BK90: 03 | BL90: 2 | BM90: 1 | BN90: 1 | BO90: 15 | BP90: 0.00 | BQ90: 0.00 | BR90: 0.00 | BS90: 0 | BT90: 0 | BU90: 0 | BV90: 0 | BW90: 0 | BX90: 0 | BY90: 0 | BZ90: 0 | CA90: 0 | CB90: 0 | CC90: 0 | CD90: 0 | CE90: 1 | CF90: C1SEM00320 | CG90: C1SEM00290 | CI90: 0 | CJ90: 0 | CK90: 2 | CL90: 4 | CM90: C2100 | EA90: 0 | EB90: 0 | EC90: 0
B91: ○ | D91: 0 | E91: 0 | F91: 0 | G91: 1 | H91: 2025 | I91: C | J91: U | K91: U21C316 | L91: CU60080000 | M91: 011 | N91: 参画ゼミナールⅣ | O91: CM08 | P91: 03 | Q91: 後期 火１ | R91: 2 | S91: 0 | T91: C | U91: U | V91: CU60080000 | W91: 011 | X91: C | AH91: 0 | AM91: 0000 | AN91: 9999 | AO91: 4 | AP91: 0 | AR91: 0 | AS91: 0 | AT91: 0 | AU91: 0 | AV91: 0 | AW91: 1 | AX91: 1 | AY91: 0 | AZ91: 1 | BA91: 1 | BB91: クラス指定科目 | BC91: ＣＭ・１ | BG91: 10000000 | BH91: 11124 | BI91: 古莊 匡義 | BJ91: フルソウ タダヨシ | BK91: 03 | BL91: 2 | BM91: 1 | BN91: 1 | BO91: 15 | BP91: 0.00 | BQ91: 0.00 | BR91: 0.00 | BS91: 0 | BT91: 0 | BU91: 0 | BV91: 0 | BW91: 0 | BX91: 0 | BY91: 0 | BZ91: 0 | CA91: 0 | CB91: 0 | CC91: 0 | CD91: 0 | CE91: 1 | CF91: C2SEM40340 | CG91: C2SEM40220 | CI91: 0 | CJ91: 0 | CK91: 4 | CL91: 4 | CM91: C2200 | EA91: 0 | EB91: 0 | EC91: 0
A92: ○ | D92: 0 | E92: 0 | F92: 0 | G92: 1 | H92: 2025 | I92: C | J92: U | K92: U22C102 | L92: CU12126000 | M92: 001 | N92: 社会調査実習 | P92: 01 | Q92: 通年 火２ | R92: 4 | S92: 0 | T92: C | U92: U | V92: CU12126000 | W92: 001 | X92: C | AH92: 0 | AM92: 0000 | AN92: 9999 | AO92: 2 | AP92: 0 | AQ92: C100 | AR92: 0 | AS92: 15 | AT92: 15 | AU92: 0 | AV92: 0 | AW92: 1 | AX92: 1 | AY92: 0 | AZ92: 1 | BA92: 0 | BB92: 【抽選登録科目】 | BC92: 社会・５ 【注意！】コマは前期１、後期２ | BG92: 10000000 | BH92: 01010 | BI92: 黒田 浩一郎 | BJ92: クロダ コウイチロウ | BK92: 01 | BL92: 2 | BM92: 2 | BN92: 1 | BO92: 30 | BP92: 0.00 | BQ92: 0.00 | BR92: 0.00 | BS92: 0 | BT92: 0 | BU92: 0 | BV92: 0 | BW92: 0 | BX92: 0 | BY92: 0 | BZ92: 0 | CA92: 0 | CB92: 0 | CC92: 0 | CD92: 0 | CE92: 1 | CF92: C100004100 | CG92: C100004100 | CI92: 0 | CJ92: 0 | CK92: 3 | CL92: 4 | CM92: C2100 | DR92: 社会調査士課程科目 | EA92: 0 | EB92: 0 | EC92: 0
A93: 0 | B93: 0 | C93: 0 | D93: ○ | E93: 0 | F93: 0 | G93: 1 | H93: 2025 | I93: C | J93: U | K93: U22C220 | L93: CU25310001 | M93: 001 | N93: メディア産業論 | P93: 02 | Q93: 前期 火２ | R93: 2 | S93: 0 | T93: C | U93: U | V93: CU25310001 | W93: 001 | X93: C | AH93: 1 | AM93: 2025 | AN93: 9999 | AO93: 2 | AP93: 0 | AQ93: C900 | AR93: 0 | AS93: 9999 | AT93: 9999 | AU93: 1 | AV93: 0 | AW93: 0 | AX93: 1 | AY93: 0 | AZ93: 1 | BA93: 1 | BG93: 10000000 | BH93: 13262 | BI93: 岸本 文利 | BJ93: キシモト フミトシ | BK93: 02 | BL93: 2 | BM93: 2 | BN93: 1 | BO93: 15 | BP93: 0.00 | BQ93: 0.00 | BR93: 0.00 | BS93: 0 | BT93: 0 | BU93: 0 | BV93: 0 | BW93: 0 | BX93: 0 | BY93: 0 | BZ93: 0 | CA93: 0 | CB93: 0 | CC93: 0 | CD93: 0 | CE93: 1 | CF93: C531000101 | CG93: C531000101 | CI93: 0 | CJ93: 0 | CK93: 1 | CL93: 4 | CM93: C8000 | EA93: 0 | EB93: 0 | EC93: 0
A94: 0 | B94: 0 | C94: 0 | D94: ○ | E94: 0 | F94: 0 | G94: 1 | H94: 2025 | I94: C | J94: U | K94: U22C221 | L94: CU25726001 | M94: 001 | N94: プレゼンテーション技法 | P94: 02 | Q94: 前期 火２ | R94: 2 | S94: 0 | T94: C | U94: U | V94: CU25726001 | W94: 001 | X94: C | AH94: 1 | AM94: 2025 | AN94: 9999 | AO94: 2 | AP94: 0 | AQ94: C900 | AR94: 0 | AS94: 9999 | AT94: 9999 | AU94: 1 | AV94: 0 | AW94: 0 | AX94: 1 | AY94: 0 | AZ94: 1 | BA94: 1 | BG94: 10000000 | BH94: 17248 | BI94: 坂本 清彦 | BJ94: サカモト キヨヒコ | BK94: 02 | BL94: 2 | BM94: 2 | BN94: 1 | BO94: 15 | BP94: 0.00 | BQ94: 0.00 | BR94: 0.00 | BS94: 0 | BT94: 0 | BU94: 0 | BV94: 0 | BW94: 0 | BX94: 0 | BY94: 0 | BZ94: 0 | CA94: 0 | CB94: 0 | CC94: 0 | CD94: 0 | CE94: 1 | CF94: C572600101 | CG94: C572600101 | CI94: 0 | CJ94: 0 | CK94: 1 | CL94: 4 | CM94: C8000 | EA94: 0 | EB94: 0 | EC94: 0
A95: ○ | B95: ○ | C95: ○ | D95: ○ | E95: 0 | F95: 0 | G95: 1 | H95: 2025 | I95: C | J95: U | K95: U22C211 | L95: CU60630000 | M95: 001 | N95: キャリアデザイン論 | P95: 02 | Q95: 前期 火２ | R95: 2 | S95: 0 | T95: C | U95: U | V95: CU60630000 | W95: 001 | X95: C | AH95: 0 | AM95: 0000 | AN95: 9999 | AO95: 4 | AP95: 0 | AQ95: C100 | AR95: 0 | AS95: 40 | AT95: 40 | AU95: 0 | AV95: 1 | AW95: 0 | AX95: 1 | AY95: 0 | AZ95: 1 | BA95: 1 | BB95: 【抽選登録科目】、（～２０２４入学生）学部共通講義（シラバスで卒業要件を確認すること） | BC95: ＣＭ・６ｅ | BG95: 10000000 | BH95: 11287 | BI95: 澤田 幸子 | BJ95: サワダ サチコ | BK95: 02 | BL95: 2 | BM95: 2 | BN95: 1 | BO95: 15 | BP95: 0.00 | BQ95: 0.00 | BR95: 0.00 | BS95: 0 | BT95: 0 | BU95: 0 | BV95: 0 | BW95: 0 | BX95: 0 | BY95: 0 | BZ95: 0 | CA95: 0 | CB95: 0 | CC95: 0 | CD95: 0 | CE95: 1 | CF95: C200007700 | CG95: C200007700 | CI95: 0 | CJ95: 0 | CK95: 1 | CL95: 4 | CM95: C2100 | CO95: C2200 | CQ95: C2300 | CS95: C8000 | DQ95: キャリア啓発科目：進路動機付け科目（キャリア意識を醸成する教育）です。 | DR95: 学部共通講義（コミュニティマネジメント学科提供） | DS95: 卒業要件単位に含まれるのは上限１６単位まで（社会学科・現代福祉学科） | EA95: 0 | EB95: 0 | EC95: 0
A96: ○ | B96: ○ | C96: ○ | D96: 0 | E96: 0 | F96: 0 | G96: 1 | H96: 2025 | I96: C | J96: U | K96: U22C214 | L96: CU64810000 | M96: 001 | N96: ジャーナリズム論Ⅰ | P96: 02 | Q96: 前期 火２ | R96: 2 | S96: 0 | T96: C | U96: U | V96: CU64810000 | W96: 001 | X96: C | AH96: 1 | AM96: 0000 | AN96: 9999 | AO96: 2 | AP96: 0 | AQ96: C900 | AR96: 0 | AS96: 9999 | AT96: 9999 | AU96: 0 | AV96: 1 | AW96: 0 | AX96: 1 | AY96: 0 | AZ96: 1 | BA96: 1 | BB96: 学部共通講義（シラバスで卒業要件を確認すること） | BC96: ＣＭ・６ｅ | BG96: 10000000 | BH96: 98015 | BI96: 李 相哲 | BJ96: リ ソウテツ | BK96: 02 | BL96: 2 | BM96: 2 | BN96: 1 | BO96: 15 | BP96: 0.00 | BQ96: 0.00 | BR96: 0.00 | BS96: 0 | BT96: 0 | BU96: 0 | BV96: 0 | BW96: 0 | BX96: 0 | BY96: 0 | BZ96: 0 | CA96: 0 | CB96: 0 | CC96: 0 | CD96: 0 | CE96: 1 | CF96: C200007400 | CG96: C200007400 | CI96: 0 | CJ96: 0 | CK96: 2 | CL96: 4 | CM96: C2100 | CO96: C2200 | CQ96: C2300 | DR96: 学部共通講義（コミュニティマネジメント学科提供） | DS96: 卒業要件単位に含まれるのは上限１６単位まで（社会学科・現代福祉学科） | EA96: 0 | EB96: 0 | EC96: 0
C97: ○ | D97: 0 | E97: 0 | F97: 0 | G97: 1 | H97: 2025 | I97: C | J97: U | K97: U22C203 | L97: CU44281000 | M97: 001 | N97: 精神障害リハビリテーション論 | P97: 02 | Q97: 前期 火２ | R97: 2 | S97: 0 | T97: C | U97: U | V97: CU44281000 | W97: 001 | X97: C | AH97: 1 | AM97: 2021 | AN97: 9999 | AO97: 2 | AP97: 0 | AQ97: C900 | AR97: 0 | AS97: 9999 | AT97: 9999 | AU97: 0 | AV97: 1 | AW97: 0 | AX97: 1 | AY97: 0 | AZ97: 1 | BA97: 1 | BC97: 現代福祉・６ｂ | BG97: 10000000 | BH97: 21214 | BI97: 和泉 亮 | BJ97: イズミ リョウ | BK97: 02 | BL97: 2 | BM97: 2 | BN97: 1 | BO97: 15 | BP97: 0.00 | BQ97: 0.00 | BR97: 0.00 | BS97: 0 | BT97: 0 | BU97: 0 | BV97: 0 | BW97: 0 | BX97: 0 | BY97: 0 | BZ97: 0 | CA97: 0 | CB97: 0 | CC97: 0 | CD97: 0 | CE97: 1 | CF97: C300003710 | CG97: C300003710 | CI97: 0 | CJ97: 0 | CK97: 3 | CL97: 4 | CM97: C2300 | DW97: 精神保健福祉士指定科目 | EA97: 0 | EB97: 0 | EC97: 0
C98: ○ | D98: 0 | E98: 0 | F98: 0 | G98: 1 | H98: 2025 | I98: C | J98: U | K98: U21C214 | L98: CU45190000 | M98: 003 | N98: ソーシャルワーク演習Ⅱ | P98: 02 | Q98: 前期 火１、火２ | R98: 4 | S98: 0 | T98: C | U98: U | V98: CU45190000 | W98: 003 | X98: C | AH98: 0 | AM98: 0000 | AN98: 9999 | AO98: 4 | AP98: 0 | AR98: 0 | AS98: 0 | AT98: 0 | AU98: 0 | AV98: 1 | AW98: 0 | AX98: 1 | AY98: 0 | AZ98: 1 | BA98: 0 | BB98: クラス指定科目・ポータルサイトのアンケート機能で事前に登録が必要 | BC98: 現代福祉・５ | BG98: 10000000 | BH98: 07175 | BI98: 芹沢 出 | BJ98: セリザワ イズル | BK98: 02 | BL98: 2 | BM98: 2 | BN98: 1 | BO98: 15 | BP98: 0.00 | BQ98: 0.00 | BR98: 0.00 | BS98: 0 | BT98: 0 | BU98: 0 | BV98: 0 | BW98: 0 | BX98: 0 | BY98: 0 | BZ98: 0 | CA98: 0 | CB98: 0 | CC98: 0 | CD98: 0 | CE98: 1 | CF98: C3SW200300 | CG98: C3SW200100 | CI98: 0 | CJ98: 0 | CK98: 3 | CL98: 4 | CM98: C2300 | DV98: 社会福祉士指定科目 | EA98: 0 | EB98: 0 | EC98: 0
B99: ○ | D99: 0 | E99: 0 | F99: 0 | G99: 1 | H99: 2025 | I99: C | J99: U | K99: U22C206 | L99: CU60050000 | M99: 011 | N99: 参画ゼミナールⅠ | O99: CM04 | P99: 02 | Q99: 前期 火２ | R99: 2 | S99: 0 | T99: C | U99: U | V99: CU60050000 | W99: 011 | X99: C | AH99: 0 | AM99: 0000 | AN99: 9999 | AO99: 4 | AP99: 0 | AR99: 0 | AS99: 0 | AT99: 0 | AU99: 0 | AV99: 1 | AW99: 0 | AX99: 1 | AY99: 0 | AZ99: 1 | BA99: 1 | BB99: クラス指定科目 | BC99: ＣＭ・１ | BG99: 10000000 | BH99: 11124 | BI99: 古莊 匡義 | BJ99: フルソウ タダヨシ | BK99: 02 | BL99: 2 | BM99: 2 | BN99: 1 | BO99: 15 | BP99: 0.00 | BQ99: 0.00 | BR99: 0.00 | BS99: 0 | BT99: 0 | BU99: 0 | BV99: 0 | BW99: 0 | BX99: 0 | BY99: 0 | BZ99: 0 | CA99: 0 | CB99: 0 | CC99: 0 | CD99: 0 | CE99: 1 | CF99: C2SEM30130 | CG99: C2SEM30020 | CI99: 0 | CJ99: 0 | CK99: 3 | CL99: 4 | CM99: C2200 | EA99: 0 | EB99: 0 | EC99: 0
B100: ○ | D100: 0 | E100: 0 | F100: 0 | G100: 1 | H100: 2025 | I100: C | J100: U | K100: U22C207 | L100: CU60050000 | M100: 012 | N100: 参画ゼミナールⅠ | O100: CM13 | P100: 02 | Q100: 前期 火２ | R100: 2 | S100: 0 | T100: C | U100: U | V100: CU60050000 | W100: 012 | X100: C | AH100: 0 | AM100: 0000 | AN100: 9999 | AO100: 4 | AP100: 0 | AR100: 0 | AS100: 0 | AT100: 0 | AU100: 0 | AV100: 1 | AW100: 0 | AX100: 1 | AY100: 0 | AZ100: 1 | BA100: 1 | BB100: クラス指定科目 | BC100: ＣＭ・１ | BG100: 10000000 | BH100: 25008 | BI100: 数実 浩佑 | BJ100: カズミ コウスケ | BK100: 02 | BL100: 2 | BM100: 2 | BN100: 1 | BO100: 15 | BP100: 0.00 | BQ100: 0.00 | BR100: 0.00 | BS100: 0 | BT100: 0 | BU100: 0 | BV100: 0 | BW100: 0 | BX100: 0 | BY100: 0 | BZ100: 0 | CA100: 0 | CB100: 0 | CC100: 0 | CD100: 0 | CE100: 1 | CF100: C2SEM30140 | CG100: C2SEM30020 | CI100: 0 | CJ100: 0 | CK100: 3 | CL100: 4 | CM100: C2200 | EA100: 0 | EB100: 0 | EC100: 0
...

Sheet 時間割データ
K1: 10 | N1: 6 | O1: 9 | AN1: 7 | BK1: 3 | BL1: 1 | BM1: 2 | CK1: 8 | EA1: 備考 | EB1: 必修選択 | EC1: 再履修
A2: 社会 | B2: ＣＭ | C2: 福祉 | D2: 総合社会 | E2: 分野① | F2: 分野② | G2: ●主レコード フラグ | H2: 開講年度 | I2: 開講学部 コード | J2: 設置区分 | K2: 時間割番号 | L2: 科目コード | M2: クラスコード | N2: ●授業名 | O2: クラス名 | P2: ●科目開講期 コード | Q2: ●開講曜講時 | R2: ●単位 | S2: ●受講者数 | T2: 主開講 学部コード | U2: 主開講 設置区分 | V2: 主開講 科目コード | W2: 主開講 クラスコード | X2: 履修可能 学部１ | Y2: 履修可能 学部２ | Z2: 履修可能 学部３ | AA2: 履修可能 学部４ | AB2: 履修可能 学部５ | AC2: 履修可能 学部６ | AD2: 履修可能 学部７ | AE2: 履修可能 学部８ | AF2: 履修可能 学部９ | AG2: 履修可能 学部１０ | AH2: 履修辞退 可能フラグ | AI2: 配当年次 FROM | AJ2: 配当年次 TO | AK2: 配当セメスタ FROM | AL2: 配当セメスタ TO | AM2: 配当カリキュラム年度 FROM | AN2: 配当カリキュラム年度 TO | AO2: 履修登録 方法区分 | AP2: 単位互換 区分 | AQ2: 抽選パターン コード | AR2: 抽選状態 コード | AS2: 前期登録 定員 | AT2: 後期登録 定員 | AU2: 採点パターン | AV2: 第１学期 採点フラグ | AW2: 第２学期 採点フラグ | AX2: 履修制限算入 | AY2: 継続評価 | AZ2: ●開講区分 | BA2: 授業評価 アンケート | BB2: 備考（学生への表示項目） | BC2: メモ欄１ | BD2: メモ欄２ | BE2: メモ欄３ | BF2: メモ欄４ | BG2: 施設コード | BH2: 教職員コード | BI2: ●教員名 | BJ2: ●カナ氏名 | BK2: 担当科目 開講期コード | BL2: 担当 曜日コード | BM2: 担当 講時コード | BN2: 担当 順位 | BO2: 担当 授業回数 | BP2: ●担当 前期コマ数 | BQ2: ●担当 後期コマ数 | BR2: ●担当 通年コマ数 | BS2: ●支払４月 | BT2: ●支払５月 | BU2: ●支払６月 | BV2: ●支払７月 | BW2: ●支払８月 | BX2: ●支払９月 | BY2: ●支払１０月 | BZ2: ●支払１１月 | CA2: ●支払１２月 | CB2: ●支払１月 | CC2: ●支払２月 | CD2: ●支払３月 | CE2: ●シラバス 主担当フラグ | CF2: シラバス管理番号 | CG2: シラバス合併番号 | CH2: 講義概要参照先番号 | CI2: シラバス 状態 | CJ2: 演習 サイン | CK2: シラバス用 配当年次Ｆｒｏｍ | CL2: シラバス用 配当年次Ｔｏ | CM2: 属性番号１ | CN2: 属性内 ソートキー１ | CO2: 属性番号２ | CP2: 属性内 ソートキー２ | CQ2: 属性番号３ | CR2: 属性内 ソートキー３ | CS2: 属性番号４ | CT2: 属性内 ソートキー４ | CU2: 属性番号５ | CV2: 属性内 ソートキー５ | CW2: 属性番号６ | CX2: 属性内 ソートキー６ | CY2: 属性番号７ | CZ2: 属性内 ソートキー７ | DA2: 属性番号８ | DB2: 属性内 ソートキー８ | DC2: 属性番号９ | DD2: 属性内 ソートキー９ | DE2: 属性番号１０ | DF2: 属性内 ソートキー１０ | DG2: 履修可能 学科１ | DH2: 履修可能 学科２ | DI2: 履修可能 学科３ | DJ2: 履修可能 学科４ | DK2: 履修可能 学科５ | DL2: 履修可能 学科６ | DM2: 履修可能 学科７ | DN2: 履修可能 学科８ | DO2: 履修可能 学科９ | DP2: 履修可能 学科１０ | DQ2: 備考１ | DR2: 備考２ | DS2: 備考３ | DT2: 備考４ | DU2: 備考５ | DV2: 備考６ | DW2: 備考７ | DX2: 備考８ | DY2: 備考９ | DZ2: 備考１０
A3: =+IF(_xlfn.XLOOKUP($N3,'★参考 2024年度社会学部時間割'!$M:$M,'★参考 2024年度社会学部時間割'!A:A)=0,"",_xlfn.XLOOKUP($N3,'★参考 2024年度社会学部時間割'!$M:$M,'★参考 2024年度社会学部時間割'!A:A)) -> ○ | B3: =+IF(_xlfn.XLOOKUP($N3,'★参考 2024年度社会学部時間割'!$M:$M,'★参考 2024年度社会学部時間割'!B:B)=0,"",_xlfn.XLOOKUP($N3,'★参考 2024年度社会学部時間割'!$M:$M,'★参考 2024年度社会学部時間割'!B:B)) | C3: =+IF(_xlfn.XLOOKUP($N3,'★参考 2024年度社会学部時間割'!$M:$M,'★参考 2024年度社会学部時間割'!C:C)=0,"",_xlfn.XLOOKUP($N3,'★参考 2024年度社会学部時間割'!$M:$M,'★参考 2024年度社会学部時間割'!C:C)) | G3: 1 | H3: 2025 | I3: C | J3: U | K3: U21C301 | L3: CU11105000 | M3: 001 | N3: 社会学基礎ゼミナール | P3: 03 | Q3: 後期 火１ | R3: 2 | S3: 0 | T3: C | U3: U | V3: CU11105000 | W3: 001 | X3: C | AH3: 0 | AM3: 0000 | AN3: 9999 | AO3: 4 | AP3: 0 | AR3: 0 | AS3: 0 | AT3: 0 | AU3: 0 | AV3: 0 | AW3: 1 | AX3: 1 | AY3: 0 | AZ3: 1 | BA3: 1 | BB3: クラス指定科目 | BC3: 社会・１ | BG3: 10000000 | BH3: 99012 | BI3: 吉田 竜司 | BJ3: ヨシダ リユウジ | BK3: 03 | BL3: 2 | BM3: 1 | BN3: 1 | BO3: 15 | BP3: 0.00 | BQ3: 0.00 | BR3: 0.00 | BS3: 0 | BT3: 0 | BU3: 0 | BV3: 0 | BW3: 0 | BX3: 0 | BY3: 0 | BZ3: 0 | CA3: 0 | CB3: 0 | CC3: 0 | CD3: 0 | CE3: 1 | CF3: C1SEM00210 | CG3: C1SEM00290 | CI3: 0 | CJ3: 0 | CK3: 2 | CL3: 4 | CM3: C2100
A4: =+IF(_xlfn.XLOOKUP($N4,'★参考 2024年度社会学部時間割'!$M:$M,'★参考 2024年度社会学部時間割'!A:A)=0,"",_xlfn.XLOOKUP($N4,'★参考 2024年度社会学部時間割'!$M:$M,'★参考 2024年度社会学部時間割'!A:A)) -> ○ | B4: =+IF(_xlfn.XLOOKUP($N4,'★参考 2024年度社会学部時間割'!$M:$M,'★参考 2024年度社会学部時間割'!B:B)=0,"",_xlfn.XLOOKUP($N4,'★参考 2024年度社会学部時間割'!$M:$M,'★参考 2024年度社会学部時間割'!B:B)) | C4: =+IF(_xlfn.XLOOKUP($N4,'★参考 2024年度社会学部時間割'!$M:$M,'★参考 2024年度社会学部時間割'!C:C)=0,"",_xlfn.XLOOKUP($N4,'★参考 2024年度社会学部時間割'!$M:$M,'★参考 2024年度社会学部時間割'!C:C)) | G4: 1 | H4: 2025 | I4: C | J4: U | K4: U51C301 | L4: CU11105000 | M4: 002 | N4: 社会学基礎ゼミナール | P4: 03 | Q4: 後期 金１ | R4: 2 | S4: 0 | T4: C | U4: U | V4: CU11105000 | W4: 002 | X4: C | AH4: 0 | AM4: 0000 | AN4: 9999 | AO4: 4 | AP4: 0 | AR4: 0 | AS4: 0 | AT4: 0 | AU4: 0 | AV4: 0 | AW4: 1 | AX4: 1 | AY4: 0 | AZ4: 1 | BA4: 1 | BB4: クラス指定科目 | BC4: 社会・１ | BG4: 10000000 | BH4: 11014 | BI4: 猪瀬 優理 | BJ4: イノセ ユリ | BK4: 03 | BL4: 5 | BM4: 1 | BN4: 1 | BO4: 15 | BP4: 0.00 | BQ4: 0.00 | BR4: 0.00 | BS4: 0 | BT4: 0 | BU4: 0 | BV4: 0 | BW4: 0 | BX4: 0 | BY4: 0 | BZ4: 0 | CA4: 0 | CB4: 0 | CC4: 0 | CD4: 0 | CE4: 1 | CF4: C1SEM00220 | CG4: C1SEM00290 | CI4: 0 | CJ4: 0 | CK4: 2 | CL4: 4 | CM4: C2100
A5: =+IF(_xlfn.XLOOKUP($N5,'★参考 2024年度社会学部時間割'!$M:$M,'★参考 2024年度社会学部時間割'!A:A)=0,"",_xlfn.XLOOKUP($N5,'★参考 2024年度社会学部時間割'!$M:$M,'★参考 2024年度社会学部時間割'!A:A)) -> ○ | B5: =+IF(_xlfn.XLOOKUP($N5,'★参考 2024年度社会学部時間割'!$M:$M,'★参考 2024年度社会学部時間割'!B:B)=0,"",_xlfn.XLOOKUP($N5,'★参考 2024年度社会学部時間割'!$M:$M,'★参考 2024年度社会学部時間割'!B:B)) | C5: =+IF(_xlfn.XLOOKUP($N5,'★参考 2024年度社会学部時間割'!$M:$M,'★参考 2024年度社会学部時間割'!C:C)=0,"",_xlfn.XLOOKUP($N5,'★参考 2024年度社会学部時間割'!$M:$M,'★参考 2024年度社会学部時間割'!C:C)) | G5: 1 | H5: 2025 | I5: C | J5: U | K5: U51C302 | L5: CU11105000 | M5: 003 | N5: 社会学基礎ゼミナール | P5: 03 | Q5: 後期 金１ | R5: 2 | S5: 0 | T5: C | U5: U | V5: CU11105000 | W5: 003 | X5: C | AH5: 0 | AM5: 0000 | AN5: 9999 | AO5: 4 | AP5: 0 | AR5: 0 | AS5: 0 | AT5: 0 | AU5: 0 | AV5: 0 | AW5: 1 | AX5: 1 | AY5: 0 | AZ5: 1 | BA5: 1 | BB5: クラス指定科目 | BC5: 社会・１ | BG5: 10000000 | BH5: 11107 | BI5: 舟橋 健太 | BJ5: フナハシ ケンタ | BK5: 03 | BL5: 5 | BM5: 1 | BN5: 1 | BO5: 15 | BP5: 0.00 | BQ5: 0.00 | BR5: 0.00 | BS5: 0 | BT5: 0 | BU5: 0 | BV5: 0 | BW5: 0 | BX5: 0 | BY5: 0 | BZ5: 0 | CA5: 0 | CB5: 0 | CC5: 0 | CD5: 0 | CE5: 1 | CF5: C1SEM00230 | CG5: C1SEM00290 | CI5: 0 | CJ5: 0 | CK5: 2 | CL5: 4 | CM5: C2100
A6: =+IF(_xlfn.XLOOKUP($N6,'★参考 2024年度社会学部時間割'!$M:$M,'★参考 2024年度社会学部時間割'!A:A)=0,"",_xlfn.XLOOKUP($N6,'★参考 2024年度社会学部時間割'!$M:$M,'★参考 2024年度社会学部時間割'!A:A)) -> ○ | B6: =+IF(_xlfn.XLOOKUP($N6,'★参考 2024年度社会学部時間割'!$M:$M,'★参考 2024年度社会学部時間割'!B:B)=0,"",_xlfn.XLOOKUP($N6,'★参考 2024年度社会学部時間割'!$M:$M,'★参考 2024年度社会学部時間割'!B:B)) | C6: =+IF(_xlfn.XLOOKUP($N6,'★参考 2024年度社会学部時間割'!$M:$M,'★参考 2024年度社会学部時間割'!C:C)=0,"",_xlfn.XLOOKUP($N6,'★参考 2024年度社会学部時間割'!$M:$M,'★参考 2024年度社会学部時間割'!C:C)) | G6: 1 | H6: 2025 | I6: C | J6: U | K6: U21C302 | L6: CU11105000 | M6: 004 | N6: 社会学基礎ゼミナール | P6: 03 | Q6: 後期 火１ | R6: 2 | S6: 0 | T6: C | U6: U | V6: CU11105000 | W6: 004 | X6: C | AH6: 0 | AM6: 0000 | AN6: 9999 | AO6: 4 | AP6: 0 | AR6: 0 | AS6: 0 | AT6: 0 | AU6: 0 | AV6: 0 | AW6: 1 | AX6: 1 | AY6: 0 | AZ6: 1 | BA6: 1 | BB6: クラス指定科目 | BC6: 社会・１ | BG6: 10000000 | BH6: 04014 | BI6: 脇田 健一 | BJ6: ワキタ ケンイチ | BK6: 03 | BL6: 2 | BM6: 1 | BN6: 1 | BO6: 15 | BP6: 0.00 | BQ6: 0.00 | BR6: 0.00 | BS6: 0 | BT6: 0 | BU6: 0 | BV6: 0 | BW6: 0 | BX6: 0 | BY6: 0 | BZ6: 0 | CA6: 0 | CB6: 0 | CC6: 0 | CD6: 0 | CE6: 1 | CF6: C1SEM00240 | CG6: C1SEM00290 | CI6: 0 | CJ6: 0 | CK6: 2 | CL6: 4 | CM6: C2100
A7: =+IF(_xlfn.XLOOKUP($N7,'★参考 2024年度社会学部時間割'!$M:$M,'★参考 2024年度社会学部時間割'!A:A)=0,"",_xlfn.XLOOKUP($N7,'★参考 2024年度社会学部時間割'!$M:$M,'★参考 2024年度社会学部時間割'!A:A)) -> ○ | B7: =+IF(_xlfn.XLOOKUP($N7,'★参考 2024年度社会学部時間割'!$M:$M,'★参考 2024年度社会学部時間割'!B:B)=0,"",_xlfn.XLOOKUP($N7,'★参考 2024年度社会学部時間割'!$M:$M,'★参考 2024年度社会学部時間割'!B:B)) | C7: =+IF(_xlfn.XLOOKUP($N7,'★参考 2024年度社会学部時間割'!$M:$M,'★参考 2024年度社会学部時間割'!C:C)=0,"",_xlfn.XLOOKUP($N7,'★参考 2024年度社会学部時間割'!$M:$M,'★参考 2024年度社会学部時間割'!C:C)) | G7: 1 | H7: 2025 | I7: C | J7: U | K7: U51C303 | L7: CU11105000 | M7: 005 | N7: 社会学基礎ゼミナール | P7: 03 | Q7: 後期 金１ | R7: 2 | S7: 0 | T7: C | U7: U | V7: CU11105000 | W7: 005 | X7: C | AH7: 0 | AM7: 0000 | AN7: 9999 | AO7: 4 | AP7: 0 | AR7: 0 | AS7: 0 | AT7: 0 | AU7: 0 | AV7: 0 | AW7: 1 | AX7: 1 | AY7: 0 | AZ7: 1 | BA7: 1 | BB7: クラス指定科目 | BC7: 社会・１ | BG7: 10000000 | BH7: 04014 | BI7: 脇田 健一 | BJ7: ワキタ ケンイチ | BK7: 03 | BL7: 5 | BM7: 1 | BN7: 1 | BO7: 15 | BP7: 0.00 | BQ7: 0.00 | BR7: 0.00 | BS7: 0 | BT7: 0 | BU7: 0 | BV7: 0 | BW7: 0 | BX7: 0 | BY7: 0 | BZ7: 0 | CA7: 0 | CB7: 0 | CC7: 0 | CD7: 0 | CE7: 1 | CF7: C1SEM00250 | CG7: C1SEM00290 | CI7: 0 | CJ7: 0 | CK7: 2 | CL7: 4 | CM7: C2100
A8: =+IF(_xlfn.XLOOKUP($N8,'★参考 2024年度社会学部時間割'!$M:$M,'★参考 2024年度社会学部時間割'!A:A)=0,"",_xlfn.XLOOKUP($N8,'★参考 2024年度社会学部時間割'!$M:$M,'★参考 2024年度社会学部時間割'!A:A)) -> ○ | B8: =+IF(_xlfn.XLOOKUP($N8,'★参考 2024年度社会学部時間割'!$M:$M,'★参考 2024年度社会学部時間割'!B:B)=0,"",_xlfn.XLOOKUP($N8,'★参考 2024年度社会学部時間割'!$M:$M,'★参考 2024年度社会学部時間割'!B:B)) | C8: =+IF(_xlfn.XLOOKUP($N8,'★参考 2024年度社会学部時間割'!$M:$M,'★参考 2024年度社会学部時間割'!C:C)=0,"",_xlfn.XLOOKUP($N8,'★参考 2024年度社会学部時間割'!$M:$M,'★参考 2024年度社会学部時間割'!C:C)) | G8: 1 | H8: 2025 | I8: C | J8: U | K8: U21C303 | L8: CU11105000 | M8: 006 | N8: 社会学基礎ゼミナール | P8: 03 | Q8: 後期 火１ | R8: 2 | S8: 0 | T8: C | U8: U | V8: CU11105000 | W8: 006 | X8: C | AH8: 0 | AM8: 0000 | AN8: 9999 | AO8: 4 | AP8: 0 | AR8: 0 | AS8: 0 | AT8: 0 | AU8: 0 | AV8: 0 | AW8: 1 | AX8: 1 | AY8: 0 | AZ8: 1 | BA8: 1 | BB8: クラス指定科目 | BC8: 社会・１ | BG8: 10000000 | BH8: 95026 | BI8: 嶋崎 陽一 | BJ8: シマザキ ヨウイチ | BK8: 03 | BL8: 2 | BM8: 1 | BN8: 1 | BO8: 15 | BP8: 0.00 | BQ8: 0.00 | BR8: 0.00 | BS8: 0 | BT8: 0 | BU8: 0 | BV8: 0 | BW8: 0 | BX8: 0 | BY8: 0 | BZ8: 0 | CA8: 0 | CB8: 0 | CC8: 0 | CD8: 0 | CE8: 1 | CF8: C1SEM00260 | CG8: C1SEM00290 | CI8: 0 | CJ8: 0 | CK8: 2 | CL8: 4 | CM8: C2100
A9: =+IF(_xlfn.XLOOKUP($N9,'★参考 2024年度社会学部時間割'!$M:$M,'★参考 2024年度社会学部時間割'!A:A)=0,"",_xlfn.XLOOKUP($N9,'★参考 2024年度社会学部時間割'!$M:$M,'★参考 2024年度社会学部時間割'!A:A)) -> ○ | B9: =+IF(_xlfn.XLOOKUP($N9,'★参考 2024年度社会学部時間割'!$M:$M,'★参考 2024年度社会学部時間割'!B:B)=0,"",_xlfn.XLOOKUP($N9,'★参考 2024年度社会学部時間割'!$M:$M,'★参考 2024年度社会学部時間割'!B:B)) | C9: =+IF(_xlfn.XLOOKUP($N9,'★参考 2024年度社会学部時間割'!$M:$M,'★参考 2024年度社会学部時間割'!C:C)=0,"",_xlfn.XLOOKUP($N9,'★参考 2024年度社会学部時間割'!$M:$M,'★参考 2024年度社会学部時間割'!C:C)) | G9: 1 | H9: 2025 | I9: C | J9: U | K9: U11C301 | L9: CU11105000 | M9: 007 | N9: 社会学基礎ゼミナール | P9: 03 | Q9: 後期 月１ | R9: 2 | S9: 0 | T9: C | U9: U | V9: CU11105000 | W9: 007 | X9: C | AH9: 0 | AM9: 0000 | AN9: 9999 | AO9: 4 | AP9: 0 | AR9: 0 | AS9: 0 | AT9: 0 | AU9: 0 | AV9: 0 | AW9: 1 | AX9: 1 | AY9: 0 | AZ9: 1 | BA9: 1 | BB9: クラス指定科目 | BC9: 社会・１ | BG9: 10000000 | BH9: 16005 | BI9: 清家 竜介 | BJ9: セイケ リュウスケ | BK9: 03 | BL9: 1 | BM9: 1 | BN9: 1 | BO9: 15 | BP9: 0.00 | BQ9: 0.00 | BR9: 0.00 | BS9: 0 | BT9: 0 | BU9: 0 | BV9: 0 | BW9: 0 | BX9: 0 | BY9: 0 | BZ9: 0 | CA9: 0 | CB9: 0 | CC9: 0 | CD9: 0 | CE9: 1 | CF9: C1SEM00270 | CG9: C1SEM00290 | CI9: 0 | CJ9: 0 | CK9: 2 | CL9: 4 | CM9: C2100
A10: =+IF(_xlfn.XLOOKUP($N10,'★参考 2024年度社会学部時間割'!$M:$M,'★参考 2024年度社会学部時間割'!A:A)=0,"",_xlfn.XLOOKUP($N10,'★参考 2024年度社会学部時間割'!$M:$M,'★参考 2024年度社会学部時間割'!A:A)) -> ○ | B10: =+IF(_xlfn.XLOOKUP($N10,'★参考 2024年度社会学部時間割'!$M:$M,'★参考 2024年度社会学部時間割'!B:B)=0,"",_xlfn.XLOOKUP($N10,'★参考 2024年度社会学部時間割'!$M:$M,'★参考 2024年度社会学部時間割'!B:B)) | C10: =+IF(_xlfn.XLOOKUP($N10,'★参考 2024年度社会学部時間割'!$M:$M,'★参考 2024年度社会学部時間割'!C:C)=0,"",_xlfn.XLOOKUP($N10,'★参考 2024年度社会学部時間割'!$M:$M,'★参考 2024年度社会学部時間割'!C:C)) | G10: 1 | H10: 2025 | I10: C | J10: U | K10: U21C304 | L10: CU11105000 | M10: 008 | N10: 社会学基礎ゼミナール | P10: 03 | Q10: 後期 火１ | R10: 2 | S10: 0 | T10: C | U10: U | V10: CU11105000 | W10: 008 | X10: C | AH10: 0 | AM10: 0000 | AN10: 9999 | AO10: 4 | AP10: 0 | AR10: 0 | AS10: 0 | AT10: 0 | AU10: 0 | AV10: 0 | AW10: 1 | AX10: 1 | AY10: 0 | AZ10: 1 | BA10: 1 | BB10: クラス指定科目 | BC10: 社会・１ | BG10: 10000000 | BH10: 22005 | BI10: 閻 美芳 | BJ10: ヤン メイファン | BK10: 03 | BL10: 2 | BM10: 1 | BN10: 1 | BO10: 15 | BP10: 0.00 | BQ10: 0.00 | BR10: 0.00 | BS10: 0 | BT10: 0 | BU10: 0 | BV10: 0 | BW10: 0 | BX10: 0 | BY10: 0 | BZ10: 0 | CA10: 0 | CB10: 0 | CC10: 0 | CD10: 0 | CE10: 1 | CF10: C1SEM00280 | CG10: C1SEM00290 | CI10: 0 | CJ10: 0 | CK10: 2 | CL10: 4 | CM10: C2100
A11: =+IF(_xlfn.XLOOKUP($N11,'★参考 2024年度社会学部時間割'!$M:$M,'★参考 2024年度社会学部時間割'!A:A)=0,"",_xlfn.XLOOKUP($N11,'★参考 2024年度社会学部時間割'!$M:$M,'★参考 2024年度社会学部時間割'!A:A)) -> ○ | B11: =+IF(_xlfn.XLOOKUP($N11,'★参考 2024年度社会学部時間割'!$M:$M,'★参考 2024年度社会学部時間割'!B:B)=0,"",_xlfn.XLOOKUP($N11,'★参考 2024年度社会学部時間割'!$M:$M,'★参考 2024年度社会学部時間割'!B:B)) | C11: =+IF(_xlfn.XLOOKUP($N11,'★参考 2024年度社会学部時間割'!$M:$M,'★参考 2024年度社会学部時間割'!C:C)=0,"",_xlfn.XLOOKUP($N11,'★参考 2024年度社会学部時間割'!$M:$M,'★参考 2024年度社会学部時間割'!C:C)) | G11: 1 | H11: 2025 | I11: C | J11: U | K11: U21C305 | L11: CU11105000 | M11: 009 | N11: 社会学基礎ゼミナール | P11: 03 | Q11: 後期 火１ | R11: 2 | S11: 0 | T11: C | U11: U | V11: CU11105000 | W11: 009 | X11: C | AH11: 0 | AM11: 0000 | AN11: 9999 | AO11: 4 | AP11: 0 | AR11: 0 | AS11: 0 | AT11: 0 | AU11: 0 | AV11: 0 | AW11: 1 | AX11: 1 | AY11: 0 | AZ11: 1 | BA11: 1 | BB11: クラス指定科目 | BC11: 社会・１ | BG11: 10000000 | BH11: 22004 | BI11: 松岡 亮二 | BJ11: マツオカ リョウジ | BK11: 03 | BL11: 2 | BM11: 1 | BN11: 1 | BO11: 15 | BP11: 0.00 | BQ11: 0.00 | BR11: 0.00 | BS11: 0 | BT11: 0 | BU11: 0 | BV11: 0 | BW11: 0 | BX11: 0 | BY11: 0 | BZ11: 0 | CA11: 0 | CB11: 0 | CC11: 0 | CD11: 0 | CE11: 1 | CF11: C1SEM00290 | CG11: C1SEM00290 | CI11: 0 | CJ11: 0 | CK11: 2 | CL11: 4 | CM11: C2100
A12: =+IF(_xlfn.XLOOKUP($N12,'★参考 2024年度社会学部時間割'!$M:$M,'★参考 2024年度社会学部時間割'!A:A)=0,"",_xlfn.XLOOKUP($N12,'★参考 2024年度社会学部時間割'!$M:$M,'★参考 2024年度社会学部時間割'!A:A)) -> ○ | B12: =+IF(_xlfn.XLOOKUP($N12,'★参考 2024年度社会学部時間割'!$M:$M,'★参考 2024年度社会学部時間割'!B:B)=0,"",_xlfn.XLOOKUP($N12,'★参考 2024年度社会学部時間割'!$M:$M,'★参考 2024年度社会学部時間割'!B:B)) | C12: =+IF(_xlfn.XLOOKUP($N12,'★参考 2024年度社会学部時間割'!$M:$M,'★参考 2024年度社会学部時間割'!C:C)=0,"",_xlfn.XLOOKUP($N12,'★参考 2024年度社会学部時間割'!$M:$M,'★参考 2024年度社会学部時間割'!C:C)) | G12: 1 | H12: 2025 | I12: C | J12: U | K12: U21C306 | L12: CU11105000 | M12: 010 | N12: 社会学基礎ゼミナール | P12: 03 | Q12: 後期 火１ | R12: 2 | S12: 0 | T12: C | U12: U | V12: CU11105000 | W12: 010 | X12: C | AH12: 0 | AM12: 0000 | AN12: 9999 | AO12: 4 | AP12: 0 | AR12: 0 | AS12: 0 | AT12: 0 | AU12: 0 | AV12: 0 | AW12: 1 | AX12: 1 | AY12: 0 | AZ12: 1 | BA12: 1 | BB12: クラス指定科目 | BC12: 社会・１ | BG12: 10000000 | BH12: 94275 | BI12: 柴田 和子 | BJ12: シバタ カズコ | BK12: 03 | BL12: 2 | BM12: 1 | BN12: 1 | BO12: 15 | BP12: 0.00 | BQ12: 0.00 | BR12: 0.00 | BS12: 0 | BT12: 0 | BU12: 0 | BV12: 0 | BW12: 0 | BX12: 0 | BY12: 0 | BZ12: 0 | CA12: 0 | CB12: 0 | CC12: 0 | CD12: 0 | CE12: 1 | CF12: C1SEM00300 | CG12: C1SEM00290 | CI12: 0 | CJ12: 0 | CK12: 2 | CL12: 4 | CM12: C2100
A13: =+IF(_xlfn.XLOOKUP($N13,'★参考 2024年度社会学部時間割'!$M:$M,'★参考 2024年度社会学部時間割'!A:A)=0,"",_xlfn.XLOOKUP($N13,'★参考 2024年度社会学部時間割'!$M:$M,'★参考 2024年度社会学部時間割'!A:A)) -> ○ | B13: =+IF(_xlfn.XLOOKUP($N13,'★参考 2024年度社会学部時間割'!$M:$M,'★参考 2024年度社会学部時間割'!B:B)=0,"",_xlfn.XLOOKUP($N13,'★参考 2024年度社会学部時間割'!$M:$M,'★参考 2024年度社会学部時間割'!B:B)) | C13: =+IF(_xlfn.XLOOKUP($N13,'★参考 2024年度社会学部時間割'!$M:$M,'★参考 2024年度社会学部時間割'!C:C)=0,"",_xlfn.XLOOKUP($N13,'★参考 2024年度社会学部時間割'!$M:$M,'★参考 2024年度社会学部時間割'!C:C)) | G13: 1 | H13: 2025 | I13: C | J13: U | K13: U21C307 | L13: CU11105000 | M13: 011 | N13: 社会学基礎ゼミナール | P13: 03 | Q13: 後期 火１ | R13: 2 | S13: 0 | T13: C | U13: U | V13: CU11105000 | W13: 011 | X13: C | AH13: 0 | AM13: 0000 | AN13: 9999 | AO13: 4 | AP13: 0 | AR13: 0 | AS13: 0 | AT13: 0 | AU13: 0 | AV13: 0 | AW13: 1 | AX13: 1 | AY13: 0 | AZ13: 1 | BA13: 1 | BB13: クラス指定科目 | BC13: 社会・１ | BG13: 10000000 | BH13: 02016 | BI13: 村澤 真保呂 | BJ13: ムラサワ マホロ | BK13: 03 | BL13: 2 | BM13: 1 | BN13: 1 | BO13: 15 | BP13: 0.00 | BQ13: 0.00 | BR13: 0.00 | BS13: 0 | BT13: 0 | BU13: 0 | BV13: 0 | BW13: 0 | BX13: 0 | BY13: 0 | BZ13: 0 | CA13: 0 | CB13: 0 | CC13: 0 | CD13: 0 | CE13: 1 | CF13: C1SEM00310 | CG13: C1SEM00290 | CI13: 0 | CJ13: 0 | CK13: 2 | CL13: 4 | CM13: C2100
A14: =+IF(_xlfn.XLOOKUP($N14,'★参考 2024年度社会学部時間割'!$M:$M,'★参考 2024年度社会学部時間割'!A:A)=0,"",_xlfn.XLOOKUP($N14,'★参考 2024年度社会学部時間割'!$M:$M,'★参考 2024年度社会学部時間割'!A:A)) -> ○ | B14: =+IF(_xlfn.XLOOKUP($N14,'★参考 2024年度社会学部時間割'!$M:$M,'★参考 2024年度社会学部時間割'!B:B)=0,"",_xlfn.XLOOKUP($N14,'★参考 2024年度社会学部時間割'!$M:$M,'★参考 2024年度社会学部時間割'!B:B)) | C14: =+IF(_xlfn.XLOOKUP($N14,'★参考 2024年度社会学部時間割'!$M:$M,'★参考 2024年度社会学部時間割'!C:C)=0,"",_xlfn.XLOOKUP($N14,'★参考 2024年度社会学部時間割'!$M:$M,'★参考 2024年度社会学部時間割'!C:C)) | G14: 1 | H14: 2025 | I14: C | J14: U | K14: U21C308 | L14: CU11105000 | M14: 012 | N14: 社会学基礎ゼミナール | P14: 03 | Q14: 後期 火１ | R14: 2 | S14: 0 | T14: C | U14: U | V14: CU11105000 | W14: 012 | X14: C | AH14: 0 | AM14: 0000 | AN14: 9999 | AO14: 4 | AP14: 0 | AR14: 0 | AS14: 0 | AT14: 0 | AU14: 0 | AV14: 0 | AW14: 1 | AX14: 1 | AY14: 0 | AZ14: 1 | BA14: 1 | BB14: クラス指定科目 | BC14: 社会・１ | BG14: 10000000 | BH14: 03366 | BI14: 松本 拓 | BJ14: マツモト タク | BK14: 03 | BL14: 2 | BM14: 1 | BN14: 1 | BO14: 15 | BP14: 0.00 | BQ14: 0.00 | BR14: 0.00 | BS14: 0 | BT14: 0 | BU14: 0 | BV14: 0 | BW14: 0 | BX14: 0 | BY14: 0 | BZ14: 0 | CA14: 0 | CB14: 0 | CC14: 0 | CD14: 0 | CE14: 1 | CF14: C1SEM00320 | CG14: C1SEM00290 | CI14: 0 | CJ14: 0 | CK14: 2 | CL14: 4 | CM14: C2100
A15: =+IF(_xlfn.XLOOKUP($N15,'★参考 2024年度社会学部時間割'!$M:$M,'★参考 2024年度社会学部時間割'!A:A)=0,"",_xlfn.XLOOKUP($N15,'★参考 2024年度社会学部時間割'!$M:$M,'★参考 2024年度社会学部時間割'!A:A)) -> ○ | B15: =+IF(_xlfn.XLOOKUP($N15,'★参考 2024年度社会学部時間割'!$M:$M,'★参考 2024年度社会学部時間割'!B:B)=0,"",_xlfn.XLOOKUP($N15,'★参考 2024年度社会学部時間割'!$M:$M,'★参考 2024年度社会学部時間割'!B:B)) | C15: =+IF(_xlfn.XLOOKUP($N15,'★参考 2024年度社会学部時間割'!$M:$M,'★参考 2024年度社会学部時間割'!C:C)=0,"",_xlfn.XLOOKUP($N15,'★参考 2024年度社会学部時間割'!$M:$M,'★参考 2024年度社会学部時間割'!C:C)) | D15: ○ | G15: 1 | H15: 2025 | I15: C | J15: U | K15: U12C201 | L15: CU11135000 | M15: 001 | N15: 社会調査入門 | P15: 02 | Q15: 前期 月２ | R15: 2 | S15: 0 | T15: C | U15: U | V15: CU11135000 | W15: 001 | X15: C | AH15: 0 | AM15: 0000 | AN15: 9999 | AO15: 4 | AP15: 0 | AR15: 0 | AS15: 0 | AT15: 0 | AU15: 0 | AV15: 1 | AW15: 0 | AX15: 1 | AY15: 0 | AZ15: 1 | BA15: 1 | BC15: 社会・６ａ | BG15: 10000000 | BH15: 11014 | BI15: 猪瀬 優理 | BJ15: イノセ ユリ | BK15: 02 | BL15: 1 | BM15: 2 | BN15: 1 | BO15: 5 | BP15: 0.00 | BQ15: 0.00 | BR15: 0.00 | BS15: 0 | BT15: 0 | BU15: 0 | BV15: 0 | BW15: 0 | BX15: 0 | BY15: 0 | BZ15: 0 | CA15: 0 | CB15: 0 | CC15: 0 | CD15: 0 | CE15: 1 | CF15: C100000100 | CG15: C100000100 | CI15: 0 | CJ15: 0 | CK15: 1 | CL15: 4 | CM15: C2100 | CO15: C8000
A16: =+IF(_xlfn.XLOOKUP($N16,'★参考 2024年度社会学部時間割'!$M:$M,'★参考 2024年度社会学部時間割'!A:A)=0,"",_xlfn.XLOOKUP($N16,'★参考 2024年度社会学部時間割'!$M:$M,'★参考 2024年度社会学部時間割'!A:A)) -> ○ | B16: =+IF(_xlfn.XLOOKUP($N16,'★参考 2024年度社会学部時間割'!$M:$M,'★参考 2024年度社会学部時間割'!B:B)=0,"",_xlfn.XLOOKUP($N16,'★参考 2024年度社会学部時間割'!$M:$M,'★参考 2024年度社会学部時間割'!B:B)) | C16: =+IF(_xlfn.XLOOKUP($N16,'★参考 2024年度社会学部時間割'!$M:$M,'★参考 2024年度社会学部時間割'!C:C)=0,"",_xlfn.XLOOKUP($N16,'★参考 2024年度社会学部時間割'!$M:$M,'★参考 2024年度社会学部時間割'!C:C)) | D16: ○ | G16: 1 | H16: 2025 | I16: C | J16: U | K16: U12C201 | L16: CU11135000 | M16: 001 | N16: 社会調査入門 | P16: 02 | Q16: 前期 月２ | R16: 2 | S16: 0 | T16: C | U16: U | V16: CU11135000 | W16: 001 | X16: C | AH16: 0 | AM16: 0000 | AN16: 9999 | AO16: 4 | AP16: 0 | AR16: 0 | AS16: 0 | AT16: 0 | AU16: 0 | AV16: 1 | AW16: 0 | AX16: 1 | AY16: 0 | AZ16: 1 | BA16: 1 | BC16: 社会・６ａ | BG16: 10000000 | BH16: 22004 | BI16: 松岡 亮二 | BJ16: マツオカ リョウジ | BK16: 02 | BL16: 1 | BM16: 2 | BN16: 2 | BO16: 5 | BP16: 0.00 | BQ16: 0.00 | BR16: 0.00 | BS16: 0 | BT16: 0 | BU16: 0 | BV16: 0 | BW16: 0 | BX16: 0 | BY16: 0 | BZ16: 0 | CA16: 0 | CB16: 0 | CC16: 0 | CD16: 0 | CE16: 1 | CF16: C100000101 | CG16: C100000100 | CI16: 0 | CJ16: 0 | CK16: 1 | CL16: 4 | CM16: C2100 | CO16: C8000
A17: =+IF(_xlfn.XLOOKUP($N17,'★参考 2024年度社会学部時間割'!$M:$M,'★参考 2024年度社会学部時間割'!A:A)=0,"",_xlfn.XLOOKUP($N17,'★参考 2024年度社会学部時間割'!$M:$M,'★参考 2024年度社会学部時間割'!A:A)) -> ○ | B17: =+IF(_xlfn.XLOOKUP($N17,'★参考 2024年度社会学部時間割'!$M:$M,'★参考 2024年度社会学部時間割'!B:B)=0,"",_xlfn.XLOOKUP($N17,'★参考 2024年度社会学部時間割'!$M:$M,'★参考 2024年度社会学部時間割'!B:B)) | C17: =+IF(_xlfn.XLOOKUP($N17,'★参考 2024年度社会学部時間割'!$M:$M,'★参考 2024年度社会学部時間割'!C:C)=0,"",_xlfn.XLOOKUP($N17,'★参考 2024年度社会学部時間割'!$M:$M,'★参考 2024年度社会学部時間割'!C:C)) | D17: ○ | G17: 1 | H17: 2025 | I17: C | J17: U | K17: U12C201 | L17: CU11135000 | M17: 001 | N17: 社会調査入門 | P17: 02 | Q17: 前期 月２ | R17: 2 | S17: 0 | T17: C | U17: U | V17: CU11135000 | W17: 001 | X17: C | AH17: 0 | AM17: 0000 | AN17: 9999 | AO17: 4 | AP17: 0 | AR17: 0 | AS17: 0 | AT17: 0 | AU17: 0 | AV17: 1 | AW17: 0 | AX17: 1 | AY17: 0 | AZ17: 1 | BA17: 1 | BC17: 社会・６ａ | BG17: 10000000 | BH17: 25008 | BI17: 数実 浩佑 | BJ17: カズミ コウスケ | BK17: 02 | BL17: 1 | BM17: 2 | BN17: 3 | BO17: 5 | BP17: 0.00 | BQ17: 0.00 | BR17: 0.00 | BS17: 0 | BT17: 0 | BU17: 0 | BV17: 0 | BW17: 0 | BX17: 0 | BY17: 0 | BZ17: 0 | CA17: 0 | CB17: 0 | CC17: 0 | CD17: 0 | CE17: 1 | CF17: C100000102 | CG17: C100000100 | CI17: 0 | CJ17: 0 | CK17: 1 | CL17: 4 | CM17: C2100 | CO17: C8000
A18: =+IF(_xlfn.XLOOKUP($N18,'★参考 2024年度社会学部時間割'!$M:$M,'★参考 2024年度社会学部時間割'!A:A)=0,"",_xlfn.XLOOKUP($N18,'★参考 2024年度社会学部時間割'!$M:$M,'★参考 2024年度社会学部時間割'!A:A)) -> ○ | B18: =+IF(_xlfn.XLOOKUP($N18,'★参考 2024年度社会学部時間割'!$M:$M,'★参考 2024年度社会学部時間割'!B:B)=0,"",_xlfn.XLOOKUP($N18,'★参考 2024年度社会学部時間割'!$M:$M,'★参考 2024年度社会学部時間割'!B:B)) | C18: =+IF(_xlfn.XLOOKUP($N18,'★参考 2024年度社会学部時間割'!$M:$M,'★参考 2024年度社会学部時間割'!C:C)=0,"",_xlfn.XLOOKUP($N18,'★参考 2024年度社会学部時間割'!$M:$M,'★参考 2024年度社会学部時間割'!C:C)) | G18: 1 | H18: 2025 | I18: C | J18: U | K18: U31C101 | L18: CU11140000 | M18: 001 | N18: 社会学概論 | P18: 01 | Q18: 通年 水１ | R18: 4 | S18: 0 | T18: C | U18: U | V18: CU11140000 | W18: 001 | X18: C | AH18: 0 | AM18: 0000 | AN18: 9999 | AO18: 4 | AP18: 0 | AR18: 0 | AS18: 0 | AT18: 0 | AU18: 0 | AV18: 0 | AW18: 1 | AX18: 1 | AY18: 0 | AZ18: 1 | BA18: 1 | BB18: 必修科目 | BC18: 社会・６ａ | BG18: 10000000 | BH18: 02016 | BI18: 村澤 真保呂 | BJ18: ムラサワ マホロ | BK18: 01 | BL18: 3 | BM18: 1 | BN18: 1 | BO18: 15 | BP18: 0.00 | BQ18: 0.00 | BR18: 0.00 | BS18: 0 | BT18: 0 | BU18: 0 | BV18: 0 | BW18: 0 | BX18: 0 | BY18: 0 | BZ18: 0 | CA18: 0 | CB18: 0 | CC18: 0 | CD18: 0 | CE18: 1 | CF18: C100000300 | CG18: C100000300 | CI18: 0 | CJ18: 0 | CK18: 2 | CL18: 4 | CM18: C2100
A19: =+IF(_xlfn.XLOOKUP($N19,'★参考 2024年度社会学部時間割'!$M:$M,'★参考 2024年度社会学部時間割'!A:A)=0,"",_xlfn.XLOOKUP($N19,'★参考 2024年度社会学部時間割'!$M:$M,'★参考 2024年度社会学部時間割'!A:A)) -> ○ | B19: =+IF(_xlfn.XLOOKUP($N19,'★参考 2024年度社会学部時間割'!$M:$M,'★参考 2024年度社会学部時間割'!B:B)=0,"",_xlfn.XLOOKUP($N19,'★参考 2024年度社会学部時間割'!$M:$M,'★参考 2024年度社会学部時間割'!B:B)) | C19: =+IF(_xlfn.XLOOKUP($N19,'★参考 2024年度社会学部時間割'!$M:$M,'★参考 2024年度社会学部時間割'!C:C)=0,"",_xlfn.XLOOKUP($N19,'★参考 2024年度社会学部時間割'!$M:$M,'★参考 2024年度社会学部時間割'!C:C)) | G19: 1 | H19: 2025 | I19: C | J19: U | K19: U31C101 | L19: CU11140000 | M19: 001 | N19: 社会学概論 | P19: 01 | Q19: 通年 水１ | R19: 4 | S19: 0 | T19: C | U19: U | V19: CU11140000 | W19: 001 | X19: C | AH19: 0 | AM19: 0000 | AN19: 9999 | AO19: 4 | AP19: 0 | AR19: 0 | AS19: 0 | AT19: 0 | AU19: 0 | AV19: 0 | AW19: 1 | AX19: 1 | AY19: 0 | AZ19: 1 | BA19: 1 | BB19: 必修科目 | BC19: 社会・６ａ | BG19: 10000000 | BH19: 16005 | BI19: 清家 竜介 | BJ19: セイケ リュウスケ | BK19: 01 | BL19: 3 | BM19: 1 | BN19: 2 | BO19: 15 | BP19: 0.00 | BQ19: 0.00 | BR19: 0.00 | BS19: 0 | BT19: 0 | BU19: 0 | BV19: 0 | BW19: 0 | BX19: 0 | BY19: 0 | BZ19: 0 | CA19: 0 | CB19: 0 | CC19: 0 | CD19: 0 | CE19: 0 | CF19: C100000300 | CG19: C100000300 | CI19: 0 | CJ19: 0 | CK19: 2 | CL19: 4 | CM19: C2100
A20: =+IF(_xlfn.XLOOKUP($N20,'★参考 2024年度社会学部時間割'!$M:$M,'★参考 2024年度社会学部時間割'!A:A)=0,"",_xlfn.XLOOKUP($N20,'★参考 2024年度社会学部時間割'!$M:$M,'★参考 2024年度社会学部時間割'!A:A)) -> ○ | B20: =+IF(_xlfn.XLOOKUP($N20,'★参考 2024年度社会学部時間割'!$M:$M,'★参考 2024年度社会学部時間割'!B:B)=0,"",_xlfn.XLOOKUP($N20,'★参考 2024年度社会学部時間割'!$M:$M,'★参考 2024年度社会学部時間割'!B:B)) | C20: =+IF(_xlfn.XLOOKUP($N20,'★参考 2024年度社会学部時間割'!$M:$M,'★参考 2024年度社会学部時間割'!C:C)=0,"",_xlfn.XLOOKUP($N20,'★参考 2024年度社会学部時間割'!$M:$M,'★参考 2024年度社会学部時間割'!C:C)) | D20: ○ | G20: 1 | H20: 2025 | I20: C | J20: U | K20: U32C201 | L20: CU11145000 | M20: 001 | N20: 社会学への招待 | O20: 1組 | P20: 02 | Q20: 前期 水２ | R20: 2 | S20: 0 | T20: C | U20: U | V20: CU11145000 | W20: 001 | X20: C | AH20: 0 | AM20: 0000 | AN20: 9999 | AO20: 4 | AP20: 0 | AR20: 0 | AS20: 0 | AT20: 0 | AU20: 0 | AV20: 1 | AW20: 0 | AX20: 1 | AY20: 0 | AZ20: 1 | BA20: 1 | BB20: 必修科目・クラス指定科目 | BC20: 社会・６ａ | BG20: 10000000 | BH20: 07005 | BI20: 工藤 保則 | BJ20: クドウ ヤスノリ | BK20: 02 | BL20: 3 | BM20: 2 | BN20: 1 | BO20: 15 | BP20: 0.00 | BQ20: 0.00 | BR20: 0.00 | BS20: 0 | BT20: 0 | BU20: 0 | BV20: 0 | BW20: 0 | BX20: 0 | BY20: 0 | BZ20: 0 | CA20: 0 | CB20: 0 | CC20: 0 | CD20: 0 | CE20: 1 | CF20: C100000410 | CG20: C100000400 | CI20: 0 | CJ20: 0 | CK20: 1 | CL20: 4 | CM20: C2100 | CO20: C8000
A21: =+IF(_xlfn.XLOOKUP($N21,'★参考 2024年度社会学部時間割'!$M:$M,'★参考 2024年度社会学部時間割'!A:A)=0,"",_xlfn.XLOOKUP($N21,'★参考 2024年度社会学部時間割'!$M:$M,'★参考 2024年度社会学部時間割'!A:A)) -> ○ | B21: =+IF(_xlfn.XLOOKUP($N21,'★参考 2024年度社会学部時間割'!$M:$M,'★参考 2024年度社会学部時間割'!B:B)=0,"",_xlfn.XLOOKUP($N21,'★参考 2024年度社会学部時間割'!$M:$M,'★参考 2024年度社会学部時間割'!B:B)) | C21: =+IF(_xlfn.XLOOKUP($N21,'★参考 2024年度社会学部時間割'!$M:$M,'★参考 2024年度社会学部時間割'!C:C)=0,"",_xlfn.XLOOKUP($N21,'★参考 2024年度社会学部時間割'!$M:$M,'★参考 2024年度社会学部時間割'!C:C)) | D21: ○ | G21: 1 | H21: 2025 | I21: C | J21: U | K21: U32C202 | L21: CU11145000 | M21: 002 | N21: 社会学への招待 | O21: 2組 | P21: 02 | Q21: 前期 水２ | R21: 2 | S21: 0 | T21: C | U21: U | V21: CU11145000 | W21: 002 | X21: C | AH21: 0 | AM21: 0000 | AN21: 9999 | AO21: 4 | AP21: 0 | AR21: 0 | AS21: 0 | AT21: 0 | AU21: 0 | AV21: 1 | AW21: 0 | AX21: 1 | AY21: 0 | AZ21: 1 | BA21: 1 | BB21: 必修科目・クラス指定科目 | BC21: 社会・６ａ | BG21: 10000000 | BH21: 10007 | BI21: 渡辺 めぐみ | BJ21: ワタナベ メグミ | BK21: 02 | BL21: 3 | BM21: 2 | BN21: 1 | BO21: 15 | BP21: 0.00 | BQ21: 0.00 | BR21: 0.00 | BS21: 0 | BT21: 0 | BU21: 0 | BV21: 0 | BW21: 0 | BX21: 0 | BY21: 0 | BZ21: 0 | CA21: 0 | CB21: 0 | CC21: 0 | CD21: 0 | CE21: 1 | CF21: C100000400 | CG21: C100000400 | CI21: 0 | CJ21: 0 | CK21: 1 | CL21: 4 | CM21: C2100 | CO21: C8000
A22: =+IF(_xlfn.XLOOKUP($N22,'★参考 2024年度社会学部時間割'!$M:$M,'★参考 2024年度社会学部時間割'!A:A)=0,"",_xlfn.XLOOKUP($N22,'★参考 2024年度社会学部時間割'!$M:$M,'★参考 2024年度社会学部時間割'!A:A)) -> ○ | B22: =+IF(_xlfn.XLOOKUP($N22,'★参考 2024年度社会学部時間割'!$M:$M,'★参考 2024年度社会学部時間割'!B:B)=0,"",_xlfn.XLOOKUP($N22,'★参考 2024年度社会学部時間割'!$M:$M,'★参考 2024年度社会学部時間割'!B:B)) | C22: =+IF(_xlfn.XLOOKUP($N22,'★参考 2024年度社会学部時間割'!$M:$M,'★参考 2024年度社会学部時間割'!C:C)=0,"",_xlfn.XLOOKUP($N22,'★参考 2024年度社会学部時間割'!$M:$M,'★参考 2024年度社会学部時間割'!C:C)) | D22: ○ | G22: 1 | H22: 2025 | I22: C | J22: U | K22: U32C203 | L22: CU11145000 | M22: 003 | N22: 社会学への招待 | O22: 3組 | P22: 02 | Q22: 前期 水２ | R22: 2 | S22: 0 | T22: C | U22: U | V22: CU11145000 | W22: 003 | X22: C | AH22: 0 | AM22: 0000 | AN22: 9999 | AO22: 4 | AP22: 0 | AR22: 0 | AS22: 0 | AT22: 0 | AU22: 0 | AV22: 1 | AW22: 0 | AX22: 1 | AY22: 0 | AZ22: 1 | BA22: 1 | BB22: 必修科目・クラス指定科目 | BC22: 社会・６ａ | BG22: 10000000 | BH22: 20005 | BI22: 渡邉 悟史 | BJ22: ワタナベ サトシ | BK22: 02 | BL22: 3 | BM22: 2 | BN22: 1 | BO22: 15 | BP22: 0.00 | BQ22: 0.00 | BR22: 0.00 | BS22: 0 | BT22: 0 | BU22: 0 | BV22: 0 | BW22: 0 | BX22: 0 | BY22: 0 | BZ22: 0 | CA22: 0 | CB22: 0 | CC22: 0 | CD22: 0 | CE22: 1 | CF22: C100000420 | CG22: C100000400 | CI22: 0 | CJ22: 0 | CK22: 1 | CL22: 4 | CM22: C2100 | CO22: C8000
A23: =+IF(_xlfn.XLOOKUP($N23,'★参考 2024年度社会学部時間割'!$M:$M,'★参考 2024年度社会学部時間割'!A:A)=0,"",_xlfn.XLOOKUP($N23,'★参考 2024年度社会学部時間割'!$M:$M,'★参考 2024年度社会学部時間割'!A:A)) | B23: =+IF(_xlfn.XLOOKUP($N23,'★参考 2024年度社会学部時間割'!$M:$M,'★参考 2024年度社会学部時間割'!B:B)=0,"",_xlfn.XLOOKUP($N23,'★参考 2024年度社会学部時間割'!$M:$M,'★参考 2024年度社会学部時間割'!B:B)) -> ○ | C23: =+IF(_xlfn.XLOOKUP($N23,'★参考 2024年度社会学部時間割'!$M:$M,'★参考 2024年度社会学部時間割'!C:C)=0,"",_xlfn.XLOOKUP($N23,'★参考 2024年度社会学部時間割'!$M:$M,'★参考 2024年度社会学部時間割'!C:C)) | G23: 0 | H23: 2025 | I23: C | J23: U | K23: U32C211 | L23: CU60530000 | M23: 001 | N23: コミュニティマネジメント入門 | O23: 1組 | P23: 02 | Q23: 前期 水２ | R23: 2 | S23: 0 | T23: C | U23: U | V23: CU11145000 | W23: 003 | X23: C | AH23: 0 | AM23: 0000 | AN23: 9999 | AO23: 4 | AP23: 0 | AR23: 0 | AS23: 0 | AT23: 0 | AU23: 0 | AV23: 1 | AW23: 0 | AX23: 1 | AY23: 0 | AZ23: 1 | BA23: 1 | BB23: 必修科目 | BC23: ＣＭ・６ａ | BG23: 10000000 | BH23: 20005 | BI23: 渡邉 悟史 | BJ23: ワタナベ サトシ | BK23: 02 | BL23: 3 | BM23: 2 | BN23: 1 | BO23: 15 | BP23: 0.00 | BQ23: 0.00 | BR23: 0.00 | BS23: 0 | BT23: 0 | BU23: 0 | BV23: 0 | BW23: 0 | BX23: 0 | BY23: 0 | BZ23: 0 | CA23: 0 | CB23: 0 | CC23: 0 | CD23: 0 | CE23: 1 | CF23: C200005800 | CG23: C100000400 | CI23: 0 | CJ23: 0 | CK23: 1 | CL23: 4 | CM23: C2200
A24: =+IF(_xlfn.XLOOKUP($N24,'★参考 2024年度社会学部時間割'!$M:$M,'★参考 2024年度社会学部時間割'!A:A)=0,"",_xlfn.XLOOKUP($N24,'★参考 2024年度社会学部時間割'!$M:$M,'★参考 2024年度社会学部時間割'!A:A)) -> ○ | B24: =+IF(_xlfn.XLOOKUP($N24,'★参考 2024年度社会学部時間割'!$M:$M,'★参考 2024年度社会学部時間割'!B:B)=0,"",_xlfn.XLOOKUP($N24,'★参考 2024年度社会学部時間割'!$M:$M,'★参考 2024年度社会学部時間割'!B:B)) | C24: =+IF(_xlfn.XLOOKUP($N24,'★参考 2024年度社会学部時間割'!$M:$M,'★参考 2024年度社会学部時間割'!C:C)=0,"",_xlfn.XLOOKUP($N24,'★参考 2024年度社会学部時間割'!$M:$M,'★参考 2024年度社会学部時間割'!C:C)) | G24: 1 | H24: 2025 | I24: C | J24: U | K24: U25C301 | L24: CU11600010 | M24: 001 | N24: ライティング実習ⅠA | P24: 03 | Q24: 後期 火５ | R24: 1 | S24: 0 | T24: C | U24: U | V24: CU11600010 | W24: 001 | X24: C | AH24: 0 | AM24: 2016 | AN24: 9999 | AO24: 4 | AP24: 0 | AR24: 0 | AS24: 0 | AT24: 0 | AU24: 0 | AV24: 0 | AW24: 1 | AX24: 1 | AY24: 0 | AZ24: 1 | BA24: 0 | BB24: クラス指定科目 | BC24: 社会・５ | BG24: 10000000 | BH24: 93189 | BI24: 杉山 善明 | BJ24: スギヤマ ヨシアキ | BK24: 03 | BL24: 2 | BM24: 5 | BN24: 1 | BO24: 15 | BP24: 0.00 | BQ24: 0.00 | BR24: 0.00 | BS24: 0 | BT24: 0 | BU24: 0 | BV24: 0 | BW24: 0 | BX24: 0 | BY24: 0 | BZ24: 0 | CA24: 0 | CB24: 0 | CC24: 0 | CD24: 0 | CE24: 1 | CF24: C1WR1A0210 | CG24: C1WR1A0210 | CI24: 0 | CJ24: 0 | CK24: 1 | CL24: 4 | CM24: C2100
A25: =+IF(_xlfn.XLOOKUP($N25,'★参考 2024年度社会学部時間割'!$M:$M,'★参考 2024年度社会学部時間割'!A:A)=0,"",_xlfn.XLOOKUP($N25,'★参考 2024年度社会学部時間割'!$M:$M,'★参考 2024年度社会学部時間割'!A:A)) -> ○ | B25: =+IF(_xlfn.XLOOKUP($N25,'★参考 2024年度社会学部時間割'!$M:$M,'★参考 2024年度社会学部時間割'!B:B)=0,"",_xlfn.XLOOKUP($N25,'★参考 2024年度社会学部時間割'!$M:$M,'★参考 2024年度社会学部時間割'!B:B)) | C25: =+IF(_xlfn.XLOOKUP($N25,'★参考 2024年度社会学部時間割'!$M:$M,'★参考 2024年度社会学部時間割'!C:C)=0,"",_xlfn.XLOOKUP($N25,'★参考 2024年度社会学部時間割'!$M:$M,'★参考 2024年度社会学部時間割'!C:C)) | G25: 1 | H25: 2025 | I25: C | J25: U | K25: U25C202 | L25: CU11600020 | M25: 001 | N25: ライティング実習ⅠB | P25: 02 | Q25: 前期 火５ | R25: 1 | S25: 0 | T25: C | U25: U | V25: CU11600020 | W25: 001 | X25: C | AH25: 0 | AM25: 2016 | AN25: 9999 | AO25: 4 | AP25: 0 | AR25: 0 | AS25: 0 | AT25: 0 | AU25: 0 | AV25: 1 | AW25: 0 | AX25: 1 | AY25: 0 | AZ25: 1 | BA25: 0 | BB25: クラス指定科目 | BC25: 社会・５ | BG25: 10000000 | BH25: 93189 | BI25: 杉山 善明 | BJ25: スギヤマ ヨシアキ | BK25: 02 | BL25: 2 | BM25: 5 | BN25: 1 | BO25: 15 | BP25: 0.00 | BQ25: 0.00 | BR25: 0.00 | BS25: 0 | BT25: 0 | BU25: 0 | BV25: 0 | BW25: 0 | BX25: 0 | BY25: 0 | BZ25: 0 | CA25: 0 | CB25: 0 | CC25: 0 | CD25: 0 | CE25: 1 | CF25: C1WR1B0210 | CG25: C1WR1B0210 | CI25: 0 | CJ25: 0 | CK25: 1 | CL25: 4 | CM25: C2100
A26: =+IF(_xlfn.XLOOKUP($N26,'★参考 2024年度社会学部時間割'!$M:$M,'★参考 2024年度社会学部時間割'!A:A)=0,"",_xlfn.XLOOKUP($N26,'★参考 2024年度社会学部時間割'!$M:$M,'★参考 2024年度社会学部時間割'!A:A)) -> ○ | B26: =+IF(_xlfn.XLOOKUP($N26,'★参考 2024年度社会学部時間割'!$M:$M,'★参考 2024年度社会学部時間割'!B:B)=0,"",_xlfn.XLOOKUP($N26,'★参考 2024年度社会学部時間割'!$M:$M,'★参考 2024年度社会学部時間割'!B:B)) | C26: =+IF(_xlfn.XLOOKUP($N26,'★参考 2024年度社会学部時間割'!$M:$M,'★参考 2024年度社会学部時間割'!C:C)=0,"",_xlfn.XLOOKUP($N26,'★参考 2024年度社会学部時間割'!$M:$M,'★参考 2024年度社会学部時間割'!C:C)) | G26: 1 | H26: 2025 | I26: C | J26: U | K26: U23C201 | L26: CU11600030 | M26: 001 | N26: ライティング実習ⅡA | P26: 02 | Q26: 前期 火３ | R26: 1 | S26: 0 | T26: C | U26: U | V26: CU11600030 | W26: 001 | X26: C | AH26: 0 | AM26: 2016 | AN26: 9999 | AO26: 4 | AP26: 0 | AR26: 0 | AS26: 0 | AT26: 0 | AU26: 0 | AV26: 1 | AW26: 0 | AX26: 1 | AY26: 0 | AZ26: 1 | BA26: 0 | BB26: クラス指定科目 | BC26: 社会・５ | BG26: 10000000 | BH26: 94275 | BI26: 柴田 和子 | BJ26: シバタ カズコ | BK26: 02 | BL26: 2 | BM26: 3 | BN26: 1 | BO26: 15 | BP26: 0.00 | BQ26: 0.00 | BR26: 0.00 | BS26: 0 | BT26: 0 | BU26: 0 | BV26: 0 | BW26: 0 | BX26: 0 | BY26: 0 | BZ26: 0 | CA26: 0 | CB26: 0 | CC26: 0 | CD26: 0 | CE26: 1 | CF26: C1WR2A0010 | CG26: C1WR2A0010 | CI26: 0 | CJ26: 0 | CK26: 2 | CL26: 4 | CM26: C2100
A27: =+IF(_xlfn.XLOOKUP($N27,'★参考 2024年度社会学部時間割'!$M:$M,'★参考 2024年度社会学部時間割'!A:A)=0,"",_xlfn.XLOOKUP($N27,'★参考 2024年度社会学部時間割'!$M:$M,'★参考 2024年度社会学部時間割'!A:A)) -> ○ | B27: =+IF(_xlfn.XLOOKUP($N27,'★参考 2024年度社会学部時間割'!$M:$M,'★参考 2024年度社会学部時間割'!B:B)=0,"",_xlfn.XLOOKUP($N27,'★参考 2024年度社会学部時間割'!$M:$M,'★参考 2024年度社会学部時間割'!B:B)) | C27: =+IF(_xlfn.XLOOKUP($N27,'★参考 2024年度社会学部時間割'!$M:$M,'★参考 2024年度社会学部時間割'!C:C)=0,"",_xlfn.XLOOKUP($N27,'★参考 2024年度社会学部時間割'!$M:$M,'★参考 2024年度社会学部時間割'!C:C)) | G27: 1 | H27: 2025 | I27: C | J27: U | K27: U23C202 | L27: CU11600030 | M27: 002 | N27: ライティング実習ⅡA | P27: 02 | Q27: 前期 火３ | R27: 1 | S27: 0 | T27: C | U27: U | V27: CU11600030 | W27: 002 | X27: C | AH27: 0 | AM27: 2016 | AN27: 9999 | AO27: 4 | AP27: 0 | AR27: 0 | AS27: 0 | AT27: 0 | AU27: 0 | AV27: 1 | AW27: 0 | AX27: 1 | AY27: 0 | AZ27: 1 | BA27: 0 | BB27: クラス指定科目 | BC27: 社会・５ | BG27: 10000000 | BH27: 91679 | BI27: 吉田 秀和 | BJ27: ヨシダ ヒデカズ | BK27: 02 | BL27: 2 | BM27: 3 | BN27: 1 | BO27: 15 | BP27: 0.00 | BQ27: 0.00 | BR27: 0.00 | BS27: 0 | BT27: 0 | BU27: 0 | BV27: 0 | BW27: 0 | BX27: 0 | BY27: 0 | BZ27: 0 | CA27: 0 | CB27: 0 | CC27: 0 | CD27: 0 | CE27: 1 | CF27: C1WR2A0020 | CG27: C1WR2A0010 | CI27: 0 | CJ27: 0 | CK27: 2 | CL27: 4 | CM27: C2100
A28: =+IF(_xlfn.XLOOKUP($N28,'★参考 2024年度社会学部時間割'!$M:$M,'★参考 2024年度社会学部時間割'!A:A)=0,"",_xlfn.XLOOKUP($N28,'★参考 2024年度社会学部時間割'!$M:$M,'★参考 2024年度社会学部時間割'!A:A)) -> ○ | B28: =+IF(_xlfn.XLOOKUP($N28,'★参考 2024年度社会学部時間割'!$M:$M,'★参考 2024年度社会学部時間割'!B:B)=0,"",_xlfn.XLOOKUP($N28,'★参考 2024年度社会学部時間割'!$M:$M,'★参考 2024年度社会学部時間割'!B:B)) | C28: =+IF(_xlfn.XLOOKUP($N28,'★参考 2024年度社会学部時間割'!$M:$M,'★参考 2024年度社会学部時間割'!C:C)=0,"",_xlfn.XLOOKUP($N28,'★参考 2024年度社会学部時間割'!$M:$M,'★参考 2024年度社会学部時間割'!C:C)) | G28: 1 | H28: 2025 | I28: C | J28: U | K28: U24C201 | L28: CU11600030 | M28: 003 | N28: ライティング実習ⅡA | P28: 02 | Q28: 前期 火４ | R28: 1 | S28: 0 | T28: C | U28: U | V28: CU11600030 | W28: 003 | X28: C | AH28: 0 | AM28: 2016 | AN28: 9999 | AO28: 4 | AP28: 0 | AR28: 0 | AS28: 0 | AT28: 0 | AU28: 0 | AV28: 1 | AW28: 0 | AX28: 1 | AY28: 0 | AZ28: 1 | BA28: 0 | BB28: クラス指定科目 | BC28: 社会・５ | BG28: 10000000 | BH28: 93189 | BI28: 杉山 善明 | BJ28: スギヤマ ヨシアキ | BK28: 02 | BL28: 2 | BM28: 4 | BN28: 1 | BO28: 15 | BP28: 0.00 | BQ28: 0.00 | BR28: 0.00 | BS28: 0 | BT28: 0 | BU28: 0 | BV28: 0 | BW28: 0 | BX28: 0 | BY28: 0 | BZ28: 0 | CA28: 0 | CB28: 0 | CC28: 0 | CD28: 0 | CE28: 1 | CF28: C1WR2A0030 | CG28: C1WR2A0010 | CI28: 0 | CJ28: 0 | CK28: 2 | CL28: 4 | CM28: C2100
A29: =+IF(_xlfn.XLOOKUP($N29,'★参考 2024年度社会学部時間割'!$M:$M,'★参考 2024年度社会学部時間割'!A:A)=0,"",_xlfn.XLOOKUP($N29,'★参考 2024年度社会学部時間割'!$M:$M,'★参考 2024年度社会学部時間割'!A:A)) -> ○ | B29: =+IF(_xlfn.XLOOKUP($N29,'★参考 2024年度社会学部時間割'!$M:$M,'★参考 2024年度社会学部時間割'!B:B)=0,"",_xlfn.XLOOKUP($N29,'★参考 2024年度社会学部時間割'!$M:$M,'★参考 2024年度社会学部時間割'!B:B)) | C29: =+IF(_xlfn.XLOOKUP($N29,'★参考 2024年度社会学部時間割'!$M:$M,'★参考 2024年度社会学部時間割'!C:C)=0,"",_xlfn.XLOOKUP($N29,'★参考 2024年度社会学部時間割'!$M:$M,'★参考 2024年度社会学部時間割'!C:C)) | G29: 1 | H29: 2025 | I29: C | J29: U | K29: U23C203 | L29: CU11600030 | M29: 004 | N29: ライティング実習ⅡA | P29: 02 | Q29: 前期 火３ | R29: 1 | S29: 0 | T29: C | U29: U | V29: CU11600030 | W29: 004 | X29: C | AH29: 0 | AM29: 2016 | AN29: 9999 | AO29: 4 | AP29: 0 | AR29: 0 | AS29: 0 | AT29: 0 | AU29: 0 | AV29: 1 | AW29: 0 | AX29: 1 | AY29: 0 | AZ29: 1 | BA29: 0 | BB29: クラス指定科目 | BC29: 社会・５ | BG29: 10000000 | BH29: 99232 | BI29: 多田 敦士 | BJ29: タダ アツシ | BK29: 02 | BL29: 2 | BM29: 3 | BN29: 1 | BO29: 15 | BP29: 0.00 | BQ29: 0.00 | BR29: 0.00 | BS29: 0 | BT29: 0 | BU29: 0 | BV29: 0 | BW29: 0 | BX29: 0 | BY29: 0 | BZ29: 0 | CA29: 0 | CB29: 0 | CC29: 0 | CD29: 0 | CE29: 1 | CF29: C1WR2A0040 | CG29: C1WR2A0010 | CI29: 0 | CJ29: 0 | CK29: 2 | CL29: 4 | CM29: C2100
A30: =+IF(_xlfn.XLOOKUP($N30,'★参考 2024年度社会学部時間割'!$M:$M,'★参考 2024年度社会学部時間割'!A:A)=0,"",_xlfn.XLOOKUP($N30,'★参考 2024年度社会学部時間割'!$M:$M,'★参考 2024年度社会学部時間割'!A:A)) -> ○ | B30: =+IF(_xlfn.XLOOKUP($N30,'★参考 2024年度社会学部時間割'!$M:$M,'★参考 2024年度社会学部時間割'!B:B)=0,"",_xlfn.XLOOKUP($N30,'★参考 2024年度社会学部時間割'!$M:$M,'★参考 2024年度社会学部時間割'!B:B)) | C30: =+IF(_xlfn.XLOOKUP($N30,'★参考 2024年度社会学部時間割'!$M:$M,'★参考 2024年度社会学部時間割'!C:C)=0,"",_xlfn.XLOOKUP($N30,'★参考 2024年度社会学部時間割'!$M:$M,'★参考 2024年度社会学部時間割'!C:C)) | G30: 1 | H30: 2025 | I30: C | J30: U | K30: U24C202 | L30: CU11600030 | M30: 005 | N30: ライティング実習ⅡA | P30: 02 | Q30: 前期 火４ | R30: 1 | S30: 0 | T30: C | U30: U | V30: CU11600030 | W30: 005 | X30: C | AH30: 0 | AM30: 2016 | AN30: 9999 | AO30: 4 | AP30: 0 | AR30: 0 | AS30: 0 | AT30: 0 | AU30: 0 | AV30: 1 | AW30: 0 | AX30: 1 | AY30: 0 | AZ30: 1 | BA30: 0 | BB30: クラス指定科目 | BC30: 社会・５ | BG30: 10000000 | BH30: 91679 | BI30: 吉田 秀和 | BJ30: ヨシダ ヒデカズ | BK30: 02 | BL30: 2 | BM30: 4 | BN30: 1 | BO30: 15 | BP30: 0.00 | BQ30: 0.00 | BR30: 0.00 | BS30: 0 | BT30: 0 | BU30: 0 | BV30: 0 | BW30: 0 | BX30: 0 | BY30: 0 | BZ30: 0 | CA30: 0 | CB30: 0 | CC30: 0 | CD30: 0 | CE30: 1 | CF30: C1WR2A0050 | CG30: C1WR2A0010 | CI30: 0 | CJ30: 0 | CK30: 2 | CL30: 4 | CM30: C2100
A31: =+IF(_xlfn.XLOOKUP($N31,'★参考 2024年度社会学部時間割'!$M:$M,'★参考 2024年度社会学部時間割'!A:A)=0,"",_xlfn.XLOOKUP($N31,'★参考 2024年度社会学部時間割'!$M:$M,'★参考 2024年度社会学部時間割'!A:A)) -> ○ | B31: =+IF(_xlfn.XLOOKUP($N31,'★参考 2024年度社会学部時間割'!$M:$M,'★参考 2024年度社会学部時間割'!B:B)=0,"",_xlfn.XLOOKUP($N31,'★参考 2024年度社会学部時間割'!$M:$M,'★参考 2024年度社会学部時間割'!B:B)) | C31: =+IF(_xlfn.XLOOKUP($N31,'★参考 2024年度社会学部時間割'!$M:$M,'★参考 2024年度社会学部時間割'!C:C)=0,"",_xlfn.XLOOKUP($N31,'★参考 2024年度社会学部時間割'!$M:$M,'★参考 2024年度社会学部時間割'!C:C)) | G31: 1 | H31: 2025 | I31: C | J31: U | K31: U23C204 | L31: CU11600030 | M31: 006 | N31: ライティング実習ⅡA | P31: 02 | Q31: 前期 火３ | R31: 1 | S31: 0 | T31: C | U31: U | V31: CU11600030 | W31: 006 | X31: C | AH31: 0 | AM31: 2016 | AN31: 9999 | AO31: 4 | AP31: 0 | AR31: 0 | AS31: 0 | AT31: 0 | AU31: 0 | AV31: 1 | AW31: 0 | AX31: 1 | AY31: 0 | AZ31: 1 | BA31: 0 | BB31: クラス指定科目 | BC31: 社会・５ | BG31: 10000000 | BH31: 99233 | BI31: 玉本 拓郎 | BJ31: タマモト タクロウ | BK31: 02 | BL31: 2 | BM31: 3 | BN31: 1 | BO31: 15 | BP31: 0.00 | BQ31: 0.00 | BR31: 0.00 | BS31: 0 | BT31: 0 | BU31: 0 | BV31: 0 | BW31: 0 | BX31: 0 | BY31: 0 | BZ31: 0 | CA31: 0 | CB31: 0 | CC31: 0 | CD31: 0 | CE31: 1 | CF31: C1WR2A0060 | CG31: C1WR2A0010 | CI31: 0 | CJ31: 0 | CK31: 2 | CL31: 4 | CM31: C2100
A32: =+IF(_xlfn.XLOOKUP($N32,'★参考 2024年度社会学部時間割'!$M:$M,'★参考 2024年度社会学部時間割'!A:A)=0,"",_xlfn.XLOOKUP($N32,'★参考 2024年度社会学部時間割'!$M:$M,'★参考 2024年度社会学部時間割'!A:A)) -> ○ | B32: =+IF(_xlfn.XLOOKUP($N32,'★参考 2024年度社会学部時間割'!$M:$M,'★参考 2024年度社会学部時間割'!B:B)=0,"",_xlfn.XLOOKUP($N32,'★参考 2024年度社会学部時間割'!$M:$M,'★参考 2024年度社会学部時間割'!B:B)) | C32: =+IF(_xlfn.XLOOKUP($N32,'★参考 2024年度社会学部時間割'!$M:$M,'★参考 2024年度社会学部時間割'!C:C)=0,"",_xlfn.XLOOKUP($N32,'★参考 2024年度社会学部時間割'!$M:$M,'★参考 2024年度社会学部時間割'!C:C)) | G32: 1 | H32: 2025 | I32: C | J32: U | K32: U24C203 | L32: CU11600030 | M32: 007 | N32: ライティング実習ⅡA | P32: 02 | Q32: 前期 火４ | R32: 1 | S32: 0 | T32: C | U32: U | V32: CU11600030 | W32: 007 | X32: C | AH32: 0 | AM32: 2016 | AN32: 9999 | AO32: 4 | AP32: 0 | AR32: 0 | AS32: 0 | AT32: 0 | AU32: 0 | AV32: 1 | AW32: 0 | AX32: 1 | AY32: 0 | AZ32: 1 | BA32: 0 | BB32: クラス指定科目 | BC32: 社会・５ | BG32: 10000000 | BH32: 01321 | BI32: 湯川 宗紀 | BJ32: ユカワ ムネキ | BK32: 02 | BL32: 2 | BM32: 4 | BN32: 1 | BO32: 15 | BP32: 0.00 | BQ32: 0.00 | BR32: 0.00 | BS32: 0 | BT32: 0 | BU32: 0 | BV32: 0 | BW32: 0 | BX32: 0 | BY32: 0 | BZ32: 0 | CA32: 0 | CB32: 0 | CC32: 0 | CD32: 0 | CE32: 1 | CF32: C1WR2A0070 | CG32: C1WR2A0010 | CI32: 0 | CJ32: 0 | CK32: 2 | CL32: 4 | CM32: C2100
A33: =+IF(_xlfn.XLOOKUP($N33,'★参考 2024年度社会学部時間割'!$M:$M,'★参考 2024年度社会学部時間割'!A:A)=0,"",_xlfn.XLOOKUP($N33,'★参考 2024年度社会学部時間割'!$M:$M,'★参考 2024年度社会学部時間割'!A:A)) -> ○ | B33: =+IF(_xlfn.XLOOKUP($N33,'★参考 2024年度社会学部時間割'!$M:$M,'★参考 2024年度社会学部時間割'!B:B)=0,"",_xlfn.XLOOKUP($N33,'★参考 2024年度社会学部時間割'!$M:$M,'★参考 2024年度社会学部時間割'!B:B)) | C33: =+IF(_xlfn.XLOOKUP($N33,'★参考 2024年度社会学部時間割'!$M:$M,'★参考 2024年度社会学部時間割'!C:C)=0,"",_xlfn.XLOOKUP($N33,'★参考 2024年度社会学部時間割'!$M:$M,'★参考 2024年度社会学部時間割'!C:C)) | G33: 1 | H33: 2025 | I33: C | J33: U | K33: U24C204 | L33: CU11600030 | M33: 008 | N33: ライティング実習ⅡA | P33: 02 | Q33: 前期 火４ | R33: 1 | S33: 0 | T33: C | U33: U | V33: CU11600030 | W33: 008 | X33: C | AH33: 0 | AM33: 2016 | AN33: 9999 | AO33: 4 | AP33: 0 | AR33: 0 | AS33: 0 | AT33: 0 | AU33: 0 | AV33: 1 | AW33: 0 | AX33: 1 | AY33: 0 | AZ33: 1 | BA33: 0 | BB33: クラス指定科目 | BC33: 社会・５ | BG33: 10000000 | BH33: 99232 | BI33: 多田 敦士 | BJ33: タダ アツシ | BK33: 02 | BL33: 2 | BM33: 4 | BN33: 1 | BO33: 15 | BP33: 0.00 | BQ33: 0.00 | BR33: 0.00 | BS33: 0 | BT33: 0 | BU33: 0 | BV33: 0 | BW33: 0 | BX33: 0 | BY33: 0 | BZ33: 0 | CA33: 0 | CB33: 0 | CC33: 0 | CD33: 0 | CE33: 1 | CF33: C1WR2A0080 | CG33: C1WR2A0010 | CI33: 0 | CJ33: 0 | CK33: 2 | CL33: 4 | CM33: C2100
A34: =+IF(_xlfn.XLOOKUP($N34,'★参考 2024年度社会学部時間割'!$M:$M,'★参考 2024年度社会学部時間割'!A:A)=0,"",_xlfn.XLOOKUP($N34,'★参考 2024年度社会学部時間割'!$M:$M,'★参考 2024年度社会学部時間割'!A:A)) -> ○ | B34: =+IF(_xlfn.XLOOKUP($N34,'★参考 2024年度社会学部時間割'!$M:$M,'★参考 2024年度社会学部時間割'!B:B)=0,"",_xlfn.XLOOKUP($N34,'★参考 2024年度社会学部時間割'!$M:$M,'★参考 2024年度社会学部時間割'!B:B)) | C34: =+IF(_xlfn.XLOOKUP($N34,'★参考 2024年度社会学部時間割'!$M:$M,'★参考 2024年度社会学部時間割'!C:C)=0,"",_xlfn.XLOOKUP($N34,'★参考 2024年度社会学部時間割'!$M:$M,'★参考 2024年度社会学部時間割'!C:C)) | G34: 1 | H34: 2025 | I34: C | J34: U | K34: U43C201 | L34: CU11600030 | M34: 009 | N34: ライティング実習ⅡA | P34: 02 | Q34: 前期 木３ | R34: 1 | S34: 0 | T34: C | U34: U | V34: CU11600030 | W34: 009 | X34: C | AH34: 0 | AM34: 2016 | AN34: 9999 | AO34: 4 | AP34: 0 | AR34: 0 | AS34: 0 | AT34: 0 | AU34: 0 | AV34: 1 | AW34: 0 | AX34: 1 | AY34: 0 | AZ34: 1 | BA34: 0 | BB34: クラス指定科目 | BC34: 社会・５ | BG34: 10000000 | BH34: 03366 | BI34: 松本 拓 | BJ34: マツモト タク | BK34: 02 | BL34: 4 | BM34: 3 | BN34: 1 | BO34: 15 | BP34: 0.00 | BQ34: 0.00 | BR34: 0.00 | BS34: 0 | BT34: 0 | BU34: 0 | BV34: 0 | BW34: 0 | BX34: 0 | BY34: 0 | BZ34: 0 | CA34: 0 | CB34: 0 | CC34: 0 | CD34: 0 | CE34: 1 | CF34: C1WR2A0090 | CG34: C1WR2A0010 | CI34: 0 | CJ34: 0 | CK34: 2 | CL34: 4 | CM34: C2100
A35: =+IF(_xlfn.XLOOKUP($N35,'★参考 2024年度社会学部時間割'!$M:$M,'★参考 2024年度社会学部時間割'!A:A)=0,"",_xlfn.XLOOKUP($N35,'★参考 2024年度社会学部時間割'!$M:$M,'★参考 2024年度社会学部時間割'!A:A)) -> ○ | B35: =+IF(_xlfn.XLOOKUP($N35,'★参考 2024年度社会学部時間割'!$M:$M,'★参考 2024年度社会学部時間割'!B:B)=0,"",_xlfn.XLOOKUP($N35,'★参考 2024年度社会学部時間割'!$M:$M,'★参考 2024年度社会学部時間割'!B:B)) | C35: =+IF(_xlfn.XLOOKUP($N35,'★参考 2024年度社会学部時間割'!$M:$M,'★参考 2024年度社会学部時間割'!C:C)=0,"",_xlfn.XLOOKUP($N35,'★参考 2024年度社会学部時間割'!$M:$M,'★参考 2024年度社会学部時間割'!C:C)) | G35: 1 | H35: 2025 | I35: C | J35: U | K35: U43C202 | L35: CU11600030 | M35: 010 | N35: ライティング実習ⅡA | P35: 02 | Q35: 前期 木３ | R35: 1 | S35: 0 | T35: C | U35: U | V35: CU11600030 | W35: 010 | X35: C | AH35: 0 | AM35: 2016 | AN35: 9999 | AO35: 4 | AP35: 0 | AR35: 0 | AS35: 0 | AT35: 0 | AU35: 0 | AV35: 1 | AW35: 0 | AX35: 1 | AY35: 0 | AZ35: 1 | BA35: 0 | BB35: クラス指定科目 | BC35: 社会・５ | BG35: 10000000 | BH35: 93189 | BI35: 杉山 善明 | BJ35: スギヤマ ヨシアキ | BK35: 02 | BL35: 4 | BM35: 3 | BN35: 1 | BO35: 15 | BP35: 0.00 | BQ35: 0.00 | BR35: 0.00 | BS35: 0 | BT35: 0 | BU35: 0 | BV35: 0 | BW35: 0 | BX35: 0 | BY35: 0 | BZ35: 0 | CA35: 0 | CB35: 0 | CC35: 0 | CD35: 0 | CE35: 1 | CF35: C1WR2A0100 | CG35: C1WR2A0010 | CI35: 0 | CJ35: 0 | CK35: 2 | CL35: 4 | CM35: C2100
... A60: =+IF(_xlfn.XLOOKUP($N60,'★参考 2024年度社会学部時間割'!$M:$M,'★参考 2024年度社会学部時間割'!A:A)=0,"",_xlfn.XLOOKUP($N60,'★参考 2024年度社会学部時間割'!$M:$M,'★参考 2024年度社会学部時間割'!A:A)) -> ○ | B60: =+IF(_xlfn.XLOOKUP($N60,'★参考 2024年度社会学部時間割'!$M:$M,'★参考 2024年度社会学部時間割'!B:B)=0,"",_xlfn.XLOOKUP($N60,'★参考 2024年度社会学部時間割'!$M:$M,'★参考 2024年度社会学部時間割'!B:B)) | C60: =+IF(_xlfn.XLOOKUP($N60,'★参考 2024年度社会学部時間割'!$M:$M,'★参考 2024年度社会学部時間割'!C:C)=0,"",_xlfn.XLOOKUP($N60,'★参考 2024年度社会学部時間割'!$M:$M,'★参考 2024年度社会学部時間割'!C:C)) | G60: 1 | H60: 2025 | I60: C | J60: U | K60: U45C203 | L60: CU11600040 | M60: 018 | N60: ライティング実習ⅡB | P60: 02 | Q60: 前期 木５ | R60: 1 | S60: 0 | T60: C | U60: U | V60: CU11600040 | W60: 018 | X60: C | AH60: 0 | AM60: 2016 | AN60: 9999 | AO60: 4 | AP60: 0 | AR60: 0 | AS60: 0 | AT60: 0 | AU60: 0 | AV60: 1 | AW60: 0 | AX60: 1 | AY60: 0 | AZ60: 1 | BA60: 0 | BB60: クラス指定科目 | BC60: 社会・５ | BG60: 10000000 | BH60: 93189 | BI60: 杉山 善明 | BJ60: スギヤマ ヨシアキ | BK60: 02 | BL60: 4 | BM60: 5 | BN60: 1 | BO60: 15 | BP60: 0.00 | BQ60: 0.00 | BR60: 0.00 | BS60: 0 | BT60: 0 | BU60: 0 | BV60: 0 | BW60: 0 | BX60: 0 | BY60: 0 | BZ60: 0 | CA60: 0 | CB60: 0 | CC60: 0 | CD60: 0 | CE60: 1 | CF60: C1WR2B0220 | CG60: C1WR2B0210 | CI60: 0 | CJ60: 0 | CK60: 2 | CL60: 4 | CM60: C2100
A61: =+IF(_xlfn.XLOOKUP($N61,'★参考 2024年度社会学部時間割'!$M:$M,'★参考 2024年度社会学部時間割'!A:A)=0,"",_xlfn.XLOOKUP($N61,'★参考 2024年度社会学部時間割'!$M:$M,'★参考 2024年度社会学部時間割'!A:A)) -> ○ | B61: =+IF(_xlfn.XLOOKUP($N61,'★参考 2024年度社会学部時間割'!$M:$M,'★参考 2024年度社会学部時間割'!B:B)=0,"",_xlfn.XLOOKUP($N61,'★参考 2024年度社会学部時間割'!$M:$M,'★参考 2024年度社会学部時間割'!B:B)) | C61: =+IF(_xlfn.XLOOKUP($N61,'★参考 2024年度社会学部時間割'!$M:$M,'★参考 2024年度社会学部時間割'!C:C)=0,"",_xlfn.XLOOKUP($N61,'★参考 2024年度社会学部時間割'!$M:$M,'★参考 2024年度社会学部時間割'!C:C)) | G61: 1 | H61: 2025 | I61: C | J61: U | K61: U32C304 | L61: CU11600080 | M61: 001 | N61: 社会学の成立 | O61: 社会01組 | P61: 03 | Q61: 後期 水２ | R61: 2 | S61: 0 | T61: C | U61: U | V61: CU11600080 | W61: 001 | X61: C | AH61: 0 | AM61: 2016 | AN61: 9999 | AO61: 4 | AP61: 0 | AR61: 0 | AS61: 0 | AT61: 0 | AU61: 0 | AV61: 0 | AW61: 1 | AX61: 1 | AY61: 0 | AZ61: 1 | BA61: 1 | BB61: クラス指定科目 | BC61: 社会・６ａ | BG61: 10000000 | BH61: 16005 | BI61: 清家 竜介 | BJ61: セイケ リュウスケ | BK61: 03 | BL61: 3 | BM61: 2 | BN61: 1 | BO61: 15 | BP61: 0.00 | BQ61: 0.00 | BR61: 0.00 | BS61: 0 | BT61: 0 | BU61: 0 | BV61: 0 | BW61: 0 | BX61: 0 | BY61: 0 | BZ61: 0 | CA61: 0 | CB61: 0 | CC61: 0 | CD61: 0 | CE61: 1 | CF61: C100000600 | CG61: C100000600 | CI61: 0 | CJ61: 0 | CK61: 1 | CL61: 4 | CM61: C2100
A62: =+IF(_xlfn.XLOOKUP($N62,'★参考 2024年度社会学部時間割'!$M:$M,'★参考 2024年度社会学部時間割'!A:A)=0,"",_xlfn.XLOOKUP($N62,'★参考 2024年度社会学部時間割'!$M:$M,'★参考 2024年度社会学部時間割'!A:A)) -> ○ | B62: =+IF(_xlfn.XLOOKUP($N62,'★参考 2024年度社会学部時間割'!$M:$M,'★参考 2024年度社会学部時間割'!B:B)=0,"",_xlfn.XLOOKUP($N62,'★参考 2024年度社会学部時間割'!$M:$M,'★参考 2024年度社会学部時間割'!B:B)) | C62: =+IF(_xlfn.XLOOKUP($N62,'★参考 2024年度社会学部時間割'!$M:$M,'★参考 2024年度社会学部時間割'!C:C)=0,"",_xlfn.XLOOKUP($N62,'★参考 2024年度社会学部時間割'!$M:$M,'★参考 2024年度社会学部時間割'!C:C)) | G62: 1 | H62: 2025 | I62: C | J62: U | K62: U32C305 | L62: CU11600080 | M62: 002 | N62: 社会学の成立 | O62: 教職 | P62: 03 | Q62: 後期 水２ | R62: 2 | S62: 0 | T62: C | U62: U | V62: CU11600080 | W62: 002 | X62: C | AH62: 0 | AM62: 2016 | AN62: 9999 | AO62: 4 | AP62: 0 | AR62: 0 | AS62: 0 | AT62: 0 | AU62: 0 | AV62: 0 | AW62: 1 | AX62: 0 | AY62: 0 | AZ62: 1 | BA62: 1 | BB62: 指定学生のみ（他学科受講用） 教職 | BC62: 社会・６ａ 履修制限フラグ外す、履修登録方法区分４、新カリ | BG62: 10000000 | BH62: 16005 | BI62: 清家 竜介 | BJ62: セイケ リュウスケ | BK62: 03 | BL62: 3 | BM62: 2 | BN62: 1 | BO62: 15 | BP62: 0.00 | BQ62: 0.00 | BR62: 0.00 | BS62: 0 | BT62: 0 | BU62: 0 | BV62: 0 | BW62: 0 | BX62: 0 | BY62: 0 | BZ62: 0 | CA62: 0 | CB62: 0 | CC62: 0 | CD62: 0 | CE62: 1 | CF62: C100000610 | CG62: C100000600 | CI62: 0 | CJ62: 0 | CK62: 1 | CL62: 4 | CM62: C2100
A63: =+IF(_xlfn.XLOOKUP($N63,'★参考 2024年度社会学部時間割'!$M:$M,'★参考 2024年度社会学部時間割'!A:A)=0,"",_xlfn.XLOOKUP($N63,'★参考 2024年度社会学部時間割'!$M:$M,'★参考 2024年度社会学部時間割'!A:A)) -> ○ | B63: =+IF(_xlfn.XLOOKUP($N63,'★参考 2024年度社会学部時間割'!$M:$M,'★参考 2024年度社会学部時間割'!B:B)=0,"",_xlfn.XLOOKUP($N63,'★参考 2024年度社会学部時間割'!$M:$M,'★参考 2024年度社会学部時間割'!B:B)) | C63: =+IF(_xlfn.XLOOKUP($N63,'★参考 2024年度社会学部時間割'!$M:$M,'★参考 2024年度社会学部時間割'!C:C)=0,"",_xlfn.XLOOKUP($N63,'★参考 2024年度社会学部時間割'!$M:$M,'★参考 2024年度社会学部時間割'!C:C)) | G63: 1 | H63: 2025 | I63: C | J63: U | K63: U13C201 | L63: CU11600090 | M63: 001 | N63: 社会学の展開 | O63: 社会01組 | P63: 02 | Q63: 前期 月３ | R63: 2 | S63: 0 | T63: C | U63: U | V63: CU11600090 | W63: 001 | X63: C | AH63: 1 | AM63: 2016 | AN63: 9999 | AO63: 2 | AP63: 0 | AQ63: C900 | AR63: 0 | AS63: 9999 | AT63: 9999 | AU63: 0 | AV63: 1 | AW63: 0 | AX63: 1 | AY63: 0 | AZ63: 1 | BA63: 1 | BC63: 社会・６ｅ | BG63: 10000000 | BH63: 16005 | BI63: 清家 竜介 | BJ63: セイケ リュウスケ | BK63: 02 | BL63: 1 | BM63: 3 | BN63: 1 | BO63: 15 | BP63: 0.00 | BQ63: 0.00 | BR63: 0.00 | BS63: 0 | BT63: 0 | BU63: 0 | BV63: 0 | BW63: 0 | BX63: 0 | BY63: 0 | BZ63: 0 | CA63: 0 | CB63: 0 | CC63: 0 | CD63: 0 | CE63: 1 | CF63: C100000800 | CG63: C100000800 | CI63: 0 | CJ63: 0 | CK63: 2 | CL63: 4 | CM63: C2100
A64: =+IF(_xlfn.XLOOKUP($N64,'★参考 2024年度社会学部時間割'!$M:$M,'★参考 2024年度社会学部時間割'!A:A)=0,"",_xlfn.XLOOKUP($N64,'★参考 2024年度社会学部時間割'!$M:$M,'★参考 2024年度社会学部時間割'!A:A)) -> ○ | B64: =+IF(_xlfn.XLOOKUP($N64,'★参考 2024年度社会学部時間割'!$M:$M,'★参考 2024年度社会学部時間割'!B:B)=0,"",_xlfn.XLOOKUP($N64,'★参考 2024年度社会学部時間割'!$M:$M,'★参考 2024年度社会学部時間割'!B:B)) | C64: =+IF(_xlfn.XLOOKUP($N64,'★参考 2024年度社会学部時間割'!$M:$M,'★参考 2024年度社会学部時間割'!C:C)=0,"",_xlfn.XLOOKUP($N64,'★参考 2024年度社会学部時間割'!$M:$M,'★参考 2024年度社会学部時間割'!C:C)) | G64: 1 | H64: 2025 | I64: C | J64: U | K64: U13C202 | L64: CU11600090 | M64: 002 | N64: 社会学の展開 | O64: 教職 | P64: 02 | Q64: 前期 月３ | R64: 2 | S64: 0 | T64: C | U64: U | V64: CU11600090 | W64: 002 | X64: C | AH64: 0 | AM64: 2016 | AN64: 9999 | AO64: 4 | AP64: 0 | AR64: 0 | AS64: 0 | AT64: 0 | AU64: 0 | AV64: 1 | AW64: 0 | AX64: 0 | AY64: 0 | AZ64: 1 | BA64: 1 | BB64: 指定学生のみ（他学科受講用） 教職 | BC64: 社会・６ｅ 履修制限フラグ外す、履修登録方法区分４、新カリ | BG64: 10000000 | BH64: 16005 | BI64: 清家 竜介 | BJ64: セイケ リュウスケ | BK64: 02 | BL64: 1 | BM64: 3 | BN64: 1 | BO64: 15 | BP64: 0.00 | BQ64: 0.00 | BR64: 0.00 | BS64: 0 | BT64: 0 | BU64: 0 | BV64: 0 | BW64: 0 | BX64: 0 | BY64: 0 | BZ64: 0 | CA64: 0 | CB64: 0 | CC64: 0 | CD64: 0 | CE64: 1 | CF64: C100000810 | CG64: C100000800 | CI64: 0 | CJ64: 0 | CK64: 2 | CL64: 4 | CM64: C2100
A65: =+IF(_xlfn.XLOOKUP($N65,'★参考 2024年度社会学部時間割'!$M:$M,'★参考 2024年度社会学部時間割'!A:A)=0,"",_xlfn.XLOOKUP($N65,'★参考 2024年度社会学部時間割'!$M:$M,'★参考 2024年度社会学部時間割'!A:A)) -> ○ | B65: =+IF(_xlfn.XLOOKUP($N65,'★参考 2024年度社会学部時間割'!$M:$M,'★参考 2024年度社会学部時間割'!B:B)=0,"",_xlfn.XLOOKUP($N65,'★参考 2024年度社会学部時間割'!$M:$M,'★参考 2024年度社会学部時間割'!B:B)) | C65: =+IF(_xlfn.XLOOKUP($N65,'★参考 2024年度社会学部時間割'!$M:$M,'★参考 2024年度社会学部時間割'!C:C)=0,"",_xlfn.XLOOKUP($N65,'★参考 2024年度社会学部時間割'!$M:$M,'★参考 2024年度社会学部時間割'!C:C)) | G65: 1 | H65: 2025 | I65: C | J65: U | K65: U45C204 | L65: CU11600110 | M65: 001 | N65: 外書講読A | P65: 02 | Q65: 前期 木５ | R65: 2 | S65: 0 | T65: C | U65: U | V65: CU11600110 | W65: 001 | X65: C | AH65: 0 | AM65: 2016 | AN65: 9999 | AO65: 2 | AP65: 0 | AQ65: C100 | AR65: 0 | AS65: 20 | AT65: 20 | AU65: 0 | AV65: 1 | AW65: 0 | AX65: 1 | AY65: 0 | AZ65: 1 | BA65: 1 | BB65: 【抽選登録科目】 | BC65: 社会・６ｅ | BG65: 10000000 | BH65: 23267 | BI65: 吉 深佳 | BJ65: キチ シンカ | BK65: 02 | BL65: 4 | BM65: 5 | BN65: 1 | BO65: 15 | BP65: 0.00 | BQ65: 0.00 | BR65: 0.00 | BS65: 0 | BT65: 0 | BU65: 0 | BV65: 0 | BW65: 0 | BX65: 0 | BY65: 0 | BZ65: 0 | CA65: 0 | CB65: 0 | CC65: 0 | CD65: 0 | CE65: 1 | CF65: C100000900 | CG65: C100000900 | CI65: 0 | CJ65: 0 | CK65: 2 | CL65: 4 | CM65: C2100
A66: =+IF(_xlfn.XLOOKUP($N66,'★参考 2024年度社会学部時間割'!$M:$M,'★参考 2024年度社会学部時間割'!A:A)=0,"",_xlfn.XLOOKUP($N66,'★参考 2024年度社会学部時間割'!$M:$M,'★参考 2024年度社会学部時間割'!A:A)) -> ○ | B66: =+IF(_xlfn.XLOOKUP($N66,'★参考 2024年度社会学部時間割'!$M:$M,'★参考 2024年度社会学部時間割'!B:B)=0,"",_xlfn.XLOOKUP($N66,'★参考 2024年度社会学部時間割'!$M:$M,'★参考 2024年度社会学部時間割'!B:B)) | C66: =+IF(_xlfn.XLOOKUP($N66,'★参考 2024年度社会学部時間割'!$M:$M,'★参考 2024年度社会学部時間割'!C:C)=0,"",_xlfn.XLOOKUP($N66,'★参考 2024年度社会学部時間割'!$M:$M,'★参考 2024年度社会学部時間割'!C:C)) | G66: 1 | H66: 2025 | I66: C | J66: U | K66: U45C305 | L66: CU11600120 | M66: 001 | N66: 外書講読B | P66: 03 | Q66: 後期 木５ | R66: 2 | S66: 0 | T66: C | U66: U | V66: CU11600120 | W66: 001 | X66: C | AH66: 0 | AM66: 2016 | AN66: 9999 | AO66: 2 | AP66: 0 | AQ66: C100 | AR66: 2 | AS66: 20 | AT66: 20 | AU66: 0 | AV66: 0 | AW66: 1 | AX66: 1 | AY66: 0 | AZ66: 1 | BA66: 1 | BB66: 【抽選登録科目】 | BC66: 社会・６ｅ | BG66: 10000000 | BH66: 23267 | BI66: 吉 深佳 | BJ66: キチ シンカ | BK66: 03 | BL66: 4 | BM66: 5 | BN66: 1 | BO66: 15 | BP66: 0.00 | BQ66: 0.00 | BR66: 0.00 | BS66: 0 | BT66: 0 | BU66: 0 | BV66: 0 | BW66: 0 | BX66: 0 | BY66: 0 | BZ66: 0 | CA66: 0 | CB66: 0 | CC66: 0 | CD66: 0 | CE66: 1 | CF66: CU11600120 | CG66: CU11600120 | CI66: 0 | CJ66: 0 | CK66: 2 | CL66: 4 | CM66: C2100
A67: =+IF(_xlfn.XLOOKUP($N67,'★参考 2024年度社会学部時間割'!$M:$M,'★参考 2024年度社会学部時間割'!A:A)=0,"",_xlfn.XLOOKUP($N67,'★参考 2024年度社会学部時間割'!$M:$M,'★参考 2024年度社会学部時間割'!A:A)) -> ○ | B67: =+IF(_xlfn.XLOOKUP($N67,'★参考 2024年度社会学部時間割'!$M:$M,'★参考 2024年度社会学部時間割'!B:B)=0,"",_xlfn.XLOOKUP($N67,'★参考 2024年度社会学部時間割'!$M:$M,'★参考 2024年度社会学部時間割'!B:B)) -> ○ | C67: =+IF(_xlfn.XLOOKUP($N67,'★参考 2024年度社会学部時間割'!$M:$M,'★参考 2024年度社会学部時間割'!C:C)=0,"",_xlfn.XLOOKUP($N67,'★参考 2024年度社会学部時間割'!$M:$M,'★参考 2024年度社会学部時間割'!C:C)) -> ○ | G67: 1 | H67: 2025 | I67: C | J67: U | K67: U13C303 | L67: CU11600140 | M67: 001 | N67: 比較社会論 | P67: 03 | Q67: 後期 月３ | R67: 2 | S67: 0 | T67: C | U67: U | V67: CU11600140 | W67: 001 | X67: C | AH67: 1 | AI67: 3 | AJ67: 4 | AM67: 2016 | AN67: 2019 | AO67: 2 | AP67: 0 | AQ67: C900 | AR67: 2 | AS67: 9999 | AT67: 9999 | AU67: 0 | AV67: 0 | AW67: 1 | AX67: 1 | AY67: 0 | AZ67: 1 | BA67: 1 | BC67: 社会・６ｅ ２０１９年度以前入学生用 | BG67: 10000000 | BH67: 11107 | BI67: 舟橋 健太 | BJ67: フナハシ ケンタ | BK67: 03 | BL67: 1 | BM67: 3 | BN67: 1 | BO67: 15 | BP67: 0.00 | BQ67: 0.00 | BR67: 0.00 | BS67: 0 | BT67: 0 | BU67: 0 | BV67: 0 | BW67: 0 | BX67: 0 | BY67: 0 | BZ67: 0 | CA67: 0 | CB67: 0 | CC67: 0 | CD67: 0 | CE67: 1 | CF67: C100001200 | CG67: C100001200 | CI67: 0 | CJ67: 0 | CK67: 3 | CL67: 4 | CM67: C2100 | CO67: C2200 | CQ67: C2300 | DR67: 学部共通講義（社会学科提供） | DS67: 卒業要件単位に含まれるのは上限１６単位まで（コミュニティマネジメント学科・現代福祉学科）
A68: =+IF(_xlfn.XLOOKUP($N68,'★参考 2024年度社会学部時間割'!$M:$M,'★参考 2024年度社会学部時間割'!A:A)=0,"",_xlfn.XLOOKUP($N68,'★参考 2024年度社会学部時間割'!$M:$M,'★参考 2024年度社会学部時間割'!A:A)) -> ○ | B68: =+IF(_xlfn.XLOOKUP($N68,'★参考 2024年度社会学部時間割'!$M:$M,'★参考 2024年度社会学部時間割'!B:B)=0,"",_xlfn.XLOOKUP($N68,'★参考 2024年度社会学部時間割'!$M:$M,'★参考 2024年度社会学部時間割'!B:B)) -> ○ | C68: =+IF(_xlfn.XLOOKUP($N68,'★参考 2024年度社会学部時間割'!$M:$M,'★参考 2024年度社会学部時間割'!C:C)=0,"",_xlfn.XLOOKUP($N68,'★参考 2024年度社会学部時間割'!$M:$M,'★参考 2024年度社会学部時間割'!C:C)) -> ○ | G68: 1 | H68: 2025 | I68: C | J68: U | K68: U13C304 | L68: CU11600140 | M68: 002 | N68: 比較社会論 | P68: 03 | Q68: 後期 月３ | R68: 2 | S68: 0 | T68: C | U68: U | V68: CU11600140 | W68: 002 | X68: C | AH68: 1 | AI68: 2 | AJ68: 4 | AM68: 2020 | AN68: 9999 | AO68: 2 | AP68: 0 | AQ68: C900 | AR68: 2 | AS68: 9999 | AT68: 9999 | AU68: 0 | AV68: 0 | AW68: 1 | AX68: 1 | AY68: 0 | AZ68: 1 | BA68: 1 | BB68: 学部共通講義（シラバスで卒業要件を確認すること） | BC68: 社会・６ｅ ２０２０年度以降入学生用 | BG68: 10000000 | BH68: 11107 | BI68: 舟橋 健太 | BJ68: フナハシ ケンタ | BK68: 03 | BL68: 1 | BM68: 3 | BN68: 1 | BO68: 15 | BP68: 0.00 | BQ68: 0.00 | BR68: 0.00 | BS68: 0 | BT68: 0 | BU68: 0 | BV68: 0 | BW68: 0 | BX68: 0 | BY68: 0 | BZ68: 0 | CA68: 0 | CB68: 0 | CC68: 0 | CD68: 0 | CE68: 1 | CF68: C100001201 | CG68: C100001200 | CI68: 0 | CJ68: 0 | CK68: 2 | CL68: 4 | CM68: C2100 | CO68: C2200 | CQ68: C2300 | DR68: 学部共通講義（社会学科提供） | DS68: 卒業要件単位に含まれるのは上限１６単位まで（コミュニティマネジメント学科・現代福祉学科）
A69: =+IF(_xlfn.XLOOKUP($N69,'★参考 2024年度社会学部時間割'!$M:$M,'★参考 2024年度社会学部時間割'!A:A)=0,"",_xlfn.XLOOKUP($N69,'★参考 2024年度社会学部時間割'!$M:$M,'★参考 2024年度社会学部時間割'!A:A)) -> ○ | B69: =+IF(_xlfn.XLOOKUP($N69,'★参考 2024年度社会学部時間割'!$M:$M,'★参考 2024年度社会学部時間割'!B:B)=0,"",_xlfn.XLOOKUP($N69,'★参考 2024年度社会学部時間割'!$M:$M,'★参考 2024年度社会学部時間割'!B:B)) -> ○ | C69: =+IF(_xlfn.XLOOKUP($N69,'★参考 2024年度社会学部時間割'!$M:$M,'★参考 2024年度社会学部時間割'!C:C)=0,"",_xlfn.XLOOKUP($N69,'★参考 2024年度社会学部時間割'!$M:$M,'★参考 2024年度社会学部時間割'!C:C)) -> ○ | G69: 1 | H69: 2025 | I69: C | J69: U | K69: U55C301 | L69: CU11600150 | M69: 001 | N69: 宗教社会学 | P69: 03 | Q69: 後期 金５ | R69: 2 | S69: 0 | T69: C | U69: U | V69: CU11600150 | W69: 001 | X69: C | AH69: 1 | AI69: 2 | AJ69: 4 | AM69: 2016 | AN69: 9999 | AO69: 2 | AP69: 0 | AQ69: C900 | AR69: 2 | AS69: 9999 | AT69: 9999 | AU69: 0 | AV69: 0 | AW69: 1 | AX69: 1 | AY69: 0 | AZ69: 1 | BA69: 1 | BB69: 学部共通講義（シラバスで卒業要件を確認すること） | BC69: 社会・６ｅ | BG69: 10000000 | BH69: 11014 | BI69: 猪瀬 優理 | BJ69: イノセ ユリ | BK69: 03 | BL69: 5 | BM69: 5 | BN69: 1 | BO69: 15 | BP69: 0.00 | BQ69: 0.00 | BR69: 0.00 | BS69: 0 | BT69: 0 | BU69: 0 | BV69: 0 | BW69: 0 | BX69: 0 | BY69: 0 | BZ69: 0 | CA69: 0 | CB69: 0 | CC69: 0 | CD69: 0 | CE69: 1 | CF69: C200095000 | CG69: C200095000 | CI69: 0 | CJ69: 0 | CK69: 2 | CL69: 4 | CM69: C2100 | CO69: C2200 | CQ69: C2300
A70: =+IF(_xlfn.XLOOKUP($N70,'★参考 2024年度社会学部時間割'!$M:$M,'★参考 2024年度社会学部時間割'!A:A)=0,"",_xlfn.XLOOKUP($N70,'★参考 2024年度社会学部時間割'!$M:$M,'★参考 2024年度社会学部時間割'!A:A)) -> ○ | B70: =+IF(_xlfn.XLOOKUP($N70,'★参考 2024年度社会学部時間割'!$M:$M,'★参考 2024年度社会学部時間割'!B:B)=0,"",_xlfn.XLOOKUP($N70,'★参考 2024年度社会学部時間割'!$M:$M,'★参考 2024年度社会学部時間割'!B:B)) -> ○ | C70: =+IF(_xlfn.XLOOKUP($N70,'★参考 2024年度社会学部時間割'!$M:$M,'★参考 2024年度社会学部時間割'!C:C)=0,"",_xlfn.XLOOKUP($N70,'★参考 2024年度社会学部時間割'!$M:$M,'★参考 2024年度社会学部時間割'!C:C)) -> ○ | G70: 1 | H70: 2025 | I70: C | J70: U | K70: U43C209 | L70: CU11600160 | M70: 001 | N70: 現代宗教論 | P70: 02 | Q70: 前期 木３ | R70: 2 | S70: 0 | T70: C | U70: U | V70: CU11600160 | W70: 001 | X70: C | AH70: 1 | AI70: 3 | AJ70: 4 | AM70: 2016 | AN70: 9999 | AO70: 2 | AP70: 0 | AQ70: C900 | AR70: 0 | AS70: 9999 | AT70: 9999 | AU70: 0 | AV70: 1 | AW70: 0 | AX70: 1 | AY70: 0 | AZ70: 1 | BA70: 1 | BB70: 学部共通講義（シラバスで卒業要件を確認すること） | BC70: 社会・６ｅ | BG70: 10000000 | BH70: 11014 | BI70: 猪瀬 優理 | BJ70: イノセ ユリ | BK70: 02 | BL70: 4 | BM70: 3 | BN70: 1 | BO70: 15 | BP70: 0.00 | BQ70: 0.00 | BR70: 0.00 | BS70: 0 | BT70: 0 | BU70: 0 | BV70: 0 | BW70: 0 | BX70: 0 | BY70: 0 | BZ70: 0 | CA70: 0 | CB70: 0 | CC70: 0 | CD70: 0 | CE70: 1 | CF70: C200096000 | CG70: C200096000 | CI70: 0 | CJ70: 0 | CK70: 3 | CL70: 4 | CM70: C2100 | CO70: C2200 | CQ70: C2300
A71: =+IF(_xlfn.XLOOKUP($N71,'★参考 2024年度社会学部時間割'!$M:$M,'★参考 2024年度社会学部時間割'!A:A)=0,"",_xlfn.XLOOKUP($N71,'★参考 2024年度社会学部時間割'!$M:$M,'★参考 2024年度社会学部時間割'!A:A)) -> #N/A | B71: =+IF(_xlfn.XLOOKUP($N71,'★参考 2024年度社会学部時間割'!$M:$M,'★参考 2024年度社会学部時間割'!B:B)=0,"",_xlfn.XLOOKUP($N71,'★参考 2024年度社会学部時間割'!$M:$M,'★参考 2024年度社会学部時間割'!B:B)) -> #N/A | C71: =+IF(_xlfn.XLOOKUP($N71,'★参考 2024年度社会学部時間割'!$M:$M,'★参考 2024年度社会学部時間割'!C:C)=0,"",_xlfn.XLOOKUP($N71,'★参考 2024年度社会学部時間割'!$M:$M,'★参考 2024年度社会学部時間割'!C:C)) -> #N/A | G71: 1 | H71: 2025 | I71: C | J71: U | K71: U33C223 | L71: CU11600170 | M71: 003 | N71: 文化社会学 | P71: 02 | Q71: 前期 水３ | R71: 2 | S71: 0 | T71: C | U71: U | V71: CU11600170 | W71: 003 | X71: C | AH71: 1 | AM71: 2025 | AN71: 9999 | AO71: 2 | AP71: 0 | AQ71: C900 | AR71: 0 | AS71: 9999 | AT71: 9999 | AU71: 1 | AV71: 0 | AW71: 0 | AX71: 1 | AY71: 0 | AZ71: 1 | BA71: 1 | BG71: 10000000 | BH71: 07005 | BI71: 工藤 保則 | BJ71: クドウ ヤスノリ | BK71: 02 | BL71: 3 | BM71: 3 | BN71: 1 | BO71: 15 | BP71: 0.00 | BQ71: 0.00 | BR71: 0.00 | BS71: 0 | BT71: 0 | BU71: 0 | BV71: 0 | BW71: 0 | BX71: 0 | BY71: 0 | BZ71: 0 | CA71: 0 | CB71: 0 | CC71: 0 | CD71: 0 | CE71: 1 | CF71: C160017001 | CG71: C160017001 | CI71: 0 | CJ71: 0 | CK71: 1 | CL71: 4 | CM71: C2100
A72: =+IF(_xlfn.XLOOKUP($N72,'★参考 2024年度社会学部時間割'!$M:$M,'★参考 2024年度社会学部時間割'!A:A)=0,"",_xlfn.XLOOKUP($N72,'★参考 2024年度社会学部時間割'!$M:$M,'★参考 2024年度社会学部時間割'!A:A)) -> ○ | B72: =+IF(_xlfn.XLOOKUP($N72,'★参考 2024年度社会学部時間割'!$M:$M,'★参考 2024年度社会学部時間割'!B:B)=0,"",_xlfn.XLOOKUP($N72,'★参考 2024年度社会学部時間割'!$M:$M,'★参考 2024年度社会学部時間割'!B:B)) | C72: =+IF(_xlfn.XLOOKUP($N72,'★参考 2024年度社会学部時間割'!$M:$M,'★参考 2024年度社会学部時間割'!C:C)=0,"",_xlfn.XLOOKUP($N72,'★参考 2024年度社会学部時間割'!$M:$M,'★参考 2024年度社会学部時間割'!C:C)) | G72: 1 | H72: 2025 | I72: C | J72: U | K72: U43C310 | L72: CU11600180 | M72: 001 | N72: カルチュラルスタディーズ | P72: 03 | Q72: 後期 木３ | R72: 2 | S72: 0 | T72: C | U72: U | V72: CU11600180 | W72: 001 | X72: C | AH72: 1 | AM72: 2016 | AN72: 9999 | AO72: 2 | AP72: 0 | AQ72: C900 | AR72: 2 | AS72: 9999 | AT72: 9999 | AU72: 0 | AV72: 0 | AW72: 1 | AX72: 1 | AY72: 0 | AZ72: 1 | BA72: 1 | BC72: 社会・６ｅ | BG72: 10000000 | BH72: 25050 | BI72: 藤下 由香里 | BJ72: フジシタ ユカリ | BK72: 03 | BL72: 4 | BM72: 3 | BN72: 1 | BO72: 15 | BP72: 0.00 | BQ72: 0.00 | BR72: 0.00 | BS72: 0 | BT72: 0 | BU72: 0 | BV72: 0 | BW72: 0 | BX72: 0 | BY72: 0 | BZ72: 0 | CA72: 0 | CB72: 0 | CC72: 0 | CD72: 0 | CE72: 1 | CF72: C100001600 | CG72: C100001600 | CI72: 0 | CJ72: 0 | CK72: 2 | CL72: 4 | CM72: C2100
A73: =+IF(_xlfn.XLOOKUP($N73,'★参考 2024年度社会学部時間割'!$M:$M,'★参考 2024年度社会学部時間割'!A:A)=0,"",_xlfn.XLOOKUP($N73,'★参考 2024年度社会学部時間割'!$M:$M,'★参考 2024年度社会学部時間割'!A:A)) -> ○ | B73: =+IF(_xlfn.XLOOKUP($N73,'★参考 2024年度社会学部時間割'!$M:$M,'★参考 2024年度社会学部時間割'!B:B)=0,"",_xlfn.XLOOKUP($N73,'★参考 2024年度社会学部時間割'!$M:$M,'★参考 2024年度社会学部時間割'!B:B)) -> ○ | C73: =+IF(_xlfn.XLOOKUP($N73,'★参考 2024年度社会学部時間割'!$M:$M,'★参考 2024年度社会学部時間割'!C:C)=0,"",_xlfn.XLOOKUP($N73,'★参考 2024年度社会学部時間割'!$M:$M,'★参考 2024年度社会学部時間割'!C:C)) -> ○ | G73: 1 | H73: 2025 | I73: C | J73: U | K73: U13C205 | L73: CU11600190 | M73: 001 | N73: 社会問題の社会学 | P73: 02 | Q73: 前期 月３ | R73: 2 | S73: 0 | T73: C | U73: U | V73: CU11600190 | W73: 001 | X73: C | AH73: 1 | AM73: 2016 | AN73: 9999 | AO73: 2 | AP73: 0 | AQ73: C900 | AR73: 0 | AS73: 9999 | AT73: 9999 | AU73: 0 | AV73: 1 | AW73: 0 | AX73: 1 | AY73: 0 | AZ73: 1 | BA73: 1 | BB73: 学部共通講義（シラバスで卒業要件を確認すること） | BC73: 社会・６ｅ | BG73: 10000000 | BH73: 01010 | BI73: 黒田 浩一郎 | BJ73: クロダ コウイチロウ | BK73: 02 | BL73: 1 | BM73: 3 | BN73: 1 | BO73: 15 | BP73: 0.00 | BQ73: 0.00 | BR73: 0.00 | BS73: 0 | BT73: 0 | BU73: 0 | BV73: 0 | BW73: 0 | BX73: 0 | BY73: 0 | BZ73: 0 | CA73: 0 | CB73: 0 | CC73: 0 | CD73: 0 | CE73: 1 | CF73: C100001700 | CG73: C100001700 | CI73: 0 | CJ73: 0 | CK73: 2 | CL73: 4 | CM73: C2100 | CO73: C2200 | CQ73: C2300 | DR73: 学部共通講義（社会学科提供） | DS73: 卒業要件単位に含まれるのは上限１６単位まで（コミュニティマネジメント学科・現代福祉学科）
A74: =+IF(_xlfn.XLOOKUP($N74,'★参考 2024年度社会学部時間割'!$M:$M,'★参考 2024年度社会学部時間割'!A:A)=0,"",_xlfn.XLOOKUP($N74,'★参考 2024年度社会学部時間割'!$M:$M,'★参考 2024年度社会学部時間割'!A:A)) -> ○ | B74: =+IF(_xlfn.XLOOKUP($N74,'★参考 2024年度社会学部時間割'!$M:$M,'★参考 2024年度社会学部時間割'!B:B)=0,"",_xlfn.XLOOKUP($N74,'★参考 2024年度社会学部時間割'!$M:$M,'★参考 2024年度社会学部時間割'!B:B)) -> ○ | C74: =+IF(_xlfn.XLOOKUP($N74,'★参考 2024年度社会学部時間割'!$M:$M,'★参考 2024年度社会学部時間割'!C:C)=0,"",_xlfn.XLOOKUP($N74,'★参考 2024年度社会学部時間割'!$M:$M,'★参考 2024年度社会学部時間割'!C:C)) -> ○ | G74: 1 | H74: 2025 | I74: C | J74: U | K74: U13C306 | L74: CU11600200 | M74: 001 | N74: 医療社会学 | P74: 03 | Q74: 後期 月３ | R74: 2 | S74: 0 | T74: C | U74: U | V74: CU11600200 | W74: 001 | X74: C | AH74: 1 | AM74: 2016 | AN74: 9999 | AO74: 2 | AP74: 0 | AQ74: C900 | AR74: 2 | AS74: 9999 | AT74: 9999 | AU74: 0 | AV74: 0 | AW74: 1 | AX74: 1 | AY74: 0 | AZ74: 1 | BA74: 1 | BB74: 学部共通講義（シラバスで卒業要件を確認すること） | BC74: 社会・６ｅ | BG74: 10000000 | BH74: 01010 | BI74: 黒田 浩一郎 | BJ74: クロダ コウイチロウ | BK74: 03 | BL74: 1 | BM74: 3 | BN74: 1 | BO74: 15 | BP74: 0.00 | BQ74: 0.00 | BR74: 0.00 | BS74: 0 | BT74: 0 | BU74: 0 | BV74: 0 | BW74: 0 | BX74: 0 | BY74: 0 | BZ74: 0 | CA74: 0 | CB74: 0 | CC74: 0 | CD74: 0 | CE74: 1 | CF74: C100001000 | CG74: C100001000 | CI74: 0 | CJ74: 0 | CK74: 3 | CL74: 4 | CM74: C2100 | CO74: C2200 | CQ74: C2300 | DR74: 学部共通講義（社会学科提供） | DS74: 卒業要件単位に含まれるのは上限１６単位まで（コミュニティマネジメント学科・現代福祉学科）
A75: =+IF(_xlfn.XLOOKUP($N75,'★参考 2024年度社会学部時間割'!$M:$M,'★参考 2024年度社会学部時間割'!A:A)=0,"",_xlfn.XLOOKUP($N75,'★参考 2024年度社会学部時間割'!$M:$M,'★参考 2024年度社会学部時間割'!A:A)) -> ○ | B75: =+IF(_xlfn.XLOOKUP($N75,'★参考 2024年度社会学部時間割'!$M:$M,'★参考 2024年度社会学部時間割'!B:B)=0,"",_xlfn.XLOOKUP($N75,'★参考 2024年度社会学部時間割'!$M:$M,'★参考 2024年度社会学部時間割'!B:B)) -> ○ | C75: =+IF(_xlfn.XLOOKUP($N75,'★参考 2024年度社会学部時間割'!$M:$M,'★参考 2024年度社会学部時間割'!C:C)=0,"",_xlfn.XLOOKUP($N75,'★参考 2024年度社会学部時間割'!$M:$M,'★参考 2024年度社会学部時間割'!C:C)) -> ○ | G75: 1 | H75: 2025 | I75: C | J75: U | K75: U32C306 | L75: CU11600220 | M75: 001 | N75: 社会意識論 | P75: 03 | Q75: 後期 水２ | R75: 2 | S75: 0 | T75: C | U75: U | V75: CU11600220 | W75: 001 | X75: C | AH75: 1 | AI75: 2 | AJ75: 4 | AM75: 2020 | AN75: 9999 | AO75: 2 | AP75: 0 | AQ75: C900 | AR75: 2 | AS75: 9999 | AT75: 9999 | AU75: 0 | AV75: 0 | AW75: 1 | AX75: 1 | AY75: 0 | AZ75: 1 | BA75: 1 | BB75: 学部共通講義（シラバスで卒業要件を確認すること） | BC75: 社会・６ｅ | BG75: 10000000 | BH75: 91678 | BI75: 山本 哲司 | BJ75: ヤマモト テツジ | BK75: 03 | BL75: 3 | BM75: 2 | BN75: 1 | BO75: 15 | BP75: 0.00 | BQ75: 0.00 | BR75: 0.00 | BS75: 0 | BT75: 0 | BU75: 0 | BV75: 0 | BW75: 0 | BX75: 0 | BY75: 0 | BZ75: 0 | CA75: 0 | CB75: 0 | CC75: 0 | CD75: 0 | CE75: 1 | CF75: C100001900 | CG75: C100001900 | CI75: 0 | CJ75: 0 | CK75: 2 | CL75: 4 | CM75: C2100 | CO75: C2200 | CQ75: C2300
A76: =+IF(_xlfn.XLOOKUP($N76,'★参考 2024年度社会学部時間割'!$M:$M,'★参考 2024年度社会学部時間割'!A:A)=0,"",_xlfn.XLOOKUP($N76,'★参考 2024年度社会学部時間割'!$M:$M,'★参考 2024年度社会学部時間割'!A:A)) -> ○ | B76: =+IF(_xlfn.XLOOKUP($N76,'★参考 2024年度社会学部時間割'!$M:$M,'★参考 2024年度社会学部時間割'!B:B)=0,"",_xlfn.XLOOKUP($N76,'★参考 2024年度社会学部時間割'!$M:$M,'★参考 2024年度社会学部時間割'!B:B)) -> ○ | C76: =+IF(_xlfn.XLOOKUP($N76,'★参考 2024年度社会学部時間割'!$M:$M,'★参考 2024年度社会学部時間割'!C:C)=0,"",_xlfn.XLOOKUP($N76,'★参考 2024年度社会学部時間割'!$M:$M,'★参考 2024年度社会学部時間割'!C:C)) -> ○ | G76: 1 | H76: 2025 | I76: C | J76: U | K76: U32C307 | L76: CU11600220 | M76: 002 | N76: 社会意識論 | P76: 03 | Q76: 後期 水２ | R76: 2 | S76: 0 | T76: C | U76: U | V76: CU11600220 | W76: 002 | X76: C | AH76: 1 | AI76: 3 | AJ76: 4 | AM76: 2016 | AN76: 2019 | AO76: 2 | AP76: 0 | AQ76: C900 | AR76: 2 | AS76: 9999 | AT76: 9999 | AU76: 0 | AV76: 0 | AW76: 1 | AX76: 1 | AY76: 0 | AZ76: 1 | BA76: 1 | BC76: 社会・６ｅ | BG76: 10000000 | BH76: 91678 | BI76: 山本 哲司 | BJ76: ヤマモト テツジ | BK76: 03 | BL76: 3 | BM76: 2 | BN76: 1 | BO76: 15 | BP76: 0.00 | BQ76: 0.00 | BR76: 0.00 | BS76: 0 | BT76: 0 | BU76: 0 | BV76: 0 | BW76: 0 | BX76: 0 | BY76: 0 | BZ76: 0 | CA76: 0 | CB76: 0 | CC76: 0 | CD76: 0 | CE76: 1 | CF76: C100001910 | CG76: C100001900 | CI76: 0 | CJ76: 0 | CK76: 3 | CL76: 4 | CM76: C2100 | CO76: C2200 | CQ76: C2300 | DR76: 学部共通講義（社会学科提供） | DS76: 卒業要件単位に含まれるのは上限１６単位まで（コミュニティマネジメント学科・現代福祉学科）
A77: =+IF(_xlfn.XLOOKUP($N77,'★参考 2024年度社会学部時間割'!$M:$M,'★参考 2024年度社会学部時間割'!A:A)=0,"",_xlfn.XLOOKUP($N77,'★参考 2024年度社会学部時間割'!$M:$M,'★参考 2024年度社会学部時間割'!A:A)) -> #N/A | B77: =+IF(_xlfn.XLOOKUP($N77,'★参考 2024年度社会学部時間割'!$M:$M,'★参考 2024年度社会学部時間割'!B:B)=0,"",_xlfn.XLOOKUP($N77,'★参考 2024年度社会学部時間割'!$M:$M,'★参考 2024年度社会学部時間割'!B:B)) -> #N/A | C77: =+IF(_xlfn.XLOOKUP($N77,'★参考 2024年度社会学部時間割'!$M:$M,'★参考 2024年度社会学部時間割'!C:C)=0,"",_xlfn.XLOOKUP($N77,'★参考 2024年度社会学部時間割'!$M:$M,'★参考 2024年度社会学部時間割'!C:C)) -> #N/A | G77: 1 | H77: 2025 | I77: C | J77: U | K77: U32C349 | L77: CU11600250 | M77: 003 | N77: 地域社会論 | P77: 03 | Q77: 後期 水２ | R77: 2 | S77: 0 | T77: C | U77: U | V77: CU11600250 | W77: 003 | X77: C | AH77: 1 | AM77: 2025 | AN77: 9999 | AO77: 2 | AP77: 0 | AQ77: C900 | AR77: 0 | AS77: 9999 | AT77: 9999 | AU77: 1 | AV77: 0 | AW77: 0 | AX77: 1 | AY77: 0 | AZ77: 1 | BA77: 1 | BG77: 10000000 | BH77: 04014 | BI77: 脇田 健一 | BJ77: ワキタ ケンイチ | BK77: 03 | BL77: 3 | BM77: 2 | BN77: 1 | BO77: 15 | BP77: 0.00 | BQ77: 0.00 | BR77: 0.00 | BS77: 0 | BT77: 0 | BU77: 0 | BV77: 0 | BW77: 0 | BX77: 0 | BY77: 0 | BZ77: 0 | CA77: 0 | CB77: 0 | CC77: 0 | CD77: 0 | CE77: 1 | CF77: C160025001 | CG77: C160025001 | CI77: 0 | CJ77: 0 | CK77: 1 | CL77: 4 | CM77: C2100 | CO77: C2200 | CQ77: C2300 | CS77: C8000
A78: =+IF(_xlfn.XLOOKUP($N78,'★参考 2024年度社会学部時間割'!$M:$M,'★参考 2024年度社会学部時間割'!A:A)=0,"",_xlfn.XLOOKUP($N78,'★参考 2024年度社会学部時間割'!$M:$M,'★参考 2024年度社会学部時間割'!A:A)) -> #N/A | B78: =+IF(_xlfn.XLOOKUP($N78,'★参考 2024年度社会学部時間割'!$M:$M,'★参考 2024年度社会学部時間割'!B:B)=0,"",_xlfn.XLOOKUP($N78,'★参考 2024年度社会学部時間割'!$M:$M,'★参考 2024年度社会学部時間割'!B:B)) -> #N/A | C78: =+IF(_xlfn.XLOOKUP($N78,'★参考 2024年度社会学部時間割'!$M:$M,'★参考 2024年度社会学部時間割'!C:C)=0,"",_xlfn.XLOOKUP($N78,'★参考 2024年度社会学部時間割'!$M:$M,'★参考 2024年度社会学部時間割'!C:C)) -> #N/A | G78: 1 | H78: 2025 | I78: C | J78: U | K78: U32C248 | L78: CU11600260 | M78: 003 | N78: 地域再生の社会学 | P78: 02 | Q78: 前期 水２ | R78: 2 | S78: 0 | T78: C | U78: U | V78: CU11600260 | W78: 003 | X78: C | AH78: 1 | AM78: 2025 | AN78: 9999 | AO78: 2 | AP78: 0 | AQ78: C900 | AR78: 0 | AS78: 9999 | AT78: 9999 | AU78: 1 | AV78: 0 | AW78: 0 | AX78: 1 | AY78: 0 | AZ78: 1 | BA78: 1 | BG78: 10000000 | BH78: 04014 | BI78: 脇田 健一 | BJ78: ワキタ ケンイチ | BK78: 02 | BL78: 3 | BM78: 2 | BN78: 1 | BO78: 15 | BP78: 0.00 | BQ78: 0.00 | BR78: 0.00 | BS78: 0 | BT78: 0 | BU78: 0 | BV78: 0 | BW78: 0 | BX78: 0 | BY78: 0 | BZ78: 0 | CA78: 0 | CB78: 0 | CC78: 0 | CD78: 0 | CE78: 1 | CF78: C160026001 | CG78: C160026001 | CI78: 0 | CJ78: 0 | CK78: 1 | CL78: 4 | CM78: C2100 | CO78: C2200 | CQ78: C2300 | CS78: C8000
A79: =+IF(_xlfn.XLOOKUP($N79,'★参考 2024年度社会学部時間割'!$M:$M,'★参考 2024年度社会学部時間割'!A:A)=0,"",_xlfn.XLOOKUP($N79,'★参考 2024年度社会学部時間割'!$M:$M,'★参考 2024年度社会学部時間割'!A:A)) -> ○ | B79: =+IF(_xlfn.XLOOKUP($N79,'★参考 2024年度社会学部時間割'!$M:$M,'★参考 2024年度社会学部時間割'!B:B)=0,"",_xlfn.XLOOKUP($N79,'★参考 2024年度社会学部時間割'!$M:$M,'★参考 2024年度社会学部時間割'!B:B)) -> ○ | C79: =+IF(_xlfn.XLOOKUP($N79,'★参考 2024年度社会学部時間割'!$M:$M,'★参考 2024年度社会学部時間割'!C:C)=0,"",_xlfn.XLOOKUP($N79,'★参考 2024年度社会学部時間割'!$M:$M,'★参考 2024年度社会学部時間割'!C:C)) -> ○ | G79: 1 | H79: 2025 | I79: C | J79: U | K79: U13C307 | L79: CU11600270 | M79: 001 | N79: 環境社会学 | P79: 03 | Q79: 後期 月３ | R79: 2 | S79: 0 | T79: C | U79: U | V79: CU11600270 | W79: 001 | X79: C | AH79: 1 | AM79: 2016 | AN79: 9999 | AO79: 2 | AP79: 3 | AQ79: C900 | AR79: 2 | AS79: 9999 | AT79: 9999 | AU79: 0 | AV79: 0 | AW79: 1 | AX79: 1 | AY79: 0 | AZ79: 1 | BA79: 1 | BB79: 学部共通講義（シラバスで卒業要件を確認すること） | BC79: 社会・６ｅ | BG79: 10000000 | BH79: 22005 | BI79: 閻 美芳 | BJ79: ヤン メイファン | BK79: 03 | BL79: 1 | BM79: 3 | BN79: 1 | BO79: 15 | BP79: 0.00 | BQ79: 0.00 | BR79: 0.00 | BS79: 0 | BT79: 0 | BU79: 0 | BV79: 0 | BW79: 0 | BX79: 0 | BY79: 0 | BZ79: 0 | CA79: 0 | CB79: 0 | CC79: 0 | CD79: 0 | CE79: 1 | CF79: C100002400 | CG79: C100002400 | CI79: 0 | CJ79: 0 | CK79: 2 | CL79: 4 | CM79: C2100 | CO79: C2200 | CQ79: C2300 | DR79: 学部共通講義（社会学科提供） | DS79: 卒業要件単位に含まれるのは上限１６単位まで（コミュニティマネジメント学科・現代福祉学科）
A80: =+IF(_xlfn.XLOOKUP($N80,'★参考 2024年度社会学部時間割'!$M:$M,'★参考 2024年度社会学部時間割'!A:A)=0,"",_xlfn.XLOOKUP($N80,'★参考 2024年度社会学部時間割'!$M:$M,'★参考 2024年度社会学部時間割'!A:A)) -> ○ | B80: =+IF(_xlfn.XLOOKUP($N80,'★参考 2024年度社会学部時間割'!$M:$M,'★参考 2024年度社会学部時間割'!B:B)=0,"",_xlfn.XLOOKUP($N80,'★参考 2024年度社会学部時間割'!$M:$M,'★参考 2024年度社会学部時間割'!B:B)) -> ○ | C80: =+IF(_xlfn.XLOOKUP($N80,'★参考 2024年度社会学部時間割'!$M:$M,'★参考 2024年度社会学部時間割'!C:C)=0,"",_xlfn.XLOOKUP($N80,'★参考 2024年度社会学部時間割'!$M:$M,'★参考 2024年度社会学部時間割'!C:C)) -> ○ | G80: 1 | H80: 2025 | I80: C | J80: U | K80: U14C301 | L80: CU11600290 | M80: 001 | N80: エスニシティ論 | P80: 03 | Q80: 後期 月４ | R80: 2 | S80: 0 | T80: C | U80: U | V80: CU11600290 | W80: 001 | X80: C | AH80: 1 | AM80: 2016 | AN80: 9999 | AO80: 2 | AP80: 0 | AQ80: C900 | AR80: 2 | AS80: 9999 | AT80: 9999 | AU80: 0 | AV80: 0 | AW80: 1 | AX80: 1 | AY80: 0 | AZ80: 1 | BA80: 1 | BB80: 学部共通講義（シラバスで卒業要件を確認すること） | BC80: 社会・６ｅ | BG80: 10000000 | BH80: 11107 | BI80: 舟橋 健太 | BJ80: フナハシ ケンタ | BK80: 03 | BL80: 1 | BM80: 4 | BN80: 1 | BO80: 15 | BP80: 0.00 | BQ80: 0.00 | BR80: 0.00 | BS80: 0 | BT80: 0 | BU80: 0 | BV80: 0 | BW80: 0 | BX80: 0 | BY80: 0 | BZ80: 0 | CA80: 0 | CB80: 0 | CC80: 0 | CD80: 0 | CE80: 1 | CF80: C100002600 | CG80: C100002600 | CI80: 0 | CJ80: 0 | CK80: 2 | CL80: 4 | CM80: C2100 | CO80: C2200 | CQ80: C2300 | DR80: 学部共通講義（社会学科提供） | DS80: 卒業要件単位に含まれるのは上限１６単位まで（コミュニティマネジメント学科・現代福祉学科）
A81: =+IF(_xlfn.XLOOKUP($N81,'★参考 2024年度社会学部時間割'!$M:$M,'★参考 2024年度社会学部時間割'!A:A)=0,"",_xlfn.XLOOKUP($N81,'★参考 2024年度社会学部時間割'!$M:$M,'★参考 2024年度社会学部時間割'!A:A)) -> ○ | B81: =+IF(_xlfn.XLOOKUP($N81,'★参考 2024年度社会学部時間割'!$M:$M,'★参考 2024年度社会学部時間割'!B:B)=0,"",_xlfn.XLOOKUP($N81,'★参考 2024年度社会学部時間割'!$M:$M,'★参考 2024年度社会学部時間割'!B:B)) -> ○ | C81: =+IF(_xlfn.XLOOKUP($N81,'★参考 2024年度社会学部時間割'!$M:$M,'★参考 2024年度社会学部時間割'!C:C)=0,"",_xlfn.XLOOKUP($N81,'★参考 2024年度社会学部時間割'!$M:$M,'★参考 2024年度社会学部時間割'!C:C)) -> ○ | G81: 1 | H81: 2025 | I81: C | J81: U | K81: U43C211 | L81: CU11600300 | M81: 001 | N81: 逸脱の社会学 | P81: 02 | Q81: 前期 木３ | R81: 2 | S81: 0 | T81: C | U81: U | V81: CU11600300 | W81: 001 | X81: C | AH81: 1 | AM81: 2016 | AN81: 9999 | AO81: 2 | AP81: 0 | AQ81: C900 | AR81: 0 | AS81: 9999 | AT81: 9999 | AU81: 0 | AV81: 1 | AW81: 0 | AX81: 1 | AY81: 0 | AZ81: 1 | BA81: 1 | BB81: 学部共通講義（シラバスで卒業要件を確認すること） | BC81: 社会・６ｅ | BG81: 10000000 | BH81: 00014 | BI81: 津島 昌弘 | BJ81: ツシマ マサヒロ | BK81: 02 | BL81: 4 | BM81: 3 | BN81: 1 | BO81: 15 | BP81: 0.00 | BQ81: 0.00 | BR81: 0.00 | BS81: 0 | BT81: 0 | BU81: 0 | BV81: 0 | BW81: 0 | BX81: 0 | BY81: 0 | BZ81: 0 | CA81: 0 | CB81: 0 | CC81: 0 | CD81: 0 | CE81: 1 | CF81: C100002700 | CG81: C100002700 | CI81: 0 | CJ81: 0 | CK81: 2 | CL81: 4 | CM81: C2100 | CO81: C2200 | CQ81: C2300 | DR81: 学部共通講義（社会学科提供） | DS81: 卒業要件単位に含まれるのは上限１６単位まで（コミュニティマネジメント学科・現代福祉学科）
A82: =+IF(_xlfn.XLOOKUP($N82,'★参考 2024年度社会学部時間割'!$M:$M,'★参考 2024年度社会学部時間割'!A:A)=0,"",_xlfn.XLOOKUP($N82,'★参考 2024年度社会学部時間割'!$M:$M,'★参考 2024年度社会学部時間割'!A:A)) -> ○ | B82: =+IF(_xlfn.XLOOKUP($N82,'★参考 2024年度社会学部時間割'!$M:$M,'★参考 2024年度社会学部時間割'!B:B)=0,"",_xlfn.XLOOKUP($N82,'★参考 2024年度社会学部時間割'!$M:$M,'★参考 2024年度社会学部時間割'!B:B)) -> ○ | C82: =+IF(_xlfn.XLOOKUP($N82,'★参考 2024年度社会学部時間割'!$M:$M,'★参考 2024年度社会学部時間割'!C:C)=0,"",_xlfn.XLOOKUP($N82,'★参考 2024年度社会学部時間割'!$M:$M,'★参考 2024年度社会学部時間割'!C:C)) -> ○ | G82: 1 | H82: 2025 | I82: C | J82: U | K82: U43C312 | L82: CU11600310 | M82: 001 | N82: コミュニケーション論 | P82: 03 | Q82: 後期 木３ | R82: 2 | S82: 0 | T82: C | U82: U | V82: CU11600310 | W82: 001 | X82: C | AH82: 1 | AM82: 0000 | AN82: 9999 | AO82: 2 | AP82: 0 | AQ82: C900 | AR82: 2 | AS82: 9999 | AT82: 9999 | AU82: 0 | AV82: 0 | AW82: 1 | AX82: 1 | AY82: 0 | AZ82: 1 | BA82: 1 | BB82: 学部共通講義（シラバスで卒業要件を確認すること） | BC82: 社会・６ｅ | BG82: 10000000 | BH82: 02016 | BI82: 村澤 真保呂 | BJ82: ムラサワ マホロ | BK82: 03 | BL82: 4 | BM82: 3 | BN82: 1 | BO82: 15 | BP82: 0.00 | BQ82: 0.00 | BR82: 0.00 | BS82: 0 | BT82: 0 | BU82: 0 | BV82: 0 | BW82: 0 | BX82: 0 | BY82: 0 | BZ82: 0 | CA82: 0 | CB82: 0 | CC82: 0 | CD82: 0 | CE82: 1 | CF82: C100002800 | CG82: C100002800 | CI82: 0 | CJ82: 0 | CK82: 2 | CL82: 4 | CM82: C2100 | CO82: C2200 | CQ82: C2300 | DR82: 学部共通講義（社会学科提供） | DS82: 卒業要件単位に含まれるのは上限１６単位まで（コミュニティマネジメント学科・現代福祉学科）
A83: =+IF(_xlfn.XLOOKUP($N83,'★参考 2024年度社会学部時間割'!$M:$M,'★参考 2024年度社会学部時間割'!A:A)=0,"",_xlfn.XLOOKUP($N83,'★参考 2024年度社会学部時間割'!$M:$M,'★参考 2024年度社会学部時間割'!A:A)) -> ○ | B83: =+IF(_xlfn.XLOOKUP($N83,'★参考 2024年度社会学部時間割'!$M:$M,'★参考 2024年度社会学部時間割'!B:B)=0,"",_xlfn.XLOOKUP($N83,'★参考 2024年度社会学部時間割'!$M:$M,'★参考 2024年度社会学部時間割'!B:B)) -> ○ | C83: =+IF(_xlfn.XLOOKUP($N83,'★参考 2024年度社会学部時間割'!$M:$M,'★参考 2024年度社会学部時間割'!C:C)=0,"",_xlfn.XLOOKUP($N83,'★参考 2024年度社会学部時間割'!$M:$M,'★参考 2024年度社会学部時間割'!C:C)) -> ○ | G83: 1 | H83: 2025 | I83: C | J83: U | K83: U45C306 | L83: CU11600320 | M83: 001 | N83: 家族社会学 | P83: 03 | Q83: 後期 木５ | R83: 2 | S83: 0 | T83: C | U83: U | V83: CU11600320 | W83: 001 | X83: C | AH83: 1 | AM83: 2016 | AN83: 9999 | AO83: 2 | AP83: 0 | AQ83: C900 | AR83: 2 | AS83: 9999 | AT83: 9999 | AU83: 0 | AV83: 0 | AW83: 1 | AX83: 1 | AY83: 0 | AZ83: 1 | BA83: 1 | BB83: 学部共通講義（シラバスで卒業要件を確認すること） | BC83: 社会・６ｅ | BG83: 10000000 | BH83: 10007 | BI83: 渡辺 めぐみ | BJ83: ワタナベ メグミ | BK83: 03 | BL83: 4 | BM83: 5 | BN83: 1 | BO83: 15 | BP83: 0.00 | BQ83: 0.00 | BR83: 0.00 | BS83: 0 | BT83: 0 | BU83: 0 | BV83: 0 | BW83: 0 | BX83: 0 | BY83: 0 | BZ83: 0 | CA83: 0 | CB83: 0 | CC83: 0 | CD83: 0 | CE83: 1 | CF83: C100002900 | CG83: C100002900 | CI83: 0 | CJ83: 0 | CK83: 2 | CL83: 4 | CM83: C2100 | CO83: C2200 | CQ83: C2300 | DR83: 学部共通講義（社会学科提供） | DS83: 卒業要件単位に含まれるのは上限１６単位まで（コミュニティマネジメント学科・現代福祉学科）
A84: =+IF(_xlfn.XLOOKUP($N84,'★参考 2024年度社会学部時間割'!$M:$M,'★参考 2024年度社会学部時間割'!A:A)=0,"",_xlfn.XLOOKUP($N84,'★参考 2024年度社会学部時間割'!$M:$M,'★参考 2024年度社会学部時間割'!A:A)) -> ○ | B84: =+IF(_xlfn.XLOOKUP($N84,'★参考 2024年度社会学部時間割'!$M:$M,'★参考 2024年度社会学部時間割'!B:B)=0,"",_xlfn.XLOOKUP($N84,'★参考 2024年度社会学部時間割'!$M:$M,'★参考 2024年度社会学部時間割'!B:B)) | C84: =+IF(_xlfn.XLOOKUP($N84,'★参考 2024年度社会学部時間割'!$M:$M,'★参考 2024年度社会学部時間割'!C:C)=0,"",_xlfn.XLOOKUP($N84,'★参考 2024年度社会学部時間割'!$M:$M,'★参考 2024年度社会学部時間割'!C:C)) | G84: 1 | H84: 2025 | I84: C | J84: U | K84: U13C208 | L84: CU11600330 | M84: 001 | N84: 教育社会学 | P84: 02 | Q84: 前期 月３ | R84: 2 | S84: 0 | T84: C | U84: U | V84: CU11600330 | W84: 001 | X84: C | AH84: 1 | AM84: 2016 | AN84: 9999 | AO84: 2 | AP84: 0 | AQ84: C900 | AR84: 0 | AS84: 9999 | AT84: 9999 | AU84: 0 | AV84: 1 | AW84: 0 | AX84: 1 | AY84: 0 | AZ84: 1 | BA84: 1 | BC84: 社会・６ｅ | BG84: 10000000 | BH84: 22004 | BI84: 松岡 亮二 | BJ84: マツオカ リョウジ | BK84: 02 | BL84: 1 | BM84: 3 | BN84: 1 | BO84: 15 | BP84: 0.00 | BQ84: 0.00 | BR84: 0.00 | BS84: 0 | BT84: 0 | BU84: 0 | BV84: 0 | BW84: 0 | BX84: 0 | BY84: 0 | BZ84: 0 | CA84: 0 | CB84: 0 | CC84: 0 | CD84: 0 | CE84: 1 | CF84: C100003000 | CG84: C100003000 | CI84: 0 | CJ84: 0 | CK84: 2 | CL84: 4 | CM84: C2100
A85: =+IF(_xlfn.XLOOKUP($N85,'★参考 2024年度社会学部時間割'!$M:$M,'★参考 2024年度社会学部時間割'!A:A)=0,"",_xlfn.XLOOKUP($N85,'★参考 2024年度社会学部時間割'!$M:$M,'★参考 2024年度社会学部時間割'!A:A)) -> ○ | B85: =+IF(_xlfn.XLOOKUP($N85,'★参考 2024年度社会学部時間割'!$M:$M,'★参考 2024年度社会学部時間割'!B:B)=0,"",_xlfn.XLOOKUP($N85,'★参考 2024年度社会学部時間割'!$M:$M,'★参考 2024年度社会学部時間割'!B:B)) | C85: =+IF(_xlfn.XLOOKUP($N85,'★参考 2024年度社会学部時間割'!$M:$M,'★参考 2024年度社会学部時間割'!C:C)=0,"",_xlfn.XLOOKUP($N85,'★参考 2024年度社会学部時間割'!$M:$M,'★参考 2024年度社会学部時間割'!C:C)) | G85: 1 | H85: 2025 | I85: C | J85: U | K85: U22C301 | L85: CU11600350 | M85: 001 | N85: 労働社会学 | P85: 03 | Q85: 後期 火２ | R85: 2 | S85: 0 | T85: C | U85: U | V85: CU11600350 | W85: 001 | X85: C | AH85: 1 | AM85: 2016 | AN85: 9999 | AO85: 2 | AP85: 0 | AQ85: C900 | AR85: 2 | AS85: 9999 | AT85: 9999 | AU85: 0 | AV85: 0 | AW85: 1 | AX85: 1 | AY85: 0 | AZ85: 1 | BA85: 1 | BC85: 社会・６ｅ | BG85: 10000000 | BH85: 91679 | BI85: 吉田 秀和 | BJ85: ヨシダ ヒデカズ | BK85: 03 | BL85: 2 | BM85: 2 | BN85: 1 | BO85: 15 | BP85: 0.00 | BQ85: 0.00 | BR85: 0.00 | BS85: 0 | BT85: 0 | BU85: 0 | BV85: 0 | BW85: 0 | BX85: 0 | BY85: 0 | BZ85: 0 | CA85: 0 | CB85: 0 | CC85: 0 | CD85: 0 | CE85: 1 | CF85: C100006800 | CG85: C100006800 | CI85: 0 | CJ85: 0 | CK85: 3 | CL85: 4 | CM85: C2100
A86: =+IF(_xlfn.XLOOKUP($N86,'★参考 2024年度社会学部時間割'!$M:$M,'★参考 2024年度社会学部時間割'!A:A)=0,"",_xlfn.XLOOKUP($N86,'★参考 2024年度社会学部時間割'!$M:$M,'★参考 2024年度社会学部時間割'!A:A)) -> ○ | B86: =+IF(_xlfn.XLOOKUP($N86,'★参考 2024年度社会学部時間割'!$M:$M,'★参考 2024年度社会学部時間割'!B:B)=0,"",_xlfn.XLOOKUP($N86,'★参考 2024年度社会学部時間割'!$M:$M,'★参考 2024年度社会学部時間割'!B:B)) | C86: =+IF(_xlfn.XLOOKUP($N86,'★参考 2024年度社会学部時間割'!$M:$M,'★参考 2024年度社会学部時間割'!C:C)=0,"",_xlfn.XLOOKUP($N86,'★参考 2024年度社会学部時間割'!$M:$M,'★参考 2024年度社会学部時間割'!C:C)) | G86: 1 | H86: 2025 | I86: C | J86: U | K86: U52C301 | L86: CU11600370 | M86: 001 | N86: アイデンティティ論 | P86: 03 | Q86: 後期 金２ | R86: 2 | S86: 0 | T86: C | U86: U | V86: CU11600370 | W86: 001 | X86: C | AH86: 1 | AM86: 2016 | AN86: 9999 | AO86: 2 | AP86: 0 | AQ86: C900 | AR86: 2 | AS86: 9999 | AT86: 9999 | AU86: 0 | AV86: 0 | AW86: 1 | AX86: 1 | AY86: 0 | AZ86: 1 | BA86: 1 | BC86: 社会・６ｅ | BG86: 10000000 | BH86: 24282 | BI86: 笹部 建 | BJ86: ササベ タケル | BK86: 03 | BL86: 5 | BM86: 2 | BN86: 1 | BO86: 15 | BP86: 0.00 | BQ86: 0.00 | BR86: 0.00 | BS86: 0 | BT86: 0 | BU86: 0 | BV86: 0 | BW86: 0 | BX86: 0 | BY86: 0 | BZ86: 0 | CA86: 0 | CB86: 0 | CC86: 0 | CD86: 0 | CE86: 1 | CF86: C100003200 | CG86: C100003200 | CI86: 0 | CJ86: 0 | CK86: 3 | CL86: 4 | CM86: C2100
A87: =+IF(_xlfn.XLOOKUP($N87,'★参考 2024年度社会学部時間割'!$M:$M,'★参考 2024年度社会学部時間割'!A:A)=0,"",_xlfn.XLOOKUP($N87,'★参考 2024年度社会学部時間割'!$M:$M,'★参考 2024年度社会学部時間割'!A:A)) -> ○ | B87: =+IF(_xlfn.XLOOKUP($N87,'★参考 2024年度社会学部時間割'!$M:$M,'★参考 2024年度社会学部時間割'!B:B)=0,"",_xlfn.XLOOKUP($N87,'★参考 2024年度社会学部時間割'!$M:$M,'★参考 2024年度社会学部時間割'!B:B)) | C87: =+IF(_xlfn.XLOOKUP($N87,'★参考 2024年度社会学部時間割'!$M:$M,'★参考 2024年度社会学部時間割'!C:C)=0,"",_xlfn.XLOOKUP($N87,'★参考 2024年度社会学部時間割'!$M:$M,'★参考 2024年度社会学部時間割'!C:C)) | G87: 1 | H87: 2025 | I87: C | J87: U | K87: U13C309 | L87: CU11600380 | M87: 001 | N87: 考現学 | P87: 03 | Q87: 後期 月３ | R87: 2 | S87: 0 | T87: C | U87: U | V87: CU11600380 | W87: 001 | X87: C | AH87: 1 | AM87: 2016 | AN87: 9999 | AO87: 2 | AP87: 0 | AQ87: C900 | AR87: 2 | AS87: 9999 | AT87: 9999 | AU87: 0 | AV87: 0 | AW87: 1 | AX87: 1 | AY87: 0 | AZ87: 1 | BA87: 1 | BC87: 社会・６ｅ | BG87: 10000000 | BH87: 23211 | BI87: 塩見 翔 | BJ87: シオミ ショウ | BK87: 03 | BL87: 1 | BM87: 3 | BN87: 1 | BO87: 15 | BP87: 0.00 | BQ87: 0.00 | BR87: 0.00 | BS87: 0 | BT87: 0 | BU87: 0 | BV87: 0 | BW87: 0 | BX87: 0 | BY87: 0 | BZ87: 0 | CA87: 0 | CB87: 0 | CC87: 0 | CD87: 0 | CE87: 1 | CF87: C100003300 | CG87: C100003300 | CI87: 0 | CJ87: 0 | CK87: 3 | CL87: 4 | CM87: C2100
A88: =+IF(_xlfn.XLOOKUP($N88,'★参考 2024年度社会学部時間割'!$M:$M,'★参考 2024年度社会学部時間割'!A:A)=0,"",_xlfn.XLOOKUP($N88,'★参考 2024年度社会学部時間割'!$M:$M,'★参考 2024年度社会学部時間割'!A:A)) -> ○ | B88: =+IF(_xlfn.XLOOKUP($N88,'★参考 2024年度社会学部時間割'!$M:$M,'★参考 2024年度社会学部時間割'!B:B)=0,"",_xlfn.XLOOKUP($N88,'★参考 2024年度社会学部時間割'!$M:$M,'★参考 2024年度社会学部時間割'!B:B)) | C88: =+IF(_xlfn.XLOOKUP($N88,'★参考 2024年度社会学部時間割'!$M:$M,'★参考 2024年度社会学部時間割'!C:C)=0,"",_xlfn.XLOOKUP($N88,'★参考 2024年度社会学部時間割'!$M:$M,'★参考 2024年度社会学部時間割'!C:C)) | G88: 1 | H88: 2025 | I88: C | J88: U | K88: U33C201 | L88: CU11600390 | M88: 001 | N88: 市民社会論 | P88: 02 | Q88: 前期 水３ | R88: 2 | S88: 0 | T88: C | U88: U | V88: CU11600390 | W88: 001 | X88: C | AH88: 1 | AM88: 2016 | AN88: 9999 | AO88: 2 | AP88: 0 | AQ88: C900 | AR88: 0 | AS88: 9999 | AT88: 9999 | AU88: 0 | AV88: 1 | AW88: 0 | AX88: 1 | AY88: 0 | AZ88: 1 | BA88: 1 | BC88: 社会・６ｅ | BG88: 10000000 | BH88: 16005 | BI88: 清家 竜介 | BJ88: セイケ リュウスケ | BK88: 02 | BL88: 3 | BM88: 3 | BN88: 1 | BO88: 15 | BP88: 0.00 | BQ88: 0.00 | BR88: 0.00 | BS88: 0 | BT88: 0 | BU88: 0 | BV88: 0 | BW88: 0 | BX88: 0 | BY88: 0 | BZ88: 0 | CA88: 0 | CB88: 0 | CC88: 0 | CD88: 0 | CE88: 1 | CF88: C100003400 | CG88: C100003400 | CI88: 0 | CJ88: 0 | CK88: 3 | CL88: 4 | CM88: C2100
A89: =+IF(_xlfn.XLOOKUP($N89,'★参考 2024年度社会学部時間割'!$M:$M,'★参考 2024年度社会学部時間割'!A:A)=0,"",_xlfn.XLOOKUP($N89,'★参考 2024年度社会学部時間割'!$M:$M,'★参考 2024年度社会学部時間割'!A:A)) -> ○ | B89: =+IF(_xlfn.XLOOKUP($N89,'★参考 2024年度社会学部時間割'!$M:$M,'★参考 2024年度社会学部時間割'!B:B)=0,"",_xlfn.XLOOKUP($N89,'★参考 2024年度社会学部時間割'!$M:$M,'★参考 2024年度社会学部時間割'!B:B)) | C89: =+IF(_xlfn.XLOOKUP($N89,'★参考 2024年度社会学部時間割'!$M:$M,'★参考 2024年度社会学部時間割'!C:C)=0,"",_xlfn.XLOOKUP($N89,'★参考 2024年度社会学部時間割'!$M:$M,'★参考 2024年度社会学部時間割'!C:C)) | G89: 1 | H89: 2025 | I89: C | J89: U | K89: U23C309 | L89: CU11600410 | M89: 001 | N89: 社会調査情報処理実習A | P89: 03 | Q89: 後期 火３ | R89: 1 | S89: 0 | T89: C | U89: U | V89: CU11600410 | W89: 001 | X89: C | AH89: 0 | AM89: 2016 | AN89: 9999 | AO89: 2 | AP89: 0 | AQ89: C100 | AR89: 2 | AS89: 52 | AT89: 52 | AU89: 0 | AV89: 0 | AW89: 1 | AX89: 1 | AY89: 0 | AZ89: 1 | BA89: 0 | BB89: 【抽選登録科目】 | BC89: 社会・５ | BG89: 10000000 | BH89: 22004 | BI89: 松岡 亮二 | BJ89: マツオカ リョウジ | BK89: 03 | BL89: 2 | BM89: 3 | BN89: 1 | BO89: 15 | BP89: 0.00 | BQ89: 0.00 | BR89: 0.00 | BS89: 0 | BT89: 0 | BU89: 0 | BV89: 0 | BW89: 0 | BX89: 0 | BY89: 0 | BZ89: 0 | CA89: 0 | CB89: 0 | CC89: 0 | CD89: 0 | CE89: 1 | CF89: C100003700 | CG89: C100003700 | CI89: 0 | CJ89: 0 | CK89: 2 | CL89: 4 | CM89: C2100 | DR89: 社会調査士課程科目
A90: =+IF(_xlfn.XLOOKUP($N90,'★参考 2024年度社会学部時間割'!$M:$M,'★参考 2024年度社会学部時間割'!A:A)=0,"",_xlfn.XLOOKUP($N90,'★参考 2024年度社会学部時間割'!$M:$M,'★参考 2024年度社会学部時間割'!A:A)) -> ○ | B90: =+IF(_xlfn.XLOOKUP($N90,'★参考 2024年度社会学部時間割'!$M:$M,'★参考 2024年度社会学部時間割'!B:B)=0,"",_xlfn.XLOOKUP($N90,'★参考 2024年度社会学部時間割'!$M:$M,'★参考 2024年度社会学部時間割'!B:B)) | C90: =+IF(_xlfn.XLOOKUP($N90,'★参考 2024年度社会学部時間割'!$M:$M,'★参考 2024年度社会学部時間割'!C:C)=0,"",_xlfn.XLOOKUP($N90,'★参考 2024年度社会学部時間割'!$M:$M,'★参考 2024年度社会学部時間割'!C:C)) | G90: 1 | H90: 2025 | I90: C | J90: U | K90: U43C213 | L90: CU11600420 | M90: 001 | N90: 社会調査情報処理実習B | P90: 02 | Q90: 前期 木３ | R90: 1 | S90: 0 | T90: C | U90: U | V90: CU11600420 | W90: 001 | X90: C | AH90: 0 | AM90: 2016 | AN90: 9999 | AO90: 2 | AP90: 0 | AQ90: C100 | AR90: 0 | AS90: 32 | AT90: 32 | AU90: 0 | AV90: 1 | AW90: 0 | AX90: 1 | AY90: 0 | AZ90: 1 | BA90: 0 | BB90: 【抽選登録科目】 | BC90: 社会・５ | BG90: 10000000 | BH90: 22004 | BI90: 松岡 亮二 | BJ90: マツオカ リョウジ | BK90: 02 | BL90: 4 | BM90: 3 | BN90: 1 | BO90: 15 | BP90: 0.00 | BQ90: 0.00 | BR90: 0.00 | BS90: 0 | BT90: 0 | BU90: 0 | BV90: 0 | BW90: 0 | BX90: 0 | BY90: 0 | BZ90: 0 | CA90: 0 | CB90: 0 | CC90: 0 | CD90: 0 | CE90: 1 | CF90: C100003800 | CG90: C100003800 | CI90: 0 | CJ90: 0 | CK90: 3 | CL90: 4 | CM90: C2100 | DR90: 社会調査士課程科目
A91: =+IF(_xlfn.XLOOKUP($N91,'★参考 2024年度社会学部時間割'!$M:$M,'★参考 2024年度社会学部時間割'!A:A)=0,"",_xlfn.XLOOKUP($N91,'★参考 2024年度社会学部時間割'!$M:$M,'★参考 2024年度社会学部時間割'!A:A)) | B91: =+IF(_xlfn.XLOOKUP($N91,'★参考 2024年度社会学部時間割'!$M:$M,'★参考 2024年度社会学部時間割'!B:B)=0,"",_xlfn.XLOOKUP($N91,'★参考 2024年度社会学部時間割'!$M:$M,'★参考 2024年度社会学部時間割'!B:B)) | C91: =+IF(_xlfn.XLOOKUP($N91,'★参考 2024年度社会学部時間割'!$M:$M,'★参考 2024年度社会学部時間割'!C:C)=0,"",_xlfn.XLOOKUP($N91,'★参考 2024年度社会学部時間割'!$M:$M,'★参考 2024年度社会学部時間割'!C:C)) -> ○ | G91: 1 | H91: 2025 | I91: C | J91: U | K91: U43C214 | L91: CU11600430 | M91: 001 | N91: 居住福祉論 | P91: 02 | Q91: 前期 木３ | R91: 2 | S91: 0 | T91: C | U91: U | V91: CU11600430 | W91: 001 | X91: C | AH91: 1 | AM91: 2016 | AN91: 9999 | AO91: 2 | AP91: 0 | AQ91: C900 | AR91: 0 | AS91: 9999 | AT91: 9999 | AU91: 0 | AV91: 1 | AW91: 0 | AX91: 1 | AY91: 0 | AZ91: 1 | BA91: 1 | BC91: 現代福祉・６ｅ | BG91: 10000000 | BH91: 05183 | BI91: 奥野 修 | BJ91: オクノ オサム | BK91: 02 | BL91: 4 | BM91: 3 | BN91: 1 | BO91: 15 | BP91: 0.00 | BQ91: 0.00 | BR91: 0.00 | BS91: 0 | BT91: 0 | BU91: 0 | BV91: 0 | BW91: 0 | BX91: 0 | BY91: 0 | BZ91: 0 | CA91: 0 | CB91: 0 | CC91: 0 | CD91: 0 | CE91: 1 | CF91: C300000100 | CG91: C300000100 | CI91: 0 | CJ91: 0 | CK91: 3 | CL91: 4 | CM91: C2300
A92: =+IF(_xlfn.XLOOKUP($N92,'★参考 2024年度社会学部時間割'!$M:$M,'★参考 2024年度社会学部時間割'!A:A)=0,"",_xlfn.XLOOKUP($N92,'★参考 2024年度社会学部時間割'!$M:$M,'★参考 2024年度社会学部時間割'!A:A)) -> ○ | B92: =+IF(_xlfn.XLOOKUP($N92,'★参考 2024年度社会学部時間割'!$M:$M,'★参考 2024年度社会学部時間割'!B:B)=0,"",_xlfn.XLOOKUP($N92,'★参考 2024年度社会学部時間割'!$M:$M,'★参考 2024年度社会学部時間割'!B:B)) -> ○ | C92: =+IF(_xlfn.XLOOKUP($N92,'★参考 2024年度社会学部時間割'!$M:$M,'★参考 2024年度社会学部時間割'!C:C)=0,"",_xlfn.XLOOKUP($N92,'★参考 2024年度社会学部時間割'!$M:$M,'★参考 2024年度社会学部時間割'!C:C)) -> ○ | G92: 1 | H92: 2025 | I92: C | J92: U | K92: U21C209 | L92: CU12000500 | M92: 001 | N92: ＮＰＯ・ＮＧＯ論 | P92: 02 | Q92: 前期 火１ | R92: 2 | S92: 0 | T92: C | U92: U | V92: CU12000500 | W92: 001 | X92: C | AH92: 0 | AM92: 2020 | AN92: 9999 | AO92: 2 | AP92: 0 | AQ92: C100 | AR92: 0 | AS92: 52 | AT92: 52 | AU92: 0 | AV92: 1 | AW92: 0 | AX92: 1 | AY92: 0 | AZ92: 1 | BA92: 1 | BB92: 学部共通講義（シラバスで卒業要件を確認すること）２０２５年度は教室定員の都合上、人数制限を行う | BC92: 社会・６ｅ | BG92: 10000000 | BH92: 94275 | BI92: 柴田 和子 | BJ92: シバタ カズコ | BK92: 02 | BL92: 2 | BM92: 1 | BN92: 1 | BO92: 15 | BP92: 0.00 | BQ92: 0.00 | BR92: 0.00 | BS92: 0 | BT92: 0 | BU92: 0 | BV92: 0 | BW92: 0 | BX92: 0 | BY92: 0 | BZ92: 0 | CA92: 0 | CB92: 0 | CC92: 0 | CD92: 0 | CE92: 1 | CF92: C600000500 | CG92: C600000500 | CI92: 0 | CJ92: 0 | CK92: 2 | CL92: 4 | CM92: C2100 | CO92: C2200 | CQ92: C2300 | DR92: 学部共通講義（社会学科提供） | DS92: 卒業要件単位に含まれるのは上限１６単位まで（コミュニティマネジメント学科・現代福祉学科）
A93: =+IF(_xlfn.XLOOKUP($N93,'★参考 2024年度社会学部時間割'!$M:$M,'★参考 2024年度社会学部時間割'!A:A)=0,"",_xlfn.XLOOKUP($N93,'★参考 2024年度社会学部時間割'!$M:$M,'★参考 2024年度社会学部時間割'!A:A)) -> ○ | B93: =+IF(_xlfn.XLOOKUP($N93,'★参考 2024年度社会学部時間割'!$M:$M,'★参考 2024年度社会学部時間割'!B:B)=0,"",_xlfn.XLOOKUP($N93,'★参考 2024年度社会学部時間割'!$M:$M,'★参考 2024年度社会学部時間割'!B:B)) | C93: =+IF(_xlfn.XLOOKUP($N93,'★参考 2024年度社会学部時間割'!$M:$M,'★参考 2024年度社会学部時間割'!C:C)=0,"",_xlfn.XLOOKUP($N93,'★参考 2024年度社会学部時間割'!$M:$M,'★参考 2024年度社会学部時間割'!C:C)) | G93: 0 | H93: 2025 | I93: C | J93: U | K93: U21C210 | L93: CU42215000 | M93: 001 | N93: ＮＰＯ論 | P93: 02 | Q93: 前期 火１ | R93: 2 | S93: 0 | T93: C | U93: U | V93: CU12000500 | W93: 001 | X93: C | AH93: 0 | AM93: 2016 | AN93: 2019 | AO93: 2 | AP93: 0 | AQ93: C100 | AR93: 0 | AS93: 52 | AT93: 52 | AU93: 0 | AV93: 1 | AW93: 0 | AX93: 1 | AY93: 0 | AZ93: 1 | BA93: 1 | BB93: ２０２５年度は教室定員の都合上、人数制限を行う | BC93: 社会・６ｅ | BG93: 10000000 | BH93: 94275 | BI93: 柴田 和子 | BJ93: シバタ カズコ | BK93: 02 | BL93: 2 | BM93: 1 | BN93: 1 | BO93: 15 | BP93: 0.00 | BQ93: 0.00 | BR93: 0.00 | BS93: 0 | BT93: 0 | BU93: 0 | BV93: 0 | BW93: 0 | BX93: 0 | BY93: 0 | BZ93: 0 | CA93: 0 | CB93: 0 | CC93: 0 | CD93: 0 | CE93: 1 | CF93: C100006700 | CG93: C600000500 | CI93: 0 | CJ93: 0 | CK93: 3 | CL93: 4 | CM93: C2100
A94: =+IF(_xlfn.XLOOKUP($N94,'★参考 2024年度社会学部時間割'!$M:$M,'★参考 2024年度社会学部時間割'!A:A)=0,"",_xlfn.XLOOKUP($N94,'★参考 2024年度社会学部時間割'!$M:$M,'★参考 2024年度社会学部時間割'!A:A)) -> ○ | B94: =+IF(_xlfn.XLOOKUP($N94,'★参考 2024年度社会学部時間割'!$M:$M,'★参考 2024年度社会学部時間割'!B:B)=0,"",_xlfn.XLOOKUP($N94,'★参考 2024年度社会学部時間割'!$M:$M,'★参考 2024年度社会学部時間割'!B:B)) | C94: =+IF(_xlfn.XLOOKUP($N94,'★参考 2024年度社会学部時間割'!$M:$M,'★参考 2024年度社会学部時間割'!C:C)=0,"",_xlfn.XLOOKUP($N94,'★参考 2024年度社会学部時間割'!$M:$M,'★参考 2024年度社会学部時間割'!C:C)) | G94: 1 | H94: 2025 | I94: C | J94: U | K94: U22C102 | L94: CU12126000 | M94: 001 | N94: 社会調査実習 | P94: 01 | Q94: 通年 火２ | R94: 4 | S94: 0 | T94: C | U94: U | V94: CU12126000 | W94: 001 | X94: C | AH94: 0 | AM94: 0000 | AN94: 9999 | AO94: 2 | AP94: 0 | AQ94: C100 | AR94: 0 | AS94: 15 | AT94: 15 | AU94: 0 | AV94: 0 | AW94: 1 | AX94: 1 | AY94: 0 | AZ94: 1 | BA94: 0 | BB94: 【抽選登録科目】 | BC94: 社会・５ 【注意！】コマは前期１、後期２ | BG94: 10000000 | BH94: 01010 | BI94: 黒田 浩一郎 | BJ94: クロダ コウイチロウ | BK94: 01 | BL94: 2 | BM94: 2 | BN94: 1 | BO94: 30 | BP94: 0.00 | BQ94: 0.00 | BR94: 0.00 | BS94: 0 | BT94: 0 | BU94: 0 | BV94: 0 | BW94: 0 | BX94: 0 | BY94: 0 | BZ94: 0 | CA94: 0 | CB94: 0 | CC94: 0 | CD94: 0 | CE94: 1 | CF94: C100004100 | CG94: C100004100 | CI94: 0 | CJ94: 0 | CK94: 3 | CL94: 4 | CM94: C2100 | DR94: 社会調査士課程科目
A95: =+IF(_xlfn.XLOOKUP($N95,'★参考 2024年度社会学部時間割'!$M:$M,'★参考 2024年度社会学部時間割'!A:A)=0,"",_xlfn.XLOOKUP($N95,'★参考 2024年度社会学部時間割'!$M:$M,'★参考 2024年度社会学部時間割'!A:A)) -> ○ | B95: =+IF(_xlfn.XLOOKUP($N95,'★参考 2024年度社会学部時間割'!$M:$M,'★参考 2024年度社会学部時間割'!B:B)=0,"",_xlfn.XLOOKUP($N95,'★参考 2024年度社会学部時間割'!$M:$M,'★参考 2024年度社会学部時間割'!B:B)) | C95: =+IF(_xlfn.XLOOKUP($N95,'★参考 2024年度社会学部時間割'!$M:$M,'★参考 2024年度社会学部時間割'!C:C)=0,"",_xlfn.XLOOKUP($N95,'★参考 2024年度社会学部時間割'!$M:$M,'★参考 2024年度社会学部時間割'!C:C)) | G95: 1 | H95: 2025 | I95: C | J95: U | K95: U42C101 | L95: CU12126000 | M95: 002 | N95: 社会調査実習 | P95: 01 | Q95: 通年 木２ | R95: 4 | S95: 0 | T95: C | U95: U | V95: CU12126000 | W95: 002 | X95: C | AH95: 0 | AM95: 0000 | AN95: 9999 | AO95: 2 | AP95: 0 | AQ95: C100 | AR95: 0 | AS95: 15 | AT95: 15 | AU95: 0 | AV95: 0 | AW95: 1 | AX95: 1 | AY95: 0 | AZ95: 1 | BA95: 0 | BB95: 【抽選登録科目】 | BC95: 社会・５ 【注意！】コマは前期１、後期２ | BG95: 10000000 | BH95: 07005 | BI95: 工藤 保則 | BJ95: クドウ ヤスノリ | BK95: 01 | BL95: 4 | BM95: 2 | BN95: 1 | BO95: 30 | BP95: 0.00 | BQ95: 0.00 | BR95: 0.00 | BS95: 0 | BT95: 0 | BU95: 0 | BV95: 0 | BW95: 0 | BX95: 0 | BY95: 0 | BZ95: 0 | CA95: 0 | CB95: 0 | CC95: 0 | CD95: 0 | CE95: 1 | CF95: C100004200 | CG95: C100004200 | CI95: 0 | CJ95: 0 | CK95: 3 | CL95: 4 | CM95: C2100 | DR95: 社会調査士課程科目
A96: =+IF(_xlfn.XLOOKUP($N96,'★参考 2024年度社会学部時間割'!$M:$M,'★参考 2024年度社会学部時間割'!A:A)=0,"",_xlfn.XLOOKUP($N96,'★参考 2024年度社会学部時間割'!$M:$M,'★参考 2024年度社会学部時間割'!A:A)) -> ○ | B96: =+IF(_xlfn.XLOOKUP($N96,'★参考 2024年度社会学部時間割'!$M:$M,'★参考 2024年度社会学部時間割'!B:B)=0,"",_xlfn.XLOOKUP($N96,'★参考 2024年度社会学部時間割'!$M:$M,'★参考 2024年度社会学部時間割'!B:B)) | C96: =+IF(_xlfn.XLOOKUP($N96,'★参考 2024年度社会学部時間割'!$M:$M,'★参考 2024年度社会学部時間割'!C:C)=0,"",_xlfn.XLOOKUP($N96,'★参考 2024年度社会学部時間割'!$M:$M,'★参考 2024年度社会学部時間割'!C:C)) | G96: 1 | H96: 2025 | I96: C | J96: U | K96: U42C102 | L96: CU12126000 | M96: 003 | N96: 社会調査実習 | P96: 01 | Q96: 通年 木２ | R96: 4 | S96: 0 | T96: C | U96: U | V96: CU12126000 | W96: 003 | X96: C | AH96: 0 | AM96: 0000 | AN96: 9999 | AO96: 2 | AP96: 0 | AQ96: C100 | AR96: 2 | AS96: 15 | AT96: 15 | AU96: 0 | AV96: 0 | AW96: 1 | AX96: 1 | AY96: 0 | AZ96: 1 | BA96: 0 | BB96: 【抽選登録科目】 | BC96: 社会・５ 【注意！】コマは前期１、後期２ | BG96: 10000000 | BH96: 00014 | BI96: 津島 昌弘 | BJ96: ツシマ マサヒロ | BK96: 01 | BL96: 4 | BM96: 2 | BN96: 1 | BO96: 30 | BP96: 0.00 | BQ96: 0.00 | BR96: 0.00 | BS96: 0 | BT96: 0 | BU96: 0 | BV96: 0 | BW96: 0 | BX96: 0 | BY96: 0 | BZ96: 0 | CA96: 0 | CB96: 0 | CC96: 0 | CD96: 0 | CE96: 1 | CF96: C100004300 | CG96: C100004300 | CI96: 0 | CJ96: 0 | CK96: 3 | CL96: 4 | CM96: C2100 | DR96: 社会調査士課程科目
A97: =+IF(_xlfn.XLOOKUP($N97,'★参考 2024年度社会学部時間割'!$M:$M,'★参考 2024年度社会学部時間割'!A:A)=0,"",_xlfn.XLOOKUP($N97,'★参考 2024年度社会学部時間割'!$M:$M,'★参考 2024年度社会学部時間割'!A:A)) -> ○ | B97: =+IF(_xlfn.XLOOKUP($N97,'★参考 2024年度社会学部時間割'!$M:$M,'★参考 2024年度社会学部時間割'!B:B)=0,"",_xlfn.XLOOKUP($N97,'★参考 2024年度社会学部時間割'!$M:$M,'★参考 2024年度社会学部時間割'!B:B)) | C97: =+IF(_xlfn.XLOOKUP($N97,'★参考 2024年度社会学部時間割'!$M:$M,'★参考 2024年度社会学部時間割'!C:C)=0,"",_xlfn.XLOOKUP($N97,'★参考 2024年度社会学部時間割'!$M:$M,'★参考 2024年度社会学部時間割'!C:C)) | G97: 1 | H97: 2025 | I97: C | J97: U | K97: U43C115 | L97: CU12126000 | M97: 004 | N97: 社会調査実習 | P97: 01 | Q97: 通年 木３ | R97: 4 | S97: 0 | T97: C | U97: U | V97: CU12126000 | W97: 004 | X97: C | AH97: 0 | AM97: 0000 | AN97: 9999 | AO97: 2 | AP97: 0 | AQ97: C100 | AR97: 0 | AS97: 15 | AT97: 15 | AU97: 0 | AV97: 0 | AW97: 1 | AX97: 1 | AY97: 0 | AZ97: 1 | BA97: 0 | BB97: 【抽選登録科目】 | BC97: 社会・５ 【注意！】コマは前期１、後期２ | BG97: 10000000 | BH97: 10007 | BI97: 渡辺 めぐみ | BJ97: ワタナベ メグミ | BK97: 01 | BL97: 4 | BM97: 3 | BN97: 1 | BO97: 30 | BP97: 0.00 | BQ97: 0.00 | BR97: 0.00 | BS97: 0 | BT97: 0 | BU97: 0 | BV97: 0 | BW97: 0 | BX97: 0 | BY97: 0 | BZ97: 0 | CA97: 0 | CB97: 0 | CC97: 0 | CD97: 0 | CE97: 1 | CF97: C100004400 | CG97: C100004400 | CI97: 0 | CJ97: 0 | CK97: 3 | CL97: 4 | CM97: C2100 | DR97: 社会調査士課程科目
A98: =+IF(_xlfn.XLOOKUP($N98,'★参考 2024年度社会学部時間割'!$M:$M,'★参考 2024年度社会学部時間割'!A:A)=0,"",_xlfn.XLOOKUP($N98,'★参考 2024年度社会学部時間割'!$M:$M,'★参考 2024年度社会学部時間割'!A:A)) -> ○ | B98: =+IF(_xlfn.XLOOKUP($N98,'★参考 2024年度社会学部時間割'!$M:$M,'★参考 2024年度社会学部時間割'!B:B)=0,"",_xlfn.XLOOKUP($N98,'★参考 2024年度社会学部時間割'!$M:$M,'★参考 2024年度社会学部時間割'!B:B)) | C98: =+IF(_xlfn.XLOOKUP($N98,'★参考 2024年度社会学部時間割'!$M:$M,'★参考 2024年度社会学部時間割'!C:C)=0,"",_xlfn.XLOOKUP($N98,'★参考 2024年度社会学部時間割'!$M:$M,'★参考 2024年度社会学部時間割'!C:C)) | G98: 1 | H98: 2025 | I98: C | J98: U | K98: U24C209 | L98: CU12151000 | M98: 001 | N98: 社会学演習ⅠＡ | P98: 02 | Q98: 前期 火４ | R98: 2 | S98: 0 | T98: C | U98: U | V98: CU12151000 | W98: 001 | X98: C | AH98: 0 | AM98: 0000 | AN98: 9999 | AO98: 4 | AP98: 0 | AR98: 0 | AS98: 0 | AT98: 0 | AU98: 0 | AV98: 1 | AW98: 0 | AX98: 1 | AY98: 0 | AZ98: 1 | BA98: 1 | BB98: クラス指定科目 | BC98: 社会・１ | BG98: 10000000 | BH98: 13262 | BI98: 岸本 文利 | BJ98: キシモト フミトシ | BK98: 02 | BL98: 2 | BM98: 4 | BN98: 1 | BO98: 15 | BP98: 0.00 | BQ98: 0.00 | BR98: 0.00 | BS98: 0 | BT98: 0 | BU98: 0 | BV98: 0 | BW98: 0 | BX98: 0 | BY98: 0 | BZ98: 0 | CA98: 0 | CB98: 0 | CC98: 0 | CD98: 0 | CE98: 1 | CF98: C1SEM30010 | CG98: C1SEM30090 | CI98: 0 | CJ98: 0 | CK98: 3 | CL98: 4 | CM98: C2100
A99: =+IF(_xlfn.XLOOKUP($N99,'★参考 2024年度社会学部時間割'!$M:$M,'★参考 2024年度社会学部時間割'!A:A)=0,"",_xlfn.XLOOKUP($N99,'★参考 2024年度社会学部時間割'!$M:$M,'★参考 2024年度社会学部時間割'!A:A)) -> ○ | B99: =+IF(_xlfn.XLOOKUP($N99,'★参考 2024年度社会学部時間割'!$M:$M,'★参考 2024年度社会学部時間割'!B:B)=0,"",_xlfn.XLOOKUP($N99,'★参考 2024年度社会学部時間割'!$M:$M,'★参考 2024年度社会学部時間割'!B:B)) | C99: =+IF(_xlfn.XLOOKUP($N99,'★参考 2024年度社会学部時間割'!$M:$M,'★参考 2024年度社会学部時間割'!C:C)=0,"",_xlfn.XLOOKUP($N99,'★参考 2024年度社会学部時間割'!$M:$M,'★参考 2024年度社会学部時間割'!C:C)) | G99: 1 | H99: 2025 | I99: C | J99: U | K99: U54C201 | L99: CU12151000 | M99: 002 | N99: 社会学演習ⅠＡ | P99: 02 | Q99: 前期 金４ | R99: 2 | S99: 0 | T99: C | U99: U | V99: CU12151000 | W99: 002 | X99: C | AH99: 0 | AM99: 0000 | AN99: 9999 | AO99: 4 | AP99: 0 | AR99: 0 | AS99: 0 | AT99: 0 | AU99: 0 | AV99: 1 | AW99: 0 | AX99: 1 | AY99: 0 | AZ99: 1 | BA99: 1 | BB99: クラス指定科目 | BC99: 社会・１ | BG99: 10000000 | BH99: 11014 | BI99: 猪瀬 優理 | BJ99: イノセ ユリ | BK99: 02 | BL99: 5 | BM99: 4 | BN99: 1 | BO99: 15 | BP99: 0.00 | BQ99: 0.00 | BR99: 0.00 | BS99: 0 | BT99: 0 | BU99: 0 | BV99: 0 | BW99: 0 | BX99: 0 | BY99: 0 | BZ99: 0 | CA99: 0 | CB99: 0 | CC99: 0 | CD99: 0 | CE99: 1 | CF99: C1SEM30020 | CG99: C1SEM30090 | CI99: 0 | CJ99: 0 | CK99: 3 | CL99: 4 | CM99: C2100
A100: =+IF(_xlfn.XLOOKUP($N100,'★参考 2024年度社会学部時間割'!$M:$M,'★参考 2024年度社会学部時間割'!A:A)=0,"",_xlfn.XLOOKUP($N100,'★参考 2024年度社会学部時間割'!$M:$M,'★参考 2024年度社会学部時間割'!A:A)) -> ○ | B100: =+IF(_xlfn.XLOOKUP($N100,'★参考 2024年度社会学部時間割'!$M:$M,'★参考 2024年度社会学部時間割'!B:B)=0,"",_xlfn.XLOOKUP($N100,'★参考 2024年度社会学部時間割'!$M:$M,'★参考 2024年度社会学部時間割'!B:B)) | C100: =+IF(_xlfn.XLOOKUP($N100,'★参考 2024年度社会学部時間割'!$M:$M,'★参考 2024年度社会学部時間割'!C:C)=0,"",_xlfn.XLOOKUP($N100,'★参考 2024年度社会学部時間割'!$M:$M,'★参考 2024年度社会学部時間割'!C:C)) | G100: 1 | H100: 2025 | I100: C | J100: U | K100: U24C210 | L100: CU12151000 | M100: 003 | N100: 社会学演習ⅠＡ | P100: 02 | Q100: 前期 火４ | R100: 2 | S100: 0 | T100: C | U100: U | V100: CU12151000 | W100: 003 | X100: C | AH100: 0 | AM100: 0000 | AN100: 9999 | AO100: 4 | AP100: 0 | AR100: 0 | AS100: 0 | AT100: 0 | AU100: 0 | AV100: 1 | AW100: 0 | AX100: 1 | AY100: 0 | AZ100: 1 | BA100: 1 | BB100: クラス指定科目 | BC100: 社会・１ | BG100: 10000000 | BH100: 04014 | BI100: 脇田 健一 | BJ100: ワキタ ケンイチ | BK100: 02 | BL100: 2 | BM100: 4 | BN100: 1 | BO100: 15 | BP100: 0.00 | BQ100: 0.00 | BR100: 0.00 | BS100: 0 | BT100: 0 | BU100: 0 | BV100: 0 | BW100: 0 | BX100: 0 | BY100: 0 | BZ100: 0 | CA100: 0 | CB100: 0 | CC100: 0 | CD100: 0 | CE100: 1 | CF100: C1SEM30040 | CG100: C1SEM30090 | CI100: 0 | CJ100: 0 | CK100: 3 | CL100: 4 | CM100: C2100
A101: =+IF(_xlfn.XLOOKUP($N101,'★参考 2024年度社会学部時間割'!$M:$M,'★参考 2024年度社会学部時間割'!A:A)=0,"",_xlfn.XLOOKUP($N101,'★参考 2024年度社会学部時間割'!$M:$M,'★参考 2024年度社会学部時間割'!A:A)) -> ○ | B101: =+IF(_xlfn.XLOOKUP($N101,'★参考 2024年度社会学部時間割'!$M:$M,'★参考 2024年度社会学部時間割'!B:B)=0,"",_xlfn.XLOOKUP($N101,'★参考 2024年度社会学部時間割'!$M:$M,'★参考 2024年度社会学部時間割'!B:B)) | C101: =+IF(_xlfn.XLOOKUP($N101,'★参考 2024年度社会学部時間割'!$M:$M,'★参考 2024年度社会学部時間割'!C:C)=0,"",_xlfn.XLOOKUP($N101,'★参考 2024年度社会学部時間割'!$M:$M,'★参考 2024年度社会学部時間割'!C:C)) | G101: 1 | H101: 2025 | I101: C | J101: U | K101: U44C209 | L101: CU12151000 | M101: 004 | N101: 社会学演習ⅠＡ | P101: 02 | Q101: 前期 木４ | R101: 2 | S101: 0 | T101: C | U101: U | V101: CU12151000 | W101: 004 | X101: C | AH101: 0 | AM101: 0000 | AN101: 9999 | AO101: 4 | AP101: 0 | AR101: 0 | AS101: 0 | AT101: 0 | AU101: 0 | AV101: 1 | AW101: 0 | AX101: 1 | AY101: 0 | AZ101: 1 | BA101: 1 | BB101: クラス指定科目 | BC101: 社会・１ | BG101: 10000000 | BH101: 16005 | BI101: 清家 竜介 | BJ101: セイケ リュウスケ | BK101: 02 | BL101: 4 | BM101: 4 | BN101: 1 | BO101: 15 | BP101: 0.00 | BQ101: 0.00 | BR101: 0.00 | BS101: 0 | BT101: 0 | BU101: 0 | BV101: 0 | BW101: 0 | BX101: 0 | BY101: 0 | BZ101: 0 | CA101: 0 | CB101: 0 | CC101: 0 | CD101: 0 | CE101: 1 | CF101: C1SEM30050 | CG101: C1SEM30090 | CI101: 0 | CJ101: 0 | CK101: 3 | CL101: 4 | CM101: C2100
A102: =+IF(_xlfn.XLOOKUP($N102,'★参考 2024年度社会学部時間割'!$M:$M,'★参考 2024年度社会学部時間割'!A:A)=0,"",_xlfn.XLOOKUP($N102,'★参考 2024年度社会学部時間割'!$M:$M,'★参考 2024年度社会学部時間割'!A:A)) -> ○ | B102: =+IF(_xlfn.XLOOKUP($N102,'★参考 2024年度社会学部時間割'!$M:$M,'★参考 2024年度社会学部時間割'!B:B)=0,"",_xlfn.XLOOKUP($N102,'★参考 2024年度社会学部時間割'!$M:$M,'★参考 2024年度社会学部時間割'!B:B)) | C102: =+IF(_xlfn.XLOOKUP($N102,'★参考 2024年度社会学部時間割'!$M:$M,'★参考 2024年度社会学部時間割'!C:C)=0,"",_xlfn.XLOOKUP($N102,'★参考 2024年度社会学部時間割'!$M:$M,'★参考 2024年度社会学部時間割'!C:C)) | G102: 1 | H102: 2025 | I102: C | J102: U | K102: U14C202 | L102: CU12151000 | M102: 005 | N102: 社会学演習ⅠＡ | P102: 02 | Q102: 前期 月４ | R102: 2 | S102: 0 | T102: C | U102: U | V102: CU12151000 | W102: 005 | X102: C | AH102: 0 | AM102: 0000 | AN102: 9999 | AO102: 4 | AP102: 0 | AR102: 0 | AS102: 0 | AT102: 0 | AU102: 0 | AV102: 1 | AW102: 0 | AX102: 1 | AY102: 0 | AZ102: 1 | BA102: 1 | BB102: クラス指定科目 | BC102: 社会・１ ４年生と合同開講のため２０２４コマ０ | BG102: 10000000 | BH102: 00014 | BI102: 津島 昌弘 | BJ102: ツシマ マサヒロ | BK102: 02 | BL102: 1 | BM102: 4 | BN102: 1 | BO102: 15 | BP102: 0.00 | BQ102: 0.00 | BR102: 0.00 | BS102: 0 | BT102: 0 | BU102: 0 | BV102: 0 | BW102: 0 | BX102: 0 | BY102: 0 | BZ102: 0 | CA102: 0 | CB102: 0 | CC102: 0 | CD102: 0 | CE102: 1 | CF102: C1SEM30060 | CG102: C1SEM30090 | CI102: 0 | CJ102: 0 | CK102: 3 | CL102: 4 | CM102: C2100
